BEGIN:VCALENDAR
VERSION:2.0
PRODID:-//Kentucky Cruises - ECPv6.6.3//NONSGML v1.0//EN
CALSCALE:GREGORIAN
METHOD:PUBLISH
X-WR-CALNAME:Kentucky Cruises
X-ORIGINAL-URL:https://kentuckycruises.com
X-WR-CALDESC:Events for Kentucky Cruises
REFRESH-INTERVAL;VALUE=DURATION:PT1H
X-Robots-Tag:noindex
X-PUBLISHED-TTL:PT1H
BEGIN:VTIMEZONE
TZID:America/Kentucky/Louisville
BEGIN:DAYLIGHT
TZOFFSETFROM:-0500
TZOFFSETTO:-0400
TZNAME:EDT
DTSTART:20210314T070000
END:DAYLIGHT
BEGIN:STANDARD
TZOFFSETFROM:-0400
TZOFFSETTO:-0500
TZNAME:EST
DTSTART:20211107T060000
END:STANDARD
BEGIN:DAYLIGHT
TZOFFSETFROM:-0500
TZOFFSETTO:-0400
TZNAME:EDT
DTSTART:20220313T070000
END:DAYLIGHT
BEGIN:STANDARD
TZOFFSETFROM:-0400
TZOFFSETTO:-0500
TZNAME:EST
DTSTART:20221106T060000
END:STANDARD
END:VTIMEZONE
BEGIN:VEVENT
DTSTART;TZID=America/Kentucky/Louisville:20220910T090000
DTEND;TZID=America/Kentucky/Louisville:20220910T150000
DTSTAMP:20260420T030053
CREATED:20220903T160057Z
LAST-MODIFIED:20220903T160057Z
UID:10010843-1662800400-1662822000@kentuckycruises.com
SUMMARY:Moonbow EggFest and Car Cruise In
DESCRIPTION:Saturday Sept 10th 2022\, Corbin Tourism will be hosting its annual Moonbow Eggfest! In conjunction with EggFest\, Cumberland Valley Cruise In and Garys Sound Machine will join “Depot Street”with a “free”car show cruise in and join the fun! Some may ask\, what is eggfest? An Eggfest is an event that takes place in various venues around the country where Big Green Egg enthusiasts and experienced chefs/cooks from around the US\, Canada and beyond gather to showcase the versatility of the Big Green Egg the talents of the many cooks.\nThis event takes place for the better part of a day where cooks cook and Tasters are free to roam around and sample food prepared on the egg while talking to the cooks about their recipes\, experiences and techniques.\nCooks prepare various dishes usually in intervals of 1\, 2 or 3 hours which is the time it may take to prepare. There is usually plenty of food available from the many different eggs being used so come with a good appetite.\nAn Eggfest is also a great place to find vendors that are selling Egg related and non/related items ranging from sauces and rubs to customized handles and Egg accessories. There is often a local Egg dealer setup offering discounted accessories and Eggs.\n\nhttps://www.facebook.com/events/584592093255870
URL:https://kentuckycruises.com/event/moonbow-eggfest-and-car-cruise-in/
LOCATION:Corbin – Main Street\, N Main St\, Corbin\, KY\, 40701\, United States
ATTACH;FMTTYPE=image/jpeg:https://kentuckycruises.com/wp-content/uploads/2022/09/285535879_5579827215414318_2014933158084094968_n.jpg
GEO:36.9481512;-84.0966698
X-APPLE-STRUCTURED-LOCATION;VALUE=URI;X-ADDRESS=Corbin – Main Street N Main St Corbin KY 40701 United States;X-APPLE-RADIUS=500;X-TITLE=N Main St:geo:-84.0966698,36.9481512
END:VEVENT
BEGIN:VEVENT
DTSTART;TZID=America/Kentucky/Louisville:20210710T160000
DTEND;TZID=America/Kentucky/Louisville:20210710T200000
DTSTAMP:20260420T030053
CREATED:20210429T204636Z
LAST-MODIFIED:20210607T174126Z
UID:10007618-1625932800-1625947200@kentuckycruises.com
SUMMARY:Cumberland Valley Cruise In
DESCRIPTION:Cumberland Valley Cruise In Car Show\n\nFree Event\, Cash Prizes\, Door Prizes\, Games \, Food and much much more!\n\nCumberland Valley Cruise In\, is back for the 2021 season for a free gathering of hotrods\, classic cars\, tractors\, motorcycles in downtown Corbin.\n\n\nStarts at 4pm on Main Street! \nClick on flyer below for more details.
URL:https://kentuckycruises.com/event/cumberland-valley-cruise-in/2021-07-10/
LOCATION:Corbin – Main Street\, N Main St\, Corbin\, KY\, 40701\, United States
ATTACH;FMTTYPE=image/jpeg:https://kentuckycruises.com/wp-content/uploads/2021/04/153368202_4133665693363818_679178469159582800_n.jpg
GEO:36.9481512;-84.0966698
X-APPLE-STRUCTURED-LOCATION;VALUE=URI;X-ADDRESS=Corbin – Main Street N Main St Corbin KY 40701 United States;X-APPLE-RADIUS=500;X-TITLE=N Main St:geo:-84.0966698,36.9481512
END:VEVENT
BEGIN:VEVENT
DTSTART;TZID=America/Kentucky/Louisville:20210612T160000
DTEND;TZID=America/Kentucky/Louisville:20210612T200000
DTSTAMP:20260420T030053
CREATED:20210429T204636Z
LAST-MODIFIED:20210607T174126Z
UID:10007617-1623513600-1623528000@kentuckycruises.com
SUMMARY:Cumberland Valley Cruise In
DESCRIPTION:Cumberland Valley Cruise In Car Show\n\nFree Event\, Cash Prizes\, Door Prizes\, Games \, Food and much much more!\n\nCumberland Valley Cruise In\, is back for the 2021 season for a free gathering of hotrods\, classic cars\, tractors\, motorcycles in downtown Corbin.\n\n\nStarts at 4pm on Main Street! \nClick on flyer below for more details.
URL:https://kentuckycruises.com/event/cumberland-valley-cruise-in/2021-06-12/
LOCATION:Corbin – Main Street\, N Main St\, Corbin\, KY\, 40701\, United States
ATTACH;FMTTYPE=image/jpeg:https://kentuckycruises.com/wp-content/uploads/2021/04/153368202_4133665693363818_679178469159582800_n.jpg
GEO:36.9481512;-84.0966698
X-APPLE-STRUCTURED-LOCATION;VALUE=URI;X-ADDRESS=Corbin – Main Street N Main St Corbin KY 40701 United States;X-APPLE-RADIUS=500;X-TITLE=N Main St:geo:-84.0966698,36.9481512
END:VEVENT
BEGIN:VEVENT
DTSTART;TZID=America/Kentucky/Louisville:20210508T160000
DTEND;TZID=America/Kentucky/Louisville:20210508T200000
DTSTAMP:20260420T030053
CREATED:20210429T204636Z
LAST-MODIFIED:20210607T174126Z
UID:10007616-1620489600-1620504000@kentuckycruises.com
SUMMARY:Cumberland Valley Cruise In
DESCRIPTION:Cumberland Valley Cruise In Car Show\n\nFree Event\, Cash Prizes\, Door Prizes\, Games \, Food and much much more!\n\nCumberland Valley Cruise In\, is back for the 2021 season for a free gathering of hotrods\, classic cars\, tractors\, motorcycles in downtown Corbin.\n\n\nStarts at 4pm on Main Street! \nClick on flyer below for more details.
URL:https://kentuckycruises.com/event/cumberland-valley-cruise-in/2021-05-08/
LOCATION:Corbin – Main Street\, N Main St\, Corbin\, KY\, 40701\, United States
ATTACH;FMTTYPE=image/jpeg:https://kentuckycruises.com/wp-content/uploads/2021/04/153368202_4133665693363818_679178469159582800_n.jpg
GEO:36.9481512;-84.0966698
X-APPLE-STRUCTURED-LOCATION;VALUE=URI;X-ADDRESS=Corbin – Main Street N Main St Corbin KY 40701 United States;X-APPLE-RADIUS=500;X-TITLE=N Main St:geo:-84.0966698,36.9481512
END:VEVENT
END:VCALENDAR