BEGIN:VCALENDAR
VERSION:2.0
PRODID:-//Kentucky Cruises - ECPv6.6.3//NONSGML v1.0//EN
CALSCALE:GREGORIAN
METHOD:PUBLISH
X-ORIGINAL-URL:https://kentuckycruises.com
X-WR-CALDESC:Events for Kentucky Cruises
REFRESH-INTERVAL;VALUE=DURATION:PT1H
X-Robots-Tag:noindex
X-PUBLISHED-TTL:PT1H
BEGIN:VTIMEZONE
TZID:America/Kentucky/Louisville
BEGIN:DAYLIGHT
TZOFFSETFROM:-0500
TZOFFSETTO:-0400
TZNAME:EDT
DTSTART:20220313T070000
END:DAYLIGHT
BEGIN:STANDARD
TZOFFSETFROM:-0400
TZOFFSETTO:-0500
TZNAME:EST
DTSTART:20221106T060000
END:STANDARD
END:VTIMEZONE
BEGIN:VEVENT
DTSTART;TZID=America/Kentucky/Louisville:20220729T180000
DTEND;TZID=America/Kentucky/Louisville:20220729T210000
DTSTAMP:20260424T013653
CREATED:20220726T235056Z
LAST-MODIFIED:20220726T235816Z
UID:10008662-1659117600-1659128400@kentuckycruises.com
SUMMARY:Wincity Wildcats Elite Football Cruise
DESCRIPTION:What are you doing this weekend? Come join us!\n\n\nFriday\, July 29th is the Wincity Wildcats Elite Football Cruise In hosted by Holder Entertainment at Conkwright Elementary from 6-9 pm. 757 Dawg Pound and Wildcat Ice will be on site serving up some amazing food and icees. Bring the family out and enjoy amazing cars\, good food and raffle prizes.\n\n\n\nSaturday\, July 30th is the WinCity Wildcats Community Event at Robert D. Campbell Jr High from 7-4. The Roosters Whistle will be our morning coffee truck from 7-11 followed by Mama D’s Eats And Treats LLC and Kona Ice of the Bluegrass from 11-3 with awesome food and icees. We will have vendors on site as well as two inflatables from Mega Jump Inflatables: $5 per child to jump all day! Our Wincity Wildcats Elite will also be scrimmaging that day at 10:30\, 12:30 and 2:30. Come out and hang out with all of us for a fun day of shopping\, eating\, jumping on inflatables and football!!!\n\n\n\nWe can’t wait to see everyone at our events and thank you for supporting your WinCity Wildcats
URL:https://kentuckycruises.com/event/wincity-wildcats-elite-football-cruise/
LOCATION:Conkwright Elementary School\, 360 Mt Sterling Rd\, Winchester\, KY\, 40391\, United States
ATTACH;FMTTYPE=image/jpeg:https://kentuckycruises.com/wp-content/uploads/2022/07/295680523_2271184993030111_7946320558748659033_n.jpg
GEO:38.0058463;-84.167748
X-APPLE-STRUCTURED-LOCATION;VALUE=URI;X-ADDRESS=Conkwright Elementary School 360 Mt Sterling Rd Winchester KY 40391 United States;X-APPLE-RADIUS=500;X-TITLE=360 Mt Sterling Rd:geo:-84.167748,38.0058463
END:VEVENT
END:VCALENDAR