BEGIN:VCALENDAR
VERSION:2.0
PRODID:-//Kentucky Cruises - ECPv6.6.3//NONSGML v1.0//EN
CALSCALE:GREGORIAN
METHOD:PUBLISH
X-WR-CALNAME:Kentucky Cruises
X-ORIGINAL-URL:https://kentuckycruises.com
X-WR-CALDESC:Events for Kentucky Cruises
REFRESH-INTERVAL;VALUE=DURATION:PT1H
X-Robots-Tag:noindex
X-PUBLISHED-TTL:PT1H
BEGIN:VTIMEZONE
TZID:America/Kentucky/Louisville
BEGIN:DAYLIGHT
TZOFFSETFROM:-0500
TZOFFSETTO:-0400
TZNAME:EDT
DTSTART:20220313T070000
END:DAYLIGHT
BEGIN:STANDARD
TZOFFSETFROM:-0400
TZOFFSETTO:-0500
TZNAME:EST
DTSTART:20221106T060000
END:STANDARD
BEGIN:DAYLIGHT
TZOFFSETFROM:-0500
TZOFFSETTO:-0400
TZNAME:EDT
DTSTART:20230312T070000
END:DAYLIGHT
BEGIN:STANDARD
TZOFFSETFROM:-0400
TZOFFSETTO:-0500
TZNAME:EST
DTSTART:20231105T060000
END:STANDARD
END:VTIMEZONE
BEGIN:VEVENT
DTSTART;TZID=America/Kentucky/Louisville:20230401T100000
DTEND;TZID=America/Kentucky/Louisville:20230401T150000
DTSTAMP:20260422T230133
CREATED:20230325T093325Z
LAST-MODIFIED:20230325T093325Z
UID:10010927-1680343200-1680361200@kentuckycruises.com
SUMMARY:Pirate Classic Car Show
DESCRIPTION:Go like the Broughton Family Classics Facebook page for show updates and to let us know you are coming! \nThanks again!
URL:https://kentuckycruises.com/event/pirate-classic-car-show-2/
LOCATION:Charlestown High School\, 1 Pirate Pl\, Charlestown\, IN\, 47111\, United States
ATTACH;FMTTYPE=image/jpeg:https://kentuckycruises.com/wp-content/uploads/2023/03/pirate_classic_23.jpg
GEO:38.4555318;-85.6677402
X-APPLE-STRUCTURED-LOCATION;VALUE=URI;X-ADDRESS=Charlestown High School 1 Pirate Pl Charlestown IN 47111 United States;X-APPLE-RADIUS=500;X-TITLE=1 Pirate Pl:geo:-85.6677402,38.4555318
END:VEVENT
BEGIN:VEVENT
DTSTART;TZID=America/Kentucky/Louisville:20220402T100000
DTEND;TZID=America/Kentucky/Louisville:20220402T150000
DTSTAMP:20260422T230133
CREATED:20220209T061951Z
LAST-MODIFIED:20220308T030058Z
UID:10010107-1648893600-1648911600@kentuckycruises.com
SUMMARY:Pirate Classic Car Show
DESCRIPTION:Hey everyone my name is Mason Broughton I run the Pirate Classic Car show in Charlestown Indiana. \nI wanted to post the upcoming show date and flyer so come out and join us in an effort to raise money for scholarships at Charlestown high school and local charities. \nGo like the Broughton Family Classics Facebook page for show updates and to let us know you are coming! \nThanks again! \n \n 
URL:https://kentuckycruises.com/event/pirate-classic-car-show/
LOCATION:Charlestown High School\, 1 Pirate Pl\, Charlestown\, IN\, 47111\, United States
ATTACH;FMTTYPE=image/jpeg:https://kentuckycruises.com/wp-content/uploads/2022/02/275435599_5142376032549971_7590978095439069489_n.jpg
GEO:38.4555318;-85.6677402
X-APPLE-STRUCTURED-LOCATION;VALUE=URI;X-ADDRESS=Charlestown High School 1 Pirate Pl Charlestown IN 47111 United States;X-APPLE-RADIUS=500;X-TITLE=1 Pirate Pl:geo:-85.6677402,38.4555318
END:VEVENT
END:VCALENDAR