BEGIN:VCALENDAR
VERSION:2.0
PRODID:-//Kentucky Cruises - ECPv6.6.3//NONSGML v1.0//EN
CALSCALE:GREGORIAN
METHOD:PUBLISH
X-WR-CALNAME:Kentucky Cruises
X-ORIGINAL-URL:https://kentuckycruises.com
X-WR-CALDESC:Events for Kentucky Cruises
REFRESH-INTERVAL;VALUE=DURATION:PT1H
X-Robots-Tag:noindex
X-PUBLISHED-TTL:PT1H
BEGIN:VTIMEZONE
TZID:America/Chicago
BEGIN:DAYLIGHT
TZOFFSETFROM:-0600
TZOFFSETTO:-0500
TZNAME:CDT
DTSTART:20220313T080000
END:DAYLIGHT
BEGIN:STANDARD
TZOFFSETFROM:-0500
TZOFFSETTO:-0600
TZNAME:CST
DTSTART:20221106T070000
END:STANDARD
END:VTIMEZONE
BEGIN:VEVENT
DTSTART;TZID=America/Chicago:20220820T090000
DTEND;TZID=America/Chicago:20220820T140000
DTSTAMP:20260423T001821
CREATED:20220520T025047Z
LAST-MODIFIED:20220520T025117Z
UID:10010689-1660986000-1661004000@kentuckycruises.com
SUMMARY:CenterPointe Church Annual Car Show\, Raffle\, & Auction
DESCRIPTION:78′ Corvette raffle\, auction\, free food\, live music\, amazing cars\, and EVERY DIME goes back into our community! \nClick the link below to purchase raffle tickets:\nhttps://centerpointebg.breezechms.com/form/d654762698 \nhttps://www.facebook.com/events/713133066549721
URL:https://kentuckycruises.com/event/centerpointe-church-annual-car-show-raffle-auction/
LOCATION:Centerpointe Church – Bowling Green\, 1000 Roselawn Way\, Bowling Green\, KY\, 42104\, United States
ATTACH;FMTTYPE=image/jpeg:https://kentuckycruises.com/wp-content/uploads/2022/05/281839210_2186690241495428_8691479190367400548_n.jpg
GEO:36.9736932;-86.4476302
X-APPLE-STRUCTURED-LOCATION;VALUE=URI;X-ADDRESS=Centerpointe Church – Bowling Green 1000 Roselawn Way Bowling Green KY 42104 United States;X-APPLE-RADIUS=500;X-TITLE=1000 Roselawn Way:geo:-86.4476302,36.9736932
END:VEVENT
END:VCALENDAR