BEGIN:VCALENDAR
VERSION:2.0
PRODID:-//Kentucky Cruises - ECPv6.6.3//NONSGML v1.0//EN
CALSCALE:GREGORIAN
METHOD:PUBLISH
X-WR-CALNAME:Kentucky Cruises
X-ORIGINAL-URL:https://kentuckycruises.com
X-WR-CALDESC:Events for Kentucky Cruises
REFRESH-INTERVAL;VALUE=DURATION:PT1H
X-Robots-Tag:noindex
X-PUBLISHED-TTL:PT1H
BEGIN:VTIMEZONE
TZID:America/Kentucky/Louisville
BEGIN:DAYLIGHT
TZOFFSETFROM:-0500
TZOFFSETTO:-0400
TZNAME:EDT
DTSTART:20220313T070000
END:DAYLIGHT
BEGIN:STANDARD
TZOFFSETFROM:-0400
TZOFFSETTO:-0500
TZNAME:EST
DTSTART:20221106T060000
END:STANDARD
END:VTIMEZONE
BEGIN:VEVENT
DTSTART;TZID=America/Kentucky/Louisville:20220405T180000
DTEND;TZID=America/Kentucky/Louisville:20220405T200000
DTSTAMP:20260420T052639
CREATED:20220324T211153Z
LAST-MODIFIED:20220324T211153Z
UID:10010421-1649181600-1649188800@kentuckycruises.com
SUMMARY:Tuesday Night Cruisin for a Cure
DESCRIPTION:Free to everyone !!\nCome out and enjoy the vehicles ! \nhttps://www.facebook.com/events/650434916232897
URL:https://kentuckycruises.com/event/tuesday-night-cruisin-for-a-cure/
LOCATION:Bruster’s Real Ice Cream\, 2712 Scottsville Rd\,\, Bowling Green\, KY\, 42104\, United States
ATTACH;FMTTYPE=image/jpeg:https://kentuckycruises.com/wp-content/uploads/2022/03/276245490_4686588318117227_5473517355456004362_n.jpg
GEO:36.9481704;-86.4234167
X-APPLE-STRUCTURED-LOCATION;VALUE=URI;X-ADDRESS=Bruster’s Real Ice Cream 2712 Scottsville Rd Bowling Green KY 42104 United States;X-APPLE-RADIUS=500;X-TITLE=2712 Scottsville Rd\,:geo:-86.4234167,36.9481704
END:VEVENT
END:VCALENDAR