BEGIN:VCALENDAR
VERSION:2.0
PRODID:-//Kentucky Cruises - ECPv6.6.3//NONSGML v1.0//EN
CALSCALE:GREGORIAN
METHOD:PUBLISH
X-WR-CALNAME:Kentucky Cruises
X-ORIGINAL-URL:https://kentuckycruises.com
X-WR-CALDESC:Events for Kentucky Cruises
REFRESH-INTERVAL;VALUE=DURATION:PT1H
X-Robots-Tag:noindex
X-PUBLISHED-TTL:PT1H
BEGIN:VTIMEZONE
TZID:America/Kentucky/Louisville
BEGIN:DAYLIGHT
TZOFFSETFROM:-0500
TZOFFSETTO:-0400
TZNAME:EDT
DTSTART:20220313T070000
END:DAYLIGHT
BEGIN:STANDARD
TZOFFSETFROM:-0400
TZOFFSETTO:-0500
TZNAME:EST
DTSTART:20221106T060000
END:STANDARD
END:VTIMEZONE
BEGIN:VEVENT
DTSTART;TZID=America/Kentucky/Louisville:20221021T180000
DTEND;TZID=America/Kentucky/Louisville:20221021T210000
DTSTAMP:20260423T161212
CREATED:20220422T034123Z
LAST-MODIFIED:20220507T164510Z
UID:10010534-1666375200-1666386000@kentuckycruises.com
SUMMARY:Drag the Gut
DESCRIPTION:Come join us for our first Drag the Gut cruise.\nThis will become a monthly event on the third Friday of the month starting in June.\nWe will post more information about this after the May Drag the Gut
URL:https://kentuckycruises.com/event/drag-the-gut/2022-10-21/
LOCATION:Bob Noble Park\, 2915 Park Ave. (U.S. Highway 60)\, Paducah\, KY\, 42001\, United States
ATTACH;FMTTYPE=image/jpeg:https://kentuckycruises.com/wp-content/uploads/2022/04/278840877_5639202459441050_4949472005753932855_n.jpg
GEO:37.0836381;-88.6408817
X-APPLE-STRUCTURED-LOCATION;VALUE=URI;X-ADDRESS=Bob Noble Park 2915 Park Ave. (U.S. Highway 60) Paducah KY 42001 United States;X-APPLE-RADIUS=500;X-TITLE=2915 Park Ave. (U.S. Highway 60):geo:-88.6408817,37.0836381
END:VEVENT
BEGIN:VEVENT
DTSTART;TZID=America/Kentucky/Louisville:20220916T180000
DTEND;TZID=America/Kentucky/Louisville:20220916T210000
DTSTAMP:20260423T161212
CREATED:20220422T034123Z
LAST-MODIFIED:20220507T164510Z
UID:10010533-1663351200-1663362000@kentuckycruises.com
SUMMARY:Drag the Gut
DESCRIPTION:Come join us for our first Drag the Gut cruise.\nThis will become a monthly event on the third Friday of the month starting in June.\nWe will post more information about this after the May Drag the Gut
URL:https://kentuckycruises.com/event/drag-the-gut/2022-09-16/
LOCATION:Bob Noble Park\, 2915 Park Ave. (U.S. Highway 60)\, Paducah\, KY\, 42001\, United States
ATTACH;FMTTYPE=image/jpeg:https://kentuckycruises.com/wp-content/uploads/2022/04/278840877_5639202459441050_4949472005753932855_n.jpg
GEO:37.0836381;-88.6408817
X-APPLE-STRUCTURED-LOCATION;VALUE=URI;X-ADDRESS=Bob Noble Park 2915 Park Ave. (U.S. Highway 60) Paducah KY 42001 United States;X-APPLE-RADIUS=500;X-TITLE=2915 Park Ave. (U.S. Highway 60):geo:-88.6408817,37.0836381
END:VEVENT
BEGIN:VEVENT
DTSTART;TZID=America/Kentucky/Louisville:20220819T180000
DTEND;TZID=America/Kentucky/Louisville:20220819T210000
DTSTAMP:20260423T161212
CREATED:20220422T034123Z
LAST-MODIFIED:20220507T164510Z
UID:10010532-1660932000-1660942800@kentuckycruises.com
SUMMARY:Drag the Gut
DESCRIPTION:Come join us for our first Drag the Gut cruise.\nThis will become a monthly event on the third Friday of the month starting in June.\nWe will post more information about this after the May Drag the Gut
URL:https://kentuckycruises.com/event/drag-the-gut/2022-08-19/
LOCATION:Bob Noble Park\, 2915 Park Ave. (U.S. Highway 60)\, Paducah\, KY\, 42001\, United States
ATTACH;FMTTYPE=image/jpeg:https://kentuckycruises.com/wp-content/uploads/2022/04/278840877_5639202459441050_4949472005753932855_n.jpg
GEO:37.0836381;-88.6408817
X-APPLE-STRUCTURED-LOCATION;VALUE=URI;X-ADDRESS=Bob Noble Park 2915 Park Ave. (U.S. Highway 60) Paducah KY 42001 United States;X-APPLE-RADIUS=500;X-TITLE=2915 Park Ave. (U.S. Highway 60):geo:-88.6408817,37.0836381
END:VEVENT
BEGIN:VEVENT
DTSTART;TZID=America/Kentucky/Louisville:20220715T180000
DTEND;TZID=America/Kentucky/Louisville:20220715T210000
DTSTAMP:20260423T161212
CREATED:20220422T034123Z
LAST-MODIFIED:20220507T164510Z
UID:10010531-1657908000-1657918800@kentuckycruises.com
SUMMARY:Drag the Gut
DESCRIPTION:Come join us for our first Drag the Gut cruise.\nThis will become a monthly event on the third Friday of the month starting in June.\nWe will post more information about this after the May Drag the Gut
URL:https://kentuckycruises.com/event/drag-the-gut/2022-07-15/
LOCATION:Bob Noble Park\, 2915 Park Ave. (U.S. Highway 60)\, Paducah\, KY\, 42001\, United States
ATTACH;FMTTYPE=image/jpeg:https://kentuckycruises.com/wp-content/uploads/2022/04/278840877_5639202459441050_4949472005753932855_n.jpg
GEO:37.0836381;-88.6408817
X-APPLE-STRUCTURED-LOCATION;VALUE=URI;X-ADDRESS=Bob Noble Park 2915 Park Ave. (U.S. Highway 60) Paducah KY 42001 United States;X-APPLE-RADIUS=500;X-TITLE=2915 Park Ave. (U.S. Highway 60):geo:-88.6408817,37.0836381
END:VEVENT
BEGIN:VEVENT
DTSTART;TZID=America/Kentucky/Louisville:20220617T180000
DTEND;TZID=America/Kentucky/Louisville:20220617T210000
DTSTAMP:20260423T161212
CREATED:20220422T034123Z
LAST-MODIFIED:20220507T164510Z
UID:10010530-1655488800-1655499600@kentuckycruises.com
SUMMARY:Drag the Gut
DESCRIPTION:Come join us for our first Drag the Gut cruise.\nThis will become a monthly event on the third Friday of the month starting in June.\nWe will post more information about this after the May Drag the Gut
URL:https://kentuckycruises.com/event/drag-the-gut/2022-06-17/
LOCATION:Bob Noble Park\, 2915 Park Ave. (U.S. Highway 60)\, Paducah\, KY\, 42001\, United States
ATTACH;FMTTYPE=image/jpeg:https://kentuckycruises.com/wp-content/uploads/2022/04/278840877_5639202459441050_4949472005753932855_n.jpg
GEO:37.0836381;-88.6408817
X-APPLE-STRUCTURED-LOCATION;VALUE=URI;X-ADDRESS=Bob Noble Park 2915 Park Ave. (U.S. Highway 60) Paducah KY 42001 United States;X-APPLE-RADIUS=500;X-TITLE=2915 Park Ave. (U.S. Highway 60):geo:-88.6408817,37.0836381
END:VEVENT
BEGIN:VEVENT
DTSTART;TZID=America/Kentucky/Louisville:20220520T180000
DTEND;TZID=America/Kentucky/Louisville:20220520T210000
DTSTAMP:20260423T161212
CREATED:20220422T034123Z
LAST-MODIFIED:20220507T164510Z
UID:10010529-1653069600-1653080400@kentuckycruises.com
SUMMARY:Drag the Gut
DESCRIPTION:Come join us for our first Drag the Gut cruise.\nThis will become a monthly event on the third Friday of the month starting in June.\nWe will post more information about this after the May Drag the Gut
URL:https://kentuckycruises.com/event/drag-the-gut/2022-05-20/
LOCATION:Bob Noble Park\, 2915 Park Ave. (U.S. Highway 60)\, Paducah\, KY\, 42001\, United States
ATTACH;FMTTYPE=image/jpeg:https://kentuckycruises.com/wp-content/uploads/2022/04/278840877_5639202459441050_4949472005753932855_n.jpg
GEO:37.0836381;-88.6408817
X-APPLE-STRUCTURED-LOCATION;VALUE=URI;X-ADDRESS=Bob Noble Park 2915 Park Ave. (U.S. Highway 60) Paducah KY 42001 United States;X-APPLE-RADIUS=500;X-TITLE=2915 Park Ave. (U.S. Highway 60):geo:-88.6408817,37.0836381
END:VEVENT
BEGIN:VEVENT
DTSTART;TZID=America/Kentucky/Louisville:20220513T180000
DTEND;TZID=America/Kentucky/Louisville:20220513T210000
DTSTAMP:20260423T161212
CREATED:20220422T034123Z
LAST-MODIFIED:20220507T164510Z
UID:10010528-1652464800-1652475600@kentuckycruises.com
SUMMARY:Drag the Gut
DESCRIPTION:Come join us for our first Drag the Gut cruise.\nThis will become a monthly event on the third Friday of the month starting in June.\nWe will post more information about this after the May Drag the Gut
URL:https://kentuckycruises.com/event/drag-the-gut/2022-05-13/
LOCATION:Bob Noble Park\, 2915 Park Ave. (U.S. Highway 60)\, Paducah\, KY\, 42001\, United States
ATTACH;FMTTYPE=image/jpeg:https://kentuckycruises.com/wp-content/uploads/2022/04/278840877_5639202459441050_4949472005753932855_n.jpg
GEO:37.0836381;-88.6408817
X-APPLE-STRUCTURED-LOCATION;VALUE=URI;X-ADDRESS=Bob Noble Park 2915 Park Ave. (U.S. Highway 60) Paducah KY 42001 United States;X-APPLE-RADIUS=500;X-TITLE=2915 Park Ave. (U.S. Highway 60):geo:-88.6408817,37.0836381
END:VEVENT
END:VCALENDAR