BEGIN:VCALENDAR
VERSION:2.0
PRODID:-//Kentucky Cruises - ECPv6.6.3//NONSGML v1.0//EN
CALSCALE:GREGORIAN
METHOD:PUBLISH
X-ORIGINAL-URL:https://kentuckycruises.com
X-WR-CALDESC:Events for Kentucky Cruises
REFRESH-INTERVAL;VALUE=DURATION:PT1H
X-Robots-Tag:noindex
X-PUBLISHED-TTL:PT1H
BEGIN:VTIMEZONE
TZID:America/Kentucky/Louisville
BEGIN:DAYLIGHT
TZOFFSETFROM:-0500
TZOFFSETTO:-0400
TZNAME:EDT
DTSTART:20210314T070000
END:DAYLIGHT
BEGIN:STANDARD
TZOFFSETFROM:-0400
TZOFFSETTO:-0500
TZNAME:EST
DTSTART:20211107T060000
END:STANDARD
BEGIN:DAYLIGHT
TZOFFSETFROM:-0500
TZOFFSETTO:-0400
TZNAME:EDT
DTSTART:20220313T070000
END:DAYLIGHT
BEGIN:STANDARD
TZOFFSETFROM:-0400
TZOFFSETTO:-0500
TZNAME:EST
DTSTART:20221106T060000
END:STANDARD
END:VTIMEZONE
BEGIN:VEVENT
DTSTART;TZID=America/Kentucky/Louisville:20221001T090000
DTEND;TZID=America/Kentucky/Louisville:20221001T230000
DTSTAMP:20260425T150323
CREATED:20220304T034942Z
LAST-MODIFIED:20220304T034942Z
UID:10008341-1664614800-1664665200@kentuckycruises.com
SUMMARY:First Saturday Cars & Coffee
DESCRIPTION:For over a decade this first Saturday monthly event has has been the go to event for all gear heads in Central KY. \nThis event is a family friendly\, safe gathering with all makes and models of vehicles welcome. \nCome out between the hours of 9:00 and 11:00am on the first Saturday of every month to the Blue Grass Regional Marketplace
URL:https://kentuckycruises.com/event/first-saturday-cars-coffee/2022-10-01/
LOCATION:Blue Grass Regional Marketplace\, 4561 Iron Works Pike\, Lexington\, KY\, 40511\, United States
ATTACH;FMTTYPE=image/jpeg:https://kentuckycruises.com/wp-content/uploads/2021/04/49895789_2291082821122507_754737620625391616_n.jpg
GEO:38.1542515;-84.5358851
X-APPLE-STRUCTURED-LOCATION;VALUE=URI;X-ADDRESS=Blue Grass Regional Marketplace 4561 Iron Works Pike Lexington KY 40511 United States;X-APPLE-RADIUS=500;X-TITLE=4561 Iron Works Pike:geo:-84.5358851,38.1542515
END:VEVENT
BEGIN:VEVENT
DTSTART;TZID=America/Kentucky/Louisville:20220903T090000
DTEND;TZID=America/Kentucky/Louisville:20220903T230000
DTSTAMP:20260425T150323
CREATED:20220304T034942Z
LAST-MODIFIED:20220304T034942Z
UID:10008340-1662195600-1662246000@kentuckycruises.com
SUMMARY:First Saturday Cars & Coffee
DESCRIPTION:For over a decade this first Saturday monthly event has has been the go to event for all gear heads in Central KY. \nThis event is a family friendly\, safe gathering with all makes and models of vehicles welcome. \nCome out between the hours of 9:00 and 11:00am on the first Saturday of every month to the Blue Grass Regional Marketplace
URL:https://kentuckycruises.com/event/first-saturday-cars-coffee/2022-09-03/
LOCATION:Blue Grass Regional Marketplace\, 4561 Iron Works Pike\, Lexington\, KY\, 40511\, United States
ATTACH;FMTTYPE=image/jpeg:https://kentuckycruises.com/wp-content/uploads/2021/04/49895789_2291082821122507_754737620625391616_n.jpg
GEO:38.1542515;-84.5358851
X-APPLE-STRUCTURED-LOCATION;VALUE=URI;X-ADDRESS=Blue Grass Regional Marketplace 4561 Iron Works Pike Lexington KY 40511 United States;X-APPLE-RADIUS=500;X-TITLE=4561 Iron Works Pike:geo:-84.5358851,38.1542515
END:VEVENT
BEGIN:VEVENT
DTSTART;TZID=America/Kentucky/Louisville:20220806T090000
DTEND;TZID=America/Kentucky/Louisville:20220806T230000
DTSTAMP:20260425T150323
CREATED:20220304T034942Z
LAST-MODIFIED:20220304T034942Z
UID:10008339-1659776400-1659826800@kentuckycruises.com
SUMMARY:First Saturday Cars & Coffee
DESCRIPTION:For over a decade this first Saturday monthly event has has been the go to event for all gear heads in Central KY. \nThis event is a family friendly\, safe gathering with all makes and models of vehicles welcome. \nCome out between the hours of 9:00 and 11:00am on the first Saturday of every month to the Blue Grass Regional Marketplace
URL:https://kentuckycruises.com/event/first-saturday-cars-coffee/2022-08-06/
LOCATION:Blue Grass Regional Marketplace\, 4561 Iron Works Pike\, Lexington\, KY\, 40511\, United States
ATTACH;FMTTYPE=image/jpeg:https://kentuckycruises.com/wp-content/uploads/2021/04/49895789_2291082821122507_754737620625391616_n.jpg
GEO:38.1542515;-84.5358851
X-APPLE-STRUCTURED-LOCATION;VALUE=URI;X-ADDRESS=Blue Grass Regional Marketplace 4561 Iron Works Pike Lexington KY 40511 United States;X-APPLE-RADIUS=500;X-TITLE=4561 Iron Works Pike:geo:-84.5358851,38.1542515
END:VEVENT
BEGIN:VEVENT
DTSTART;TZID=America/Kentucky/Louisville:20220702T090000
DTEND;TZID=America/Kentucky/Louisville:20220702T230000
DTSTAMP:20260425T150323
CREATED:20220304T034942Z
LAST-MODIFIED:20220304T034942Z
UID:10008338-1656752400-1656802800@kentuckycruises.com
SUMMARY:First Saturday Cars & Coffee
DESCRIPTION:For over a decade this first Saturday monthly event has has been the go to event for all gear heads in Central KY. \nThis event is a family friendly\, safe gathering with all makes and models of vehicles welcome. \nCome out between the hours of 9:00 and 11:00am on the first Saturday of every month to the Blue Grass Regional Marketplace
URL:https://kentuckycruises.com/event/first-saturday-cars-coffee/2022-07-02/
LOCATION:Blue Grass Regional Marketplace\, 4561 Iron Works Pike\, Lexington\, KY\, 40511\, United States
ATTACH;FMTTYPE=image/jpeg:https://kentuckycruises.com/wp-content/uploads/2021/04/49895789_2291082821122507_754737620625391616_n.jpg
GEO:38.1542515;-84.5358851
X-APPLE-STRUCTURED-LOCATION;VALUE=URI;X-ADDRESS=Blue Grass Regional Marketplace 4561 Iron Works Pike Lexington KY 40511 United States;X-APPLE-RADIUS=500;X-TITLE=4561 Iron Works Pike:geo:-84.5358851,38.1542515
END:VEVENT
BEGIN:VEVENT
DTSTART;TZID=America/Kentucky/Louisville:20220604T090000
DTEND;TZID=America/Kentucky/Louisville:20220604T230000
DTSTAMP:20260425T150323
CREATED:20220304T034942Z
LAST-MODIFIED:20220304T034942Z
UID:10008337-1654333200-1654383600@kentuckycruises.com
SUMMARY:First Saturday Cars & Coffee
DESCRIPTION:For over a decade this first Saturday monthly event has has been the go to event for all gear heads in Central KY. \nThis event is a family friendly\, safe gathering with all makes and models of vehicles welcome. \nCome out between the hours of 9:00 and 11:00am on the first Saturday of every month to the Blue Grass Regional Marketplace
URL:https://kentuckycruises.com/event/first-saturday-cars-coffee/2022-06-04/
LOCATION:Blue Grass Regional Marketplace\, 4561 Iron Works Pike\, Lexington\, KY\, 40511\, United States
ATTACH;FMTTYPE=image/jpeg:https://kentuckycruises.com/wp-content/uploads/2021/04/49895789_2291082821122507_754737620625391616_n.jpg
GEO:38.1542515;-84.5358851
X-APPLE-STRUCTURED-LOCATION;VALUE=URI;X-ADDRESS=Blue Grass Regional Marketplace 4561 Iron Works Pike Lexington KY 40511 United States;X-APPLE-RADIUS=500;X-TITLE=4561 Iron Works Pike:geo:-84.5358851,38.1542515
END:VEVENT
BEGIN:VEVENT
DTSTART;TZID=America/Kentucky/Louisville:20220507T090000
DTEND;TZID=America/Kentucky/Louisville:20220507T230000
DTSTAMP:20260425T150323
CREATED:20220304T034942Z
LAST-MODIFIED:20220304T034942Z
UID:10008336-1651914000-1651964400@kentuckycruises.com
SUMMARY:First Saturday Cars & Coffee
DESCRIPTION:For over a decade this first Saturday monthly event has has been the go to event for all gear heads in Central KY. \nThis event is a family friendly\, safe gathering with all makes and models of vehicles welcome. \nCome out between the hours of 9:00 and 11:00am on the first Saturday of every month to the Blue Grass Regional Marketplace
URL:https://kentuckycruises.com/event/first-saturday-cars-coffee/2022-05-07/
LOCATION:Blue Grass Regional Marketplace\, 4561 Iron Works Pike\, Lexington\, KY\, 40511\, United States
ATTACH;FMTTYPE=image/jpeg:https://kentuckycruises.com/wp-content/uploads/2021/04/49895789_2291082821122507_754737620625391616_n.jpg
GEO:38.1542515;-84.5358851
X-APPLE-STRUCTURED-LOCATION;VALUE=URI;X-ADDRESS=Blue Grass Regional Marketplace 4561 Iron Works Pike Lexington KY 40511 United States;X-APPLE-RADIUS=500;X-TITLE=4561 Iron Works Pike:geo:-84.5358851,38.1542515
END:VEVENT
BEGIN:VEVENT
DTSTART;TZID=America/Kentucky/Louisville:20220402T090000
DTEND;TZID=America/Kentucky/Louisville:20220402T230000
DTSTAMP:20260425T150323
CREATED:20220304T034942Z
LAST-MODIFIED:20220304T034942Z
UID:10008335-1648890000-1648940400@kentuckycruises.com
SUMMARY:First Saturday Cars & Coffee
DESCRIPTION:For over a decade this first Saturday monthly event has has been the go to event for all gear heads in Central KY. \nThis event is a family friendly\, safe gathering with all makes and models of vehicles welcome. \nCome out between the hours of 9:00 and 11:00am on the first Saturday of every month to the Blue Grass Regional Marketplace
URL:https://kentuckycruises.com/event/first-saturday-cars-coffee/2022-04-02/
LOCATION:Blue Grass Regional Marketplace\, 4561 Iron Works Pike\, Lexington\, KY\, 40511\, United States
ATTACH;FMTTYPE=image/jpeg:https://kentuckycruises.com/wp-content/uploads/2021/04/49895789_2291082821122507_754737620625391616_n.jpg
GEO:38.1542515;-84.5358851
X-APPLE-STRUCTURED-LOCATION;VALUE=URI;X-ADDRESS=Blue Grass Regional Marketplace 4561 Iron Works Pike Lexington KY 40511 United States;X-APPLE-RADIUS=500;X-TITLE=4561 Iron Works Pike:geo:-84.5358851,38.1542515
END:VEVENT
BEGIN:VEVENT
DTSTART;TZID=America/Kentucky/Louisville:20220305T090000
DTEND;TZID=America/Kentucky/Louisville:20220305T230000
DTSTAMP:20260425T150323
CREATED:20220304T034942Z
LAST-MODIFIED:20220304T034942Z
UID:10008334-1646470800-1646521200@kentuckycruises.com
SUMMARY:First Saturday Cars & Coffee
DESCRIPTION:For over a decade this first Saturday monthly event has has been the go to event for all gear heads in Central KY. \nThis event is a family friendly\, safe gathering with all makes and models of vehicles welcome. \nCome out between the hours of 9:00 and 11:00am on the first Saturday of every month to the Blue Grass Regional Marketplace
URL:https://kentuckycruises.com/event/first-saturday-cars-coffee/2022-03-05/
LOCATION:Blue Grass Regional Marketplace\, 4561 Iron Works Pike\, Lexington\, KY\, 40511\, United States
ATTACH;FMTTYPE=image/jpeg:https://kentuckycruises.com/wp-content/uploads/2021/04/49895789_2291082821122507_754737620625391616_n.jpg
GEO:38.1542515;-84.5358851
X-APPLE-STRUCTURED-LOCATION;VALUE=URI;X-ADDRESS=Blue Grass Regional Marketplace 4561 Iron Works Pike Lexington KY 40511 United States;X-APPLE-RADIUS=500;X-TITLE=4561 Iron Works Pike:geo:-84.5358851,38.1542515
END:VEVENT
BEGIN:VEVENT
DTSTART;TZID=America/Kentucky/Louisville:20211204T090000
DTEND;TZID=America/Kentucky/Louisville:20211204T110000
DTSTAMP:20260425T150323
CREATED:20210429T044908Z
LAST-MODIFIED:20210429T044908Z
UID:10009500-1638608400-1638615600@kentuckycruises.com
SUMMARY:First Saturday Cars & Coffee\, Bluegrass Stockyards
DESCRIPTION:For over a decade this first Saturday monthly event has has been the go to event for all gear heads in Central KY.\nThis event is a family friendly\, safe gathering with all makes and models of vehicles welcome. \nCome out between the hours of 9:00 and 11:00am on the first Saturday of every month to the Blue Grass Regional Marketplace located at 4561 Iron Works Pike\, Lexington\, KY \nAs always there is no charge for attending.  You can check out the Marketplace at www.bgregionalmarketplace.com. \nPlease no Burn-Outs\, or Exhibitions of Speed or Horsepower. Be Respectful of Our Host.
URL:https://kentuckycruises.com/event/first-saturday-cars-coffee-bluegrass-stockyards/2021-12-04/
LOCATION:Blue Grass Regional Marketplace\, 4561 Iron Works Pike\, Lexington\, KY\, 40511\, United States
ATTACH;FMTTYPE=image/jpeg:https://kentuckycruises.com/wp-content/uploads/2021/04/50041767_2291083154455807_3864086092282068992_n.jpg
GEO:38.1542515;-84.5358851
X-APPLE-STRUCTURED-LOCATION;VALUE=URI;X-ADDRESS=Blue Grass Regional Marketplace 4561 Iron Works Pike Lexington KY 40511 United States;X-APPLE-RADIUS=500;X-TITLE=4561 Iron Works Pike:geo:-84.5358851,38.1542515
END:VEVENT
BEGIN:VEVENT
DTSTART;TZID=America/Kentucky/Louisville:20211106T090000
DTEND;TZID=America/Kentucky/Louisville:20211106T110000
DTSTAMP:20260425T150323
CREATED:20210429T044908Z
LAST-MODIFIED:20210429T044908Z
UID:10009499-1636189200-1636196400@kentuckycruises.com
SUMMARY:First Saturday Cars & Coffee\, Bluegrass Stockyards
DESCRIPTION:For over a decade this first Saturday monthly event has has been the go to event for all gear heads in Central KY.\nThis event is a family friendly\, safe gathering with all makes and models of vehicles welcome. \nCome out between the hours of 9:00 and 11:00am on the first Saturday of every month to the Blue Grass Regional Marketplace located at 4561 Iron Works Pike\, Lexington\, KY \nAs always there is no charge for attending.  You can check out the Marketplace at www.bgregionalmarketplace.com. \nPlease no Burn-Outs\, or Exhibitions of Speed or Horsepower. Be Respectful of Our Host.
URL:https://kentuckycruises.com/event/first-saturday-cars-coffee-bluegrass-stockyards/2021-11-06/
LOCATION:Blue Grass Regional Marketplace\, 4561 Iron Works Pike\, Lexington\, KY\, 40511\, United States
ATTACH;FMTTYPE=image/jpeg:https://kentuckycruises.com/wp-content/uploads/2021/04/50041767_2291083154455807_3864086092282068992_n.jpg
GEO:38.1542515;-84.5358851
X-APPLE-STRUCTURED-LOCATION;VALUE=URI;X-ADDRESS=Blue Grass Regional Marketplace 4561 Iron Works Pike Lexington KY 40511 United States;X-APPLE-RADIUS=500;X-TITLE=4561 Iron Works Pike:geo:-84.5358851,38.1542515
END:VEVENT
BEGIN:VEVENT
DTSTART;TZID=America/Kentucky/Louisville:20211002T090000
DTEND;TZID=America/Kentucky/Louisville:20211002T110000
DTSTAMP:20260425T150323
CREATED:20210429T044908Z
LAST-MODIFIED:20210429T044908Z
UID:10009498-1633165200-1633172400@kentuckycruises.com
SUMMARY:First Saturday Cars & Coffee\, Bluegrass Stockyards
DESCRIPTION:For over a decade this first Saturday monthly event has has been the go to event for all gear heads in Central KY.\nThis event is a family friendly\, safe gathering with all makes and models of vehicles welcome. \nCome out between the hours of 9:00 and 11:00am on the first Saturday of every month to the Blue Grass Regional Marketplace located at 4561 Iron Works Pike\, Lexington\, KY \nAs always there is no charge for attending.  You can check out the Marketplace at www.bgregionalmarketplace.com. \nPlease no Burn-Outs\, or Exhibitions of Speed or Horsepower. Be Respectful of Our Host.
URL:https://kentuckycruises.com/event/first-saturday-cars-coffee-bluegrass-stockyards/2021-10-02/
LOCATION:Blue Grass Regional Marketplace\, 4561 Iron Works Pike\, Lexington\, KY\, 40511\, United States
ATTACH;FMTTYPE=image/jpeg:https://kentuckycruises.com/wp-content/uploads/2021/04/50041767_2291083154455807_3864086092282068992_n.jpg
GEO:38.1542515;-84.5358851
X-APPLE-STRUCTURED-LOCATION;VALUE=URI;X-ADDRESS=Blue Grass Regional Marketplace 4561 Iron Works Pike Lexington KY 40511 United States;X-APPLE-RADIUS=500;X-TITLE=4561 Iron Works Pike:geo:-84.5358851,38.1542515
END:VEVENT
BEGIN:VEVENT
DTSTART;TZID=America/Kentucky/Louisville:20210904T090000
DTEND;TZID=America/Kentucky/Louisville:20210904T110000
DTSTAMP:20260425T150323
CREATED:20210429T044908Z
LAST-MODIFIED:20210429T044908Z
UID:10009497-1630746000-1630753200@kentuckycruises.com
SUMMARY:First Saturday Cars & Coffee\, Bluegrass Stockyards
DESCRIPTION:For over a decade this first Saturday monthly event has has been the go to event for all gear heads in Central KY.\nThis event is a family friendly\, safe gathering with all makes and models of vehicles welcome. \nCome out between the hours of 9:00 and 11:00am on the first Saturday of every month to the Blue Grass Regional Marketplace located at 4561 Iron Works Pike\, Lexington\, KY \nAs always there is no charge for attending.  You can check out the Marketplace at www.bgregionalmarketplace.com. \nPlease no Burn-Outs\, or Exhibitions of Speed or Horsepower. Be Respectful of Our Host.
URL:https://kentuckycruises.com/event/first-saturday-cars-coffee-bluegrass-stockyards/2021-09-04/
LOCATION:Blue Grass Regional Marketplace\, 4561 Iron Works Pike\, Lexington\, KY\, 40511\, United States
ATTACH;FMTTYPE=image/jpeg:https://kentuckycruises.com/wp-content/uploads/2021/04/50041767_2291083154455807_3864086092282068992_n.jpg
GEO:38.1542515;-84.5358851
X-APPLE-STRUCTURED-LOCATION;VALUE=URI;X-ADDRESS=Blue Grass Regional Marketplace 4561 Iron Works Pike Lexington KY 40511 United States;X-APPLE-RADIUS=500;X-TITLE=4561 Iron Works Pike:geo:-84.5358851,38.1542515
END:VEVENT
BEGIN:VEVENT
DTSTART;TZID=America/Kentucky/Louisville:20210703T090000
DTEND;TZID=America/Kentucky/Louisville:20210703T110000
DTSTAMP:20260425T150323
CREATED:20210429T044908Z
LAST-MODIFIED:20210429T044908Z
UID:10009496-1625302800-1625310000@kentuckycruises.com
SUMMARY:First Saturday Cars & Coffee\, Bluegrass Stockyards
DESCRIPTION:For over a decade this first Saturday monthly event has has been the go to event for all gear heads in Central KY.\nThis event is a family friendly\, safe gathering with all makes and models of vehicles welcome. \nCome out between the hours of 9:00 and 11:00am on the first Saturday of every month to the Blue Grass Regional Marketplace located at 4561 Iron Works Pike\, Lexington\, KY \nAs always there is no charge for attending.  You can check out the Marketplace at www.bgregionalmarketplace.com. \nPlease no Burn-Outs\, or Exhibitions of Speed or Horsepower. Be Respectful of Our Host.
URL:https://kentuckycruises.com/event/first-saturday-cars-coffee-bluegrass-stockyards/2021-07-03/
LOCATION:Blue Grass Regional Marketplace\, 4561 Iron Works Pike\, Lexington\, KY\, 40511\, United States
ATTACH;FMTTYPE=image/jpeg:https://kentuckycruises.com/wp-content/uploads/2021/04/50041767_2291083154455807_3864086092282068992_n.jpg
GEO:38.1542515;-84.5358851
X-APPLE-STRUCTURED-LOCATION;VALUE=URI;X-ADDRESS=Blue Grass Regional Marketplace 4561 Iron Works Pike Lexington KY 40511 United States;X-APPLE-RADIUS=500;X-TITLE=4561 Iron Works Pike:geo:-84.5358851,38.1542515
END:VEVENT
BEGIN:VEVENT
DTSTART;TZID=America/Kentucky/Louisville:20210605T090000
DTEND;TZID=America/Kentucky/Louisville:20210605T110000
DTSTAMP:20260425T150323
CREATED:20210429T044908Z
LAST-MODIFIED:20210429T044908Z
UID:10009495-1622883600-1622890800@kentuckycruises.com
SUMMARY:First Saturday Cars & Coffee\, Bluegrass Stockyards
DESCRIPTION:For over a decade this first Saturday monthly event has has been the go to event for all gear heads in Central KY.\nThis event is a family friendly\, safe gathering with all makes and models of vehicles welcome. \nCome out between the hours of 9:00 and 11:00am on the first Saturday of every month to the Blue Grass Regional Marketplace located at 4561 Iron Works Pike\, Lexington\, KY \nAs always there is no charge for attending.  You can check out the Marketplace at www.bgregionalmarketplace.com. \nPlease no Burn-Outs\, or Exhibitions of Speed or Horsepower. Be Respectful of Our Host.
URL:https://kentuckycruises.com/event/first-saturday-cars-coffee-bluegrass-stockyards/2021-06-05/
LOCATION:Blue Grass Regional Marketplace\, 4561 Iron Works Pike\, Lexington\, KY\, 40511\, United States
ATTACH;FMTTYPE=image/jpeg:https://kentuckycruises.com/wp-content/uploads/2021/04/50041767_2291083154455807_3864086092282068992_n.jpg
GEO:38.1542515;-84.5358851
X-APPLE-STRUCTURED-LOCATION;VALUE=URI;X-ADDRESS=Blue Grass Regional Marketplace 4561 Iron Works Pike Lexington KY 40511 United States;X-APPLE-RADIUS=500;X-TITLE=4561 Iron Works Pike:geo:-84.5358851,38.1542515
END:VEVENT
END:VCALENDAR