BEGIN:VCALENDAR
VERSION:2.0
PRODID:-//Kentucky Cruises - ECPv6.6.3//NONSGML v1.0//EN
CALSCALE:GREGORIAN
METHOD:PUBLISH
X-WR-CALNAME:Kentucky Cruises
X-ORIGINAL-URL:https://kentuckycruises.com
X-WR-CALDESC:Events for Kentucky Cruises
REFRESH-INTERVAL;VALUE=DURATION:PT1H
X-Robots-Tag:noindex
X-PUBLISHED-TTL:PT1H
BEGIN:VTIMEZONE
TZID:America/Kentucky/Louisville
BEGIN:DAYLIGHT
TZOFFSETFROM:-0500
TZOFFSETTO:-0400
TZNAME:EDT
DTSTART:20220313T070000
END:DAYLIGHT
BEGIN:STANDARD
TZOFFSETFROM:-0400
TZOFFSETTO:-0500
TZNAME:EST
DTSTART:20221106T060000
END:STANDARD
END:VTIMEZONE
BEGIN:VEVENT
DTSTART;TZID=America/Kentucky/Louisville:20221008T080000
DTEND;TZID=America/Kentucky/Louisville:20221008T170000
DTSTAMP:20260421T050340
CREATED:20220831T020807Z
LAST-MODIFIED:20220831T020849Z
UID:10008693-1665216000-1665248400@kentuckycruises.com
SUMMARY:Derby City Mustang Club 33rd Annual Fordfest Car Show
DESCRIPTION:Pony trail on Friday Oct 7\, 2022. \nCar show on Saturday oct 8\, 2022 \nDetails on the club website at https://derbycitymustangclub.com
URL:https://kentuckycruises.com/event/derby-city-mustang-club-33rd-annual-fordfest-car-show/
LOCATION:Bill Collins Ford\, 4220 Bardstown Road\, Louisville\, KY\, 40218\, United States
ATTACH;FMTTYPE=image/jpeg:https://kentuckycruises.com/wp-content/uploads/2022/08/DCMC_Fordfest_Oct2022.jpg
ORGANIZER;CN="Derby City Mustang Club":MAILTO:derbycitymustangclub@gmail.com
GEO:38.1852741;-85.6397937
X-APPLE-STRUCTURED-LOCATION;VALUE=URI;X-ADDRESS=Bill Collins Ford 4220 Bardstown Road Louisville KY 40218 United States;X-APPLE-RADIUS=500;X-TITLE=4220 Bardstown Road:geo:-85.6397937,38.1852741
END:VEVENT
END:VCALENDAR