BEGIN:VCALENDAR
VERSION:2.0
PRODID:-//Kentucky Cruises - ECPv6.6.3//NONSGML v1.0//EN
CALSCALE:GREGORIAN
METHOD:PUBLISH
X-WR-CALNAME:Kentucky Cruises
X-ORIGINAL-URL:https://kentuckycruises.com
X-WR-CALDESC:Events for Kentucky Cruises
REFRESH-INTERVAL;VALUE=DURATION:PT1H
X-Robots-Tag:noindex
X-PUBLISHED-TTL:PT1H
BEGIN:VTIMEZONE
TZID:America/Kentucky/Louisville
BEGIN:DAYLIGHT
TZOFFSETFROM:-0500
TZOFFSETTO:-0400
TZNAME:EDT
DTSTART:20210314T070000
END:DAYLIGHT
BEGIN:STANDARD
TZOFFSETFROM:-0400
TZOFFSETTO:-0500
TZNAME:EST
DTSTART:20211107T060000
END:STANDARD
END:VTIMEZONE
BEGIN:VEVENT
DTSTART;TZID=America/Kentucky/Louisville:20211001T080000
DTEND;TZID=America/Kentucky/Louisville:20211003T170000
DTSTAMP:20260421T193721
CREATED:20210819T032724Z
LAST-MODIFIED:20210819T032724Z
UID:10009971-1633075200-1633280400@kentuckycruises.com
SUMMARY:Kentucky Airstrip Attack - Dreamcars Rally
DESCRIPTION:Registration open at: dreamcarsrally.com \nThe registration includes 2 nights at hosting hotel\, covered garage parking\, breakfast\, lunch\, goodie bag and more… \n3 days / 2 nights rally in the mountains of Kentucky with full support of the local government. \nWe have planned more than 700 miles of exhilarating driving on the greatest roads in America\, and all three days are packed full of driving\, drifting\, racing\, and tire smoke. That’s right\, we will have free reign to do donuts\, burnouts\, and drifting on government sanctioned blocked parties and closed roads! We will also have chance to socializing in between and after\, as well as to join block parties so that the local communities can come to see our beautiful cars and hopefully\, we can inspire the young generations to follow their dreams and be driving one of them some day. \nWe’re including 2 breakfasts\, 3 lunches\, a zip line tour and private access to a airstrip for performance demonstration! \nCheck the discussion on this event to see what did you miss on our previous rally! \nFacebook event page https://www.facebook.com/events/243118277666195
URL:https://kentuckycruises.com/event/kentucky-airstrip-attack-dreamcars-rally/
LOCATION:Backroads of Appalachia\, 107 Depot\, Loop Lynch\, KY\, 40855\, United States
ATTACH;FMTTYPE=image/jpeg:https://kentuckycruises.com/wp-content/uploads/2021/08/236140319_391779315708891_8957606193673525514_n.jpg
GEO:36.9647946;-82.9171665
X-APPLE-STRUCTURED-LOCATION;VALUE=URI;X-ADDRESS=Backroads of Appalachia 107 Depot Loop Lynch KY 40855 United States;X-APPLE-RADIUS=500;X-TITLE=107 Depot:geo:-82.9171665,36.9647946
END:VEVENT
END:VCALENDAR