BEGIN:VCALENDAR
VERSION:2.0
PRODID:-//Kentucky Cruises - ECPv6.6.3//NONSGML v1.0//EN
CALSCALE:GREGORIAN
METHOD:PUBLISH
X-WR-CALNAME:Kentucky Cruises
X-ORIGINAL-URL:https://kentuckycruises.com
X-WR-CALDESC:Events for Kentucky Cruises
REFRESH-INTERVAL;VALUE=DURATION:PT1H
X-Robots-Tag:noindex
X-PUBLISHED-TTL:PT1H
BEGIN:VTIMEZONE
TZID:America/Kentucky/Louisville
BEGIN:DAYLIGHT
TZOFFSETFROM:-0500
TZOFFSETTO:-0400
TZNAME:EDT
DTSTART:20230312T070000
END:DAYLIGHT
BEGIN:STANDARD
TZOFFSETFROM:-0400
TZOFFSETTO:-0500
TZNAME:EST
DTSTART:20231105T060000
END:STANDARD
END:VTIMEZONE
BEGIN:VEVENT
DTSTART;TZID=America/Kentucky/Louisville:20230513T090000
DTEND;TZID=America/Kentucky/Louisville:20230513T150000
DTSTAMP:20260425T145911
CREATED:20230326T053453Z
LAST-MODIFIED:20230326T053453Z
UID:10011064-1683968400-1683990000@kentuckycruises.com
SUMMARY:It’s All About The Kids Car & Bike Show
DESCRIPTION:
URL:https://kentuckycruises.com/event/its-all-about-the-kids-car-bike-show/
LOCATION:American Legion Post 220\, 2107 Crums Ln\,\, Shively\, KY\, 40216\, United States
ATTACH;FMTTYPE=image/jpeg:https://kentuckycruises.com/wp-content/uploads/2023/03/post_220_5_13_23.jpg
GEO:38.1953324;-85.8113016
X-APPLE-STRUCTURED-LOCATION;VALUE=URI;X-ADDRESS=American Legion Post 220 2107 Crums Ln Shively KY 40216 United States;X-APPLE-RADIUS=500;X-TITLE=2107 Crums Ln\,:geo:-85.8113016,38.1953324
END:VEVENT
END:VCALENDAR