BEGIN:VCALENDAR
VERSION:2.0
PRODID:-//Kentucky Cruises - ECPv6.6.3//NONSGML v1.0//EN
CALSCALE:GREGORIAN
METHOD:PUBLISH
X-ORIGINAL-URL:https://kentuckycruises.com
X-WR-CALDESC:Events for Kentucky Cruises
REFRESH-INTERVAL;VALUE=DURATION:PT1H
X-Robots-Tag:noindex
X-PUBLISHED-TTL:PT1H
BEGIN:VTIMEZONE
TZID:America/Kentucky/Louisville
BEGIN:DAYLIGHT
TZOFFSETFROM:-0500
TZOFFSETTO:-0400
TZNAME:EDT
DTSTART:20230312T070000
END:DAYLIGHT
BEGIN:STANDARD
TZOFFSETFROM:-0400
TZOFFSETTO:-0500
TZNAME:EST
DTSTART:20231105T060000
END:STANDARD
END:VTIMEZONE
BEGIN:VEVENT
DTSTART;TZID=America/Kentucky/Louisville:20230803T110000
DTEND;TZID=America/Kentucky/Louisville:20230803T140000
DTSTAMP:20260425T094626
CREATED:20230501T135858Z
LAST-MODIFIED:20230511T233026Z
UID:10011138-1691060400-1691071200@kentuckycruises.com
SUMMARY:Oak Street Health Cruise-In Classic Car Show
DESCRIPTION:Free Pizza and door prizes! Taking place directly in front of Oak Street Health on Preston Hwy at Indian Trail Shopping center beside Save A Lot. Bring your classic American and import cars\, as well as late model collector cars! Spectators are also welcome to come have pizza with us! \nAddress: 5743 Preston Hwy\, Louisville\, KY 40219 \nThursdays 11 AM – 2 PM
URL:https://kentuckycruises.com/event/oak-street-health-cruise-in-preston-hwy/2023-08-03/
LOCATION:5743 Preston Hwy\, 5743 Preston Hwy\, Louisville\, KY\, 40219\, United States
ATTACH;FMTTYPE=image/jpeg:https://kentuckycruises.com/wp-content/uploads/2023/05/345904608_242718368408935_4604813229075719443_n.jpg
ORGANIZER;CN="John Wooten":MAILTO:john.wooten@oakstreethealth.com
GEO:38.1656138;-85.702024
X-APPLE-STRUCTURED-LOCATION;VALUE=URI;X-ADDRESS=5743 Preston Hwy 5743 Preston Hwy Louisville KY 40219 United States;X-APPLE-RADIUS=500;X-TITLE=5743 Preston Hwy:geo:-85.702024,38.1656138
END:VEVENT
BEGIN:VEVENT
DTSTART;TZID=America/Kentucky/Louisville:20230727T110000
DTEND;TZID=America/Kentucky/Louisville:20230727T140000
DTSTAMP:20260425T094626
CREATED:20230501T135858Z
LAST-MODIFIED:20230511T233026Z
UID:10011137-1690455600-1690466400@kentuckycruises.com
SUMMARY:Oak Street Health Cruise-In Classic Car Show
DESCRIPTION:Free Pizza and door prizes! Taking place directly in front of Oak Street Health on Preston Hwy at Indian Trail Shopping center beside Save A Lot. Bring your classic American and import cars\, as well as late model collector cars! Spectators are also welcome to come have pizza with us! \nAddress: 5743 Preston Hwy\, Louisville\, KY 40219 \nThursdays 11 AM – 2 PM
URL:https://kentuckycruises.com/event/oak-street-health-cruise-in-preston-hwy/2023-07-27/
LOCATION:5743 Preston Hwy\, 5743 Preston Hwy\, Louisville\, KY\, 40219\, United States
ATTACH;FMTTYPE=image/jpeg:https://kentuckycruises.com/wp-content/uploads/2023/05/345904608_242718368408935_4604813229075719443_n.jpg
ORGANIZER;CN="John Wooten":MAILTO:john.wooten@oakstreethealth.com
GEO:38.1656138;-85.702024
X-APPLE-STRUCTURED-LOCATION;VALUE=URI;X-ADDRESS=5743 Preston Hwy 5743 Preston Hwy Louisville KY 40219 United States;X-APPLE-RADIUS=500;X-TITLE=5743 Preston Hwy:geo:-85.702024,38.1656138
END:VEVENT
BEGIN:VEVENT
DTSTART;TZID=America/Kentucky/Louisville:20230720T110000
DTEND;TZID=America/Kentucky/Louisville:20230720T140000
DTSTAMP:20260425T094626
CREATED:20230501T135858Z
LAST-MODIFIED:20230511T233026Z
UID:10011136-1689850800-1689861600@kentuckycruises.com
SUMMARY:Oak Street Health Cruise-In Classic Car Show
DESCRIPTION:Free Pizza and door prizes! Taking place directly in front of Oak Street Health on Preston Hwy at Indian Trail Shopping center beside Save A Lot. Bring your classic American and import cars\, as well as late model collector cars! Spectators are also welcome to come have pizza with us! \nAddress: 5743 Preston Hwy\, Louisville\, KY 40219 \nThursdays 11 AM – 2 PM
URL:https://kentuckycruises.com/event/oak-street-health-cruise-in-preston-hwy/2023-07-20/
LOCATION:5743 Preston Hwy\, 5743 Preston Hwy\, Louisville\, KY\, 40219\, United States
ATTACH;FMTTYPE=image/jpeg:https://kentuckycruises.com/wp-content/uploads/2023/05/345904608_242718368408935_4604813229075719443_n.jpg
ORGANIZER;CN="John Wooten":MAILTO:john.wooten@oakstreethealth.com
GEO:38.1656138;-85.702024
X-APPLE-STRUCTURED-LOCATION;VALUE=URI;X-ADDRESS=5743 Preston Hwy 5743 Preston Hwy Louisville KY 40219 United States;X-APPLE-RADIUS=500;X-TITLE=5743 Preston Hwy:geo:-85.702024,38.1656138
END:VEVENT
BEGIN:VEVENT
DTSTART;TZID=America/Kentucky/Louisville:20230713T110000
DTEND;TZID=America/Kentucky/Louisville:20230713T140000
DTSTAMP:20260425T094626
CREATED:20230501T135858Z
LAST-MODIFIED:20230511T233026Z
UID:10011135-1689246000-1689256800@kentuckycruises.com
SUMMARY:Oak Street Health Cruise-In Classic Car Show
DESCRIPTION:Free Pizza and door prizes! Taking place directly in front of Oak Street Health on Preston Hwy at Indian Trail Shopping center beside Save A Lot. Bring your classic American and import cars\, as well as late model collector cars! Spectators are also welcome to come have pizza with us! \nAddress: 5743 Preston Hwy\, Louisville\, KY 40219 \nThursdays 11 AM – 2 PM
URL:https://kentuckycruises.com/event/oak-street-health-cruise-in-preston-hwy/2023-07-13/
LOCATION:5743 Preston Hwy\, 5743 Preston Hwy\, Louisville\, KY\, 40219\, United States
ATTACH;FMTTYPE=image/jpeg:https://kentuckycruises.com/wp-content/uploads/2023/05/345904608_242718368408935_4604813229075719443_n.jpg
ORGANIZER;CN="John Wooten":MAILTO:john.wooten@oakstreethealth.com
GEO:38.1656138;-85.702024
X-APPLE-STRUCTURED-LOCATION;VALUE=URI;X-ADDRESS=5743 Preston Hwy 5743 Preston Hwy Louisville KY 40219 United States;X-APPLE-RADIUS=500;X-TITLE=5743 Preston Hwy:geo:-85.702024,38.1656138
END:VEVENT
BEGIN:VEVENT
DTSTART;TZID=America/Kentucky/Louisville:20230706T110000
DTEND;TZID=America/Kentucky/Louisville:20230706T140000
DTSTAMP:20260425T094626
CREATED:20230501T135858Z
LAST-MODIFIED:20230511T233026Z
UID:10011134-1688641200-1688652000@kentuckycruises.com
SUMMARY:Oak Street Health Cruise-In Classic Car Show
DESCRIPTION:Free Pizza and door prizes! Taking place directly in front of Oak Street Health on Preston Hwy at Indian Trail Shopping center beside Save A Lot. Bring your classic American and import cars\, as well as late model collector cars! Spectators are also welcome to come have pizza with us! \nAddress: 5743 Preston Hwy\, Louisville\, KY 40219 \nThursdays 11 AM – 2 PM
URL:https://kentuckycruises.com/event/oak-street-health-cruise-in-preston-hwy/2023-07-06/
LOCATION:5743 Preston Hwy\, 5743 Preston Hwy\, Louisville\, KY\, 40219\, United States
ATTACH;FMTTYPE=image/jpeg:https://kentuckycruises.com/wp-content/uploads/2023/05/345904608_242718368408935_4604813229075719443_n.jpg
ORGANIZER;CN="John Wooten":MAILTO:john.wooten@oakstreethealth.com
GEO:38.1656138;-85.702024
X-APPLE-STRUCTURED-LOCATION;VALUE=URI;X-ADDRESS=5743 Preston Hwy 5743 Preston Hwy Louisville KY 40219 United States;X-APPLE-RADIUS=500;X-TITLE=5743 Preston Hwy:geo:-85.702024,38.1656138
END:VEVENT
BEGIN:VEVENT
DTSTART;TZID=America/Kentucky/Louisville:20230629T110000
DTEND;TZID=America/Kentucky/Louisville:20230629T140000
DTSTAMP:20260425T094626
CREATED:20230501T135858Z
LAST-MODIFIED:20230511T233026Z
UID:10011133-1688036400-1688047200@kentuckycruises.com
SUMMARY:Oak Street Health Cruise-In Classic Car Show
DESCRIPTION:Free Pizza and door prizes! Taking place directly in front of Oak Street Health on Preston Hwy at Indian Trail Shopping center beside Save A Lot. Bring your classic American and import cars\, as well as late model collector cars! Spectators are also welcome to come have pizza with us! \nAddress: 5743 Preston Hwy\, Louisville\, KY 40219 \nThursdays 11 AM – 2 PM
URL:https://kentuckycruises.com/event/oak-street-health-cruise-in-preston-hwy/2023-06-29/
LOCATION:5743 Preston Hwy\, 5743 Preston Hwy\, Louisville\, KY\, 40219\, United States
ATTACH;FMTTYPE=image/jpeg:https://kentuckycruises.com/wp-content/uploads/2023/05/345904608_242718368408935_4604813229075719443_n.jpg
ORGANIZER;CN="John Wooten":MAILTO:john.wooten@oakstreethealth.com
GEO:38.1656138;-85.702024
X-APPLE-STRUCTURED-LOCATION;VALUE=URI;X-ADDRESS=5743 Preston Hwy 5743 Preston Hwy Louisville KY 40219 United States;X-APPLE-RADIUS=500;X-TITLE=5743 Preston Hwy:geo:-85.702024,38.1656138
END:VEVENT
BEGIN:VEVENT
DTSTART;TZID=America/Kentucky/Louisville:20230622T110000
DTEND;TZID=America/Kentucky/Louisville:20230622T140000
DTSTAMP:20260425T094626
CREATED:20230501T135858Z
LAST-MODIFIED:20230511T233026Z
UID:10011132-1687431600-1687442400@kentuckycruises.com
SUMMARY:Oak Street Health Cruise-In Classic Car Show
DESCRIPTION:Free Pizza and door prizes! Taking place directly in front of Oak Street Health on Preston Hwy at Indian Trail Shopping center beside Save A Lot. Bring your classic American and import cars\, as well as late model collector cars! Spectators are also welcome to come have pizza with us! \nAddress: 5743 Preston Hwy\, Louisville\, KY 40219 \nThursdays 11 AM – 2 PM
URL:https://kentuckycruises.com/event/oak-street-health-cruise-in-preston-hwy/2023-06-22/
LOCATION:5743 Preston Hwy\, 5743 Preston Hwy\, Louisville\, KY\, 40219\, United States
ATTACH;FMTTYPE=image/jpeg:https://kentuckycruises.com/wp-content/uploads/2023/05/345904608_242718368408935_4604813229075719443_n.jpg
ORGANIZER;CN="John Wooten":MAILTO:john.wooten@oakstreethealth.com
GEO:38.1656138;-85.702024
X-APPLE-STRUCTURED-LOCATION;VALUE=URI;X-ADDRESS=5743 Preston Hwy 5743 Preston Hwy Louisville KY 40219 United States;X-APPLE-RADIUS=500;X-TITLE=5743 Preston Hwy:geo:-85.702024,38.1656138
END:VEVENT
BEGIN:VEVENT
DTSTART;TZID=America/Kentucky/Louisville:20230615T110000
DTEND;TZID=America/Kentucky/Louisville:20230615T140000
DTSTAMP:20260425T094626
CREATED:20230501T135858Z
LAST-MODIFIED:20230511T233026Z
UID:10011131-1686826800-1686837600@kentuckycruises.com
SUMMARY:Oak Street Health Cruise-In Classic Car Show
DESCRIPTION:Free Pizza and door prizes! Taking place directly in front of Oak Street Health on Preston Hwy at Indian Trail Shopping center beside Save A Lot. Bring your classic American and import cars\, as well as late model collector cars! Spectators are also welcome to come have pizza with us! \nAddress: 5743 Preston Hwy\, Louisville\, KY 40219 \nThursdays 11 AM – 2 PM
URL:https://kentuckycruises.com/event/oak-street-health-cruise-in-preston-hwy/2023-06-15/
LOCATION:5743 Preston Hwy\, 5743 Preston Hwy\, Louisville\, KY\, 40219\, United States
ATTACH;FMTTYPE=image/jpeg:https://kentuckycruises.com/wp-content/uploads/2023/05/345904608_242718368408935_4604813229075719443_n.jpg
ORGANIZER;CN="John Wooten":MAILTO:john.wooten@oakstreethealth.com
GEO:38.1656138;-85.702024
X-APPLE-STRUCTURED-LOCATION;VALUE=URI;X-ADDRESS=5743 Preston Hwy 5743 Preston Hwy Louisville KY 40219 United States;X-APPLE-RADIUS=500;X-TITLE=5743 Preston Hwy:geo:-85.702024,38.1656138
END:VEVENT
BEGIN:VEVENT
DTSTART;TZID=America/Kentucky/Louisville:20230608T110000
DTEND;TZID=America/Kentucky/Louisville:20230608T140000
DTSTAMP:20260425T094626
CREATED:20230501T135858Z
LAST-MODIFIED:20230511T233026Z
UID:10011130-1686222000-1686232800@kentuckycruises.com
SUMMARY:Oak Street Health Cruise-In Classic Car Show
DESCRIPTION:Free Pizza and door prizes! Taking place directly in front of Oak Street Health on Preston Hwy at Indian Trail Shopping center beside Save A Lot. Bring your classic American and import cars\, as well as late model collector cars! Spectators are also welcome to come have pizza with us! \nAddress: 5743 Preston Hwy\, Louisville\, KY 40219 \nThursdays 11 AM – 2 PM
URL:https://kentuckycruises.com/event/oak-street-health-cruise-in-preston-hwy/2023-06-08/
LOCATION:5743 Preston Hwy\, 5743 Preston Hwy\, Louisville\, KY\, 40219\, United States
ATTACH;FMTTYPE=image/jpeg:https://kentuckycruises.com/wp-content/uploads/2023/05/345904608_242718368408935_4604813229075719443_n.jpg
ORGANIZER;CN="John Wooten":MAILTO:john.wooten@oakstreethealth.com
GEO:38.1656138;-85.702024
X-APPLE-STRUCTURED-LOCATION;VALUE=URI;X-ADDRESS=5743 Preston Hwy 5743 Preston Hwy Louisville KY 40219 United States;X-APPLE-RADIUS=500;X-TITLE=5743 Preston Hwy:geo:-85.702024,38.1656138
END:VEVENT
BEGIN:VEVENT
DTSTART;TZID=America/Kentucky/Louisville:20230601T110000
DTEND;TZID=America/Kentucky/Louisville:20230601T140000
DTSTAMP:20260425T094626
CREATED:20230501T135858Z
LAST-MODIFIED:20230511T233026Z
UID:10011129-1685617200-1685628000@kentuckycruises.com
SUMMARY:Oak Street Health Cruise-In Classic Car Show
DESCRIPTION:Free Pizza and door prizes! Taking place directly in front of Oak Street Health on Preston Hwy at Indian Trail Shopping center beside Save A Lot. Bring your classic American and import cars\, as well as late model collector cars! Spectators are also welcome to come have pizza with us! \nAddress: 5743 Preston Hwy\, Louisville\, KY 40219 \nThursdays 11 AM – 2 PM
URL:https://kentuckycruises.com/event/oak-street-health-cruise-in-preston-hwy/2023-06-01/
LOCATION:5743 Preston Hwy\, 5743 Preston Hwy\, Louisville\, KY\, 40219\, United States
ATTACH;FMTTYPE=image/jpeg:https://kentuckycruises.com/wp-content/uploads/2023/05/345904608_242718368408935_4604813229075719443_n.jpg
ORGANIZER;CN="John Wooten":MAILTO:john.wooten@oakstreethealth.com
GEO:38.1656138;-85.702024
X-APPLE-STRUCTURED-LOCATION;VALUE=URI;X-ADDRESS=5743 Preston Hwy 5743 Preston Hwy Louisville KY 40219 United States;X-APPLE-RADIUS=500;X-TITLE=5743 Preston Hwy:geo:-85.702024,38.1656138
END:VEVENT
BEGIN:VEVENT
DTSTART;TZID=America/Kentucky/Louisville:20230525T110000
DTEND;TZID=America/Kentucky/Louisville:20230525T140000
DTSTAMP:20260425T094626
CREATED:20230501T135858Z
LAST-MODIFIED:20230511T233026Z
UID:10011128-1685012400-1685023200@kentuckycruises.com
SUMMARY:Oak Street Health Cruise-In Classic Car Show
DESCRIPTION:Free Pizza and door prizes! Taking place directly in front of Oak Street Health on Preston Hwy at Indian Trail Shopping center beside Save A Lot. Bring your classic American and import cars\, as well as late model collector cars! Spectators are also welcome to come have pizza with us! \nAddress: 5743 Preston Hwy\, Louisville\, KY 40219 \nThursdays 11 AM – 2 PM
URL:https://kentuckycruises.com/event/oak-street-health-cruise-in-preston-hwy/2023-05-25/
LOCATION:5743 Preston Hwy\, 5743 Preston Hwy\, Louisville\, KY\, 40219\, United States
ATTACH;FMTTYPE=image/jpeg:https://kentuckycruises.com/wp-content/uploads/2023/05/345904608_242718368408935_4604813229075719443_n.jpg
ORGANIZER;CN="John Wooten":MAILTO:john.wooten@oakstreethealth.com
GEO:38.1656138;-85.702024
X-APPLE-STRUCTURED-LOCATION;VALUE=URI;X-ADDRESS=5743 Preston Hwy 5743 Preston Hwy Louisville KY 40219 United States;X-APPLE-RADIUS=500;X-TITLE=5743 Preston Hwy:geo:-85.702024,38.1656138
END:VEVENT
BEGIN:VEVENT
DTSTART;TZID=America/Kentucky/Louisville:20230518T110000
DTEND;TZID=America/Kentucky/Louisville:20230518T140000
DTSTAMP:20260425T094626
CREATED:20230501T135858Z
LAST-MODIFIED:20230511T233026Z
UID:10011127-1684407600-1684418400@kentuckycruises.com
SUMMARY:Oak Street Health Cruise-In Classic Car Show
DESCRIPTION:Free Pizza and door prizes! Taking place directly in front of Oak Street Health on Preston Hwy at Indian Trail Shopping center beside Save A Lot. Bring your classic American and import cars\, as well as late model collector cars! Spectators are also welcome to come have pizza with us! \nAddress: 5743 Preston Hwy\, Louisville\, KY 40219 \nThursdays 11 AM – 2 PM
URL:https://kentuckycruises.com/event/oak-street-health-cruise-in-preston-hwy/2023-05-18/
LOCATION:5743 Preston Hwy\, 5743 Preston Hwy\, Louisville\, KY\, 40219\, United States
ATTACH;FMTTYPE=image/jpeg:https://kentuckycruises.com/wp-content/uploads/2023/05/345904608_242718368408935_4604813229075719443_n.jpg
ORGANIZER;CN="John Wooten":MAILTO:john.wooten@oakstreethealth.com
GEO:38.1656138;-85.702024
X-APPLE-STRUCTURED-LOCATION;VALUE=URI;X-ADDRESS=5743 Preston Hwy 5743 Preston Hwy Louisville KY 40219 United States;X-APPLE-RADIUS=500;X-TITLE=5743 Preston Hwy:geo:-85.702024,38.1656138
END:VEVENT
BEGIN:VEVENT
DTSTART;TZID=America/Kentucky/Louisville:20230511T110000
DTEND;TZID=America/Kentucky/Louisville:20230511T140000
DTSTAMP:20260425T094626
CREATED:20230501T135858Z
LAST-MODIFIED:20230511T233026Z
UID:10011126-1683802800-1683813600@kentuckycruises.com
SUMMARY:Oak Street Health Cruise-In Classic Car Show
DESCRIPTION:Free Pizza and door prizes! Taking place directly in front of Oak Street Health on Preston Hwy at Indian Trail Shopping center beside Save A Lot. Bring your classic American and import cars\, as well as late model collector cars! Spectators are also welcome to come have pizza with us! \nAddress: 5743 Preston Hwy\, Louisville\, KY 40219 \nThursdays 11 AM – 2 PM
URL:https://kentuckycruises.com/event/oak-street-health-cruise-in-preston-hwy/2023-05-11/
LOCATION:5743 Preston Hwy\, 5743 Preston Hwy\, Louisville\, KY\, 40219\, United States
ATTACH;FMTTYPE=image/jpeg:https://kentuckycruises.com/wp-content/uploads/2023/05/345904608_242718368408935_4604813229075719443_n.jpg
ORGANIZER;CN="John Wooten":MAILTO:john.wooten@oakstreethealth.com
GEO:38.1656138;-85.702024
X-APPLE-STRUCTURED-LOCATION;VALUE=URI;X-ADDRESS=5743 Preston Hwy 5743 Preston Hwy Louisville KY 40219 United States;X-APPLE-RADIUS=500;X-TITLE=5743 Preston Hwy:geo:-85.702024,38.1656138
END:VEVENT
END:VCALENDAR