BEGIN:VCALENDAR
VERSION:2.0
PRODID:-//Kentucky Cruises - ECPv6.6.3//NONSGML v1.0//EN
CALSCALE:GREGORIAN
METHOD:PUBLISH
X-ORIGINAL-URL:https://kentuckycruises.com
X-WR-CALDESC:Events for Kentucky Cruises
REFRESH-INTERVAL;VALUE=DURATION:PT1H
X-Robots-Tag:noindex
X-PUBLISHED-TTL:PT1H
BEGIN:VTIMEZONE
TZID:America/Kentucky/Louisville
BEGIN:DAYLIGHT
TZOFFSETFROM:-0500
TZOFFSETTO:-0400
TZNAME:EDT
DTSTART:20220313T070000
END:DAYLIGHT
BEGIN:STANDARD
TZOFFSETFROM:-0400
TZOFFSETTO:-0500
TZNAME:EST
DTSTART:20221106T060000
END:STANDARD
END:VTIMEZONE
BEGIN:VEVENT
DTSTART;TZID=America/Kentucky/Louisville:20220917T100000
DTEND;TZID=America/Kentucky/Louisville:20220917T130000
DTSTAMP:20260422T142336
CREATED:20210825T201620Z
LAST-MODIFIED:20220726T234255Z
UID:10010014-1663408800-1663419600@kentuckycruises.com
SUMMARY:Dundee Days Car Show & Cruise In
DESCRIPTION: 
URL:https://kentuckycruises.com/event/dundee-day-car-show/
LOCATION:11658 KY-69\, 11634 KY-79\, Dundee\, KY\, 42338\, United States
ATTACH;FMTTYPE=image/jpeg:https://kentuckycruises.com/wp-content/uploads/2021/05/170981651_10221220530436658_7625013771274424981_2n.jpg
GEO:37.8380193;-86.3237803
X-APPLE-STRUCTURED-LOCATION;VALUE=URI;X-ADDRESS=11658 KY-69 11634 KY-79 Dundee KY 42338 United States;X-APPLE-RADIUS=500;X-TITLE=11634 KY-79:geo:-86.3237803,37.8380193
END:VEVENT
END:VCALENDAR