BEGIN:VCALENDAR
VERSION:2.0
PRODID:-//Kentucky Cruises - ECPv6.6.3//NONSGML v1.0//EN
CALSCALE:GREGORIAN
METHOD:PUBLISH
X-WR-CALNAME:Kentucky Cruises
X-ORIGINAL-URL:https://kentuckycruises.com
X-WR-CALDESC:Events for Kentucky Cruises
REFRESH-INTERVAL;VALUE=DURATION:PT1H
X-Robots-Tag:noindex
X-PUBLISHED-TTL:PT1H
BEGIN:VTIMEZONE
TZID:America/Kentucky/Louisville
BEGIN:DAYLIGHT
TZOFFSETFROM:-0500
TZOFFSETTO:-0400
TZNAME:EDT
DTSTART:20230312T070000
END:DAYLIGHT
BEGIN:STANDARD
TZOFFSETFROM:-0400
TZOFFSETTO:-0500
TZNAME:EST
DTSTART:20231105T060000
END:STANDARD
END:VTIMEZONE
BEGIN:VEVENT
DTSTART;TZID=America/Kentucky/Louisville:20231028T110000
DTEND;TZID=America/Kentucky/Louisville:20231028T150000
DTSTAMP:20260421T233614
CREATED:20230520T050655Z
LAST-MODIFIED:20230520T050655Z
UID:10011308-1698490800-1698505200@kentuckycruises.com
SUMMARY:Hillview Trick or Treat
DESCRIPTION:
URL:https://kentuckycruises.com/event/hillview-trick-or-treat/
LOCATION:1119 Hillview Blvd  Hillview KY\, 1119 Hillview Blvd\, Louisville\, 40229
ATTACH;FMTTYPE=image/jpeg:https://kentuckycruises.com/wp-content/uploads/2023/05/1119_hillview_trick_23.jpg
GEO:38.0778792;-85.6877437
X-APPLE-STRUCTURED-LOCATION;VALUE=URI;X-ADDRESS=1119 Hillview Blvd  Hillview KY 1119 Hillview Blvd Louisville 40229;X-APPLE-RADIUS=500;X-TITLE=1119 Hillview Blvd:geo:-85.6877437,38.0778792
END:VEVENT
END:VCALENDAR