BEGIN:VCALENDAR
VERSION:2.0
PRODID:-//Kentucky Cruises - ECPv6.6.3//NONSGML v1.0//EN
CALSCALE:GREGORIAN
METHOD:PUBLISH
X-ORIGINAL-URL:https://kentuckycruises.com
X-WR-CALDESC:Events for Kentucky Cruises
REFRESH-INTERVAL;VALUE=DURATION:PT1H
X-Robots-Tag:noindex
X-PUBLISHED-TTL:PT1H
BEGIN:VTIMEZONE
TZID:America/Kentucky/Louisville
BEGIN:DAYLIGHT
TZOFFSETFROM:-0500
TZOFFSETTO:-0400
TZNAME:EDT
DTSTART:20210314T070000
END:DAYLIGHT
BEGIN:STANDARD
TZOFFSETFROM:-0400
TZOFFSETTO:-0500
TZNAME:EST
DTSTART:20211107T060000
END:STANDARD
END:VTIMEZONE
BEGIN:VEVENT
DTSTART;TZID=America/Kentucky/Louisville:20210822T140000
DTEND;TZID=America/Kentucky/Louisville:20210822T180000
DTSTAMP:20260421T122616
CREATED:20210720T025331Z
LAST-MODIFIED:20210720T025331Z
UID:10009917-1629640800-1629655200@kentuckycruises.com
SUMMARY:Karl Shannon's "Somewhat" Annual Waveland Car Cruise
DESCRIPTION:The Waveland Car Cruise is ON! Historic cars on historic grounds. \n$10 admission fee for cruisers\, spectators are free! \nProceeds benefit the Friends of Waveland. Cruisers that participate will be eligible for giveaways\, door prizes\, goody bags and of course some trophy’s will be awarded during the event. \nCome out and see some cool vintage cars at your local cool vintage mansion! See you there!
URL:https://kentuckycruises.com/event/karl-shannons-somewhat-annual-waveland-car-cruise/
LOCATION:Waveland State Historic Site\, 225 Waveland Museum Ln\, Lexington\, KY\, 40514\, United States
ATTACH;FMTTYPE=image/jpeg:https://kentuckycruises.com/wp-content/uploads/2021/07/189705587_2962102207396028_5167224740726180681_n.jpg
GEO:37.9714416;-84.5376384
X-APPLE-STRUCTURED-LOCATION;VALUE=URI;X-ADDRESS=Waveland State Historic Site 225 Waveland Museum Ln Lexington KY 40514 United States;X-APPLE-RADIUS=500;X-TITLE=225 Waveland Museum Ln:geo:-84.5376384,37.9714416
END:VEVENT
END:VCALENDAR