BEGIN:VCALENDAR
VERSION:2.0
PRODID:-//Kentucky Cruises - ECPv6.6.3//NONSGML v1.0//EN
CALSCALE:GREGORIAN
METHOD:PUBLISH
X-ORIGINAL-URL:https://kentuckycruises.com
X-WR-CALDESC:Events for Kentucky Cruises
REFRESH-INTERVAL;VALUE=DURATION:PT1H
X-Robots-Tag:noindex
X-PUBLISHED-TTL:PT1H
BEGIN:VTIMEZONE
TZID:America/Kentucky/Louisville
BEGIN:DAYLIGHT
TZOFFSETFROM:-0500
TZOFFSETTO:-0400
TZNAME:EDT
DTSTART:20210314T070000
END:DAYLIGHT
BEGIN:STANDARD
TZOFFSETFROM:-0400
TZOFFSETTO:-0500
TZNAME:EST
DTSTART:20211107T060000
END:STANDARD
BEGIN:DAYLIGHT
TZOFFSETFROM:-0500
TZOFFSETTO:-0400
TZNAME:EDT
DTSTART:20220313T070000
END:DAYLIGHT
BEGIN:STANDARD
TZOFFSETFROM:-0400
TZOFFSETTO:-0500
TZNAME:EST
DTSTART:20221106T060000
END:STANDARD
BEGIN:DAYLIGHT
TZOFFSETFROM:-0500
TZOFFSETTO:-0400
TZNAME:EDT
DTSTART:20230312T070000
END:DAYLIGHT
BEGIN:STANDARD
TZOFFSETFROM:-0400
TZOFFSETTO:-0500
TZNAME:EST
DTSTART:20231105T060000
END:STANDARD
END:VTIMEZONE
BEGIN:VEVENT
DTSTART;TZID=America/Kentucky/Louisville:20230704T090000
DTEND;TZID=America/Kentucky/Louisville:20230704T170000
DTSTAMP:20260425T073704
CREATED:20230516T034757Z
LAST-MODIFIED:20230701T202344Z
UID:10011225-1688461200-1688490000@kentuckycruises.com
SUMMARY:Barney's Auto Fest
DESCRIPTION:***RESCHEDULED*** TO jULY 4TH \nAt  Cherry House Furniture Store\n2419 South Highway 53\, LaGrange\, KY\, 40031 \nFrom 9AM-5PM \nOpen Car show – Cars\, Trucks\, Motorcycles welcome \nRegistration is $20 at the Gate \nQuad Rods & Custom Car Club\nFor More Information please call Barney 502-548-8755 \nSee flyer below for complete details.
URL:https://kentuckycruises.com/event/barneys-auto-fest-3/
LOCATION:Cherry House\, 2419 S. Hwy. 53\, La Grange\, KY\, 40031\, United States
ATTACH;FMTTYPE=image/jpeg:https://kentuckycruises.com/wp-content/uploads/2023/05/barneys_23.jpg
GEO:38.389151;-85.3631939
X-APPLE-STRUCTURED-LOCATION;VALUE=URI;X-ADDRESS=Cherry House 2419 S. Hwy. 53 La Grange KY 40031 United States;X-APPLE-RADIUS=500;X-TITLE=2419 S. Hwy. 53:geo:-85.3631939,38.389151
END:VEVENT
BEGIN:VEVENT
DTSTART;TZID=America/Kentucky/Louisville:20220924T160000
DTEND;TZID=America/Kentucky/Louisville:20220924T200000
DTSTAMP:20260425T073704
CREATED:20210428T202216Z
LAST-MODIFIED:20220424T133810Z
UID:10009467-1664035200-1664049600@kentuckycruises.com
SUMMARY:Cruisin' with the Quads
DESCRIPTION:Open to All Cars\, Trucks and Bikes.\n\nJoin Us for a Saturday Evening of Shopping\, 50/50\, DJ and Door Prizes. \nSponsored by Quads Rod and Custom Car Club \nLagrange Crossroads District\nMain Street Lagrange\nI-71 Exit 22. Hwy 53 to Main Street \n4-8PM \n\n\nFourth Saturday of the month thru September \n\nFor More Information please contact Barney (502) 548-8755 or visit www.quadrodsandcustoms.com\nNot responsible for accidents\, theft or damages.  No alcohol
URL:https://kentuckycruises.com/event/cruisin-with-the-quads-16/2022-09-24/
LOCATION:Lagrange Crossroads District\, main street\, Lagrange\, KY\, 40031\, United States
ATTACH;FMTTYPE=image/jpeg:https://kentuckycruises.com/wp-content/uploads/2021/04/187862261_10158231010817215_873090880994360708_n.jpg
GEO:38.4068742;-85.3821549
X-APPLE-STRUCTURED-LOCATION;VALUE=URI;X-ADDRESS=Lagrange Crossroads District main street Lagrange KY 40031 United States;X-APPLE-RADIUS=500;X-TITLE=main street:geo:-85.3821549,38.4068742
END:VEVENT
BEGIN:VEVENT
DTSTART;TZID=America/Kentucky/Louisville:20220827T160000
DTEND;TZID=America/Kentucky/Louisville:20220827T200000
DTSTAMP:20260425T073704
CREATED:20210428T202216Z
LAST-MODIFIED:20220424T133810Z
UID:10009466-1661616000-1661630400@kentuckycruises.com
SUMMARY:Cruisin' with the Quads
DESCRIPTION:Open to All Cars\, Trucks and Bikes.\n\nJoin Us for a Saturday Evening of Shopping\, 50/50\, DJ and Door Prizes. \nSponsored by Quads Rod and Custom Car Club \nLagrange Crossroads District\nMain Street Lagrange\nI-71 Exit 22. Hwy 53 to Main Street \n4-8PM \n\n\nFourth Saturday of the month thru September \n\nFor More Information please contact Barney (502) 548-8755 or visit www.quadrodsandcustoms.com\nNot responsible for accidents\, theft or damages.  No alcohol
URL:https://kentuckycruises.com/event/cruisin-with-the-quads-16/2022-08-27/
LOCATION:Lagrange Crossroads District\, main street\, Lagrange\, KY\, 40031\, United States
ATTACH;FMTTYPE=image/jpeg:https://kentuckycruises.com/wp-content/uploads/2021/04/187862261_10158231010817215_873090880994360708_n.jpg
GEO:38.4068742;-85.3821549
X-APPLE-STRUCTURED-LOCATION;VALUE=URI;X-ADDRESS=Lagrange Crossroads District main street Lagrange KY 40031 United States;X-APPLE-RADIUS=500;X-TITLE=main street:geo:-85.3821549,38.4068742
END:VEVENT
BEGIN:VEVENT
DTSTART;TZID=America/Kentucky/Louisville:20220723T160000
DTEND;TZID=America/Kentucky/Louisville:20220723T200000
DTSTAMP:20260425T073704
CREATED:20210428T202216Z
LAST-MODIFIED:20220424T133810Z
UID:10009465-1658592000-1658606400@kentuckycruises.com
SUMMARY:Cruisin' with the Quads
DESCRIPTION:Open to All Cars\, Trucks and Bikes.\n\nJoin Us for a Saturday Evening of Shopping\, 50/50\, DJ and Door Prizes. \nSponsored by Quads Rod and Custom Car Club \nLagrange Crossroads District\nMain Street Lagrange\nI-71 Exit 22. Hwy 53 to Main Street \n4-8PM \n\n\nFourth Saturday of the month thru September \n\nFor More Information please contact Barney (502) 548-8755 or visit www.quadrodsandcustoms.com\nNot responsible for accidents\, theft or damages.  No alcohol
URL:https://kentuckycruises.com/event/cruisin-with-the-quads-16/2022-07-23/
LOCATION:Lagrange Crossroads District\, main street\, Lagrange\, KY\, 40031\, United States
ATTACH;FMTTYPE=image/jpeg:https://kentuckycruises.com/wp-content/uploads/2021/04/187862261_10158231010817215_873090880994360708_n.jpg
GEO:38.4068742;-85.3821549
X-APPLE-STRUCTURED-LOCATION;VALUE=URI;X-ADDRESS=Lagrange Crossroads District main street Lagrange KY 40031 United States;X-APPLE-RADIUS=500;X-TITLE=main street:geo:-85.3821549,38.4068742
END:VEVENT
BEGIN:VEVENT
DTSTART;TZID=America/Kentucky/Louisville:20220702T090000
DTEND;TZID=America/Kentucky/Louisville:20220702T170000
DTSTAMP:20260425T073704
CREATED:20210430T031003Z
LAST-MODIFIED:20220702T042957Z
UID:10009542-1656752400-1656781200@kentuckycruises.com
SUMMARY:Barney's Auto Fest
DESCRIPTION:At  Cherry House Furniture Store\n2419 South Highway 53\, LaGrange\, KY\, 40031 \nFrom 9AM-5PM \nOpen Car show – Cars\, Trucks\, Motorcycles welcome \nRegistration is $20 at the Gate \nQuad Rods & Custom Car Club\nFor More Information please call Barney 502-548-8755 \nSee flyer below for complete details.
URL:https://kentuckycruises.com/event/barneys-auto-fest-2/
LOCATION:Cherry House\, 2419 S. Hwy. 53\, La Grange\, KY\, 40031\, United States
ATTACH;FMTTYPE=image/jpeg:https://kentuckycruises.com/wp-content/uploads/2021/04/291217624_5183921898366257_9062465268829876729_n.jpg
GEO:38.389151;-85.3631939
X-APPLE-STRUCTURED-LOCATION;VALUE=URI;X-ADDRESS=Cherry House 2419 S. Hwy. 53 La Grange KY 40031 United States;X-APPLE-RADIUS=500;X-TITLE=2419 S. Hwy. 53:geo:-85.3631939,38.389151
END:VEVENT
BEGIN:VEVENT
DTSTART;TZID=America/Kentucky/Louisville:20220625T160000
DTEND;TZID=America/Kentucky/Louisville:20220625T200000
DTSTAMP:20260425T073704
CREATED:20210428T202216Z
LAST-MODIFIED:20220424T133810Z
UID:10009464-1656172800-1656187200@kentuckycruises.com
SUMMARY:Cruisin' with the Quads
DESCRIPTION:Open to All Cars\, Trucks and Bikes.\n\nJoin Us for a Saturday Evening of Shopping\, 50/50\, DJ and Door Prizes. \nSponsored by Quads Rod and Custom Car Club \nLagrange Crossroads District\nMain Street Lagrange\nI-71 Exit 22. Hwy 53 to Main Street \n4-8PM \n\n\nFourth Saturday of the month thru September \n\nFor More Information please contact Barney (502) 548-8755 or visit www.quadrodsandcustoms.com\nNot responsible for accidents\, theft or damages.  No alcohol
URL:https://kentuckycruises.com/event/cruisin-with-the-quads-16/2022-06-25/
LOCATION:Lagrange Crossroads District\, main street\, Lagrange\, KY\, 40031\, United States
ATTACH;FMTTYPE=image/jpeg:https://kentuckycruises.com/wp-content/uploads/2021/04/187862261_10158231010817215_873090880994360708_n.jpg
GEO:38.4068742;-85.3821549
X-APPLE-STRUCTURED-LOCATION;VALUE=URI;X-ADDRESS=Lagrange Crossroads District main street Lagrange KY 40031 United States;X-APPLE-RADIUS=500;X-TITLE=main street:geo:-85.3821549,38.4068742
END:VEVENT
BEGIN:VEVENT
DTSTART;TZID=America/Kentucky/Louisville:20220528T160000
DTEND;TZID=America/Kentucky/Louisville:20220528T200000
DTSTAMP:20260425T073704
CREATED:20210428T202216Z
LAST-MODIFIED:20220424T133810Z
UID:10009463-1653753600-1653768000@kentuckycruises.com
SUMMARY:Cruisin' with the Quads
DESCRIPTION:Open to All Cars\, Trucks and Bikes.\n\nJoin Us for a Saturday Evening of Shopping\, 50/50\, DJ and Door Prizes. \nSponsored by Quads Rod and Custom Car Club \nLagrange Crossroads District\nMain Street Lagrange\nI-71 Exit 22. Hwy 53 to Main Street \n4-8PM \n\n\nFourth Saturday of the month thru September \n\nFor More Information please contact Barney (502) 548-8755 or visit www.quadrodsandcustoms.com\nNot responsible for accidents\, theft or damages.  No alcohol
URL:https://kentuckycruises.com/event/cruisin-with-the-quads-16/2022-05-28/
LOCATION:Lagrange Crossroads District\, main street\, Lagrange\, KY\, 40031\, United States
ATTACH;FMTTYPE=image/jpeg:https://kentuckycruises.com/wp-content/uploads/2021/04/187862261_10158231010817215_873090880994360708_n.jpg
GEO:38.4068742;-85.3821549
X-APPLE-STRUCTURED-LOCATION;VALUE=URI;X-ADDRESS=Lagrange Crossroads District main street Lagrange KY 40031 United States;X-APPLE-RADIUS=500;X-TITLE=main street:geo:-85.3821549,38.4068742
END:VEVENT
BEGIN:VEVENT
DTSTART;TZID=America/Kentucky/Louisville:20220423T160000
DTEND;TZID=America/Kentucky/Louisville:20220423T200000
DTSTAMP:20260425T073704
CREATED:20210428T202216Z
LAST-MODIFIED:20220424T133810Z
UID:10009462-1650729600-1650744000@kentuckycruises.com
SUMMARY:Cruisin' with the Quads
DESCRIPTION:Open to All Cars\, Trucks and Bikes.\n\nJoin Us for a Saturday Evening of Shopping\, 50/50\, DJ and Door Prizes. \nSponsored by Quads Rod and Custom Car Club \nLagrange Crossroads District\nMain Street Lagrange\nI-71 Exit 22. Hwy 53 to Main Street \n4-8PM \n\n\nFourth Saturday of the month thru September \n\nFor More Information please contact Barney (502) 548-8755 or visit www.quadrodsandcustoms.com\nNot responsible for accidents\, theft or damages.  No alcohol
URL:https://kentuckycruises.com/event/cruisin-with-the-quads-16/2022-04-23/
LOCATION:Lagrange Crossroads District\, main street\, Lagrange\, KY\, 40031\, United States
ATTACH;FMTTYPE=image/jpeg:https://kentuckycruises.com/wp-content/uploads/2021/04/187862261_10158231010817215_873090880994360708_n.jpg
GEO:38.4068742;-85.3821549
X-APPLE-STRUCTURED-LOCATION;VALUE=URI;X-ADDRESS=Lagrange Crossroads District main street Lagrange KY 40031 United States;X-APPLE-RADIUS=500;X-TITLE=main street:geo:-85.3821549,38.4068742
END:VEVENT
BEGIN:VEVENT
DTSTART;TZID=America/Kentucky/Louisville:20210910T163000
DTEND;TZID=America/Kentucky/Louisville:20210910T230000
DTSTAMP:20260425T073704
CREATED:20210909T222204Z
LAST-MODIFIED:20210909T222255Z
UID:10010039-1631291400-1631314800@kentuckycruises.com
SUMMARY:Quads Car Club at Maple Park
DESCRIPTION:Car show and Back to the Future in the park \n\nClick below to enlarge for details.
URL:https://kentuckycruises.com/event/quads-car-club-at-maple-park/
LOCATION:The Maples Park\, 6826 W State Hwy 22\, Crestwood\, KY\, 40014\, United States
ATTACH;FMTTYPE=image/jpeg:https://kentuckycruises.com/wp-content/uploads/2021/09/241657524_10223458485707703_5232556766395223492_n.jpg
GEO:38.3244696;-85.4775901
X-APPLE-STRUCTURED-LOCATION;VALUE=URI;X-ADDRESS=The Maples Park 6826 W State Hwy 22 Crestwood KY 40014 United States;X-APPLE-RADIUS=500;X-TITLE=6826 W State Hwy 22:geo:-85.4775901,38.3244696
END:VEVENT
END:VCALENDAR