BEGIN:VCALENDAR
VERSION:2.0
PRODID:-//Kentucky Cruises - ECPv6.6.3//NONSGML v1.0//EN
CALSCALE:GREGORIAN
METHOD:PUBLISH
X-WR-CALNAME:Kentucky Cruises
X-ORIGINAL-URL:https://kentuckycruises.com
X-WR-CALDESC:Events for Kentucky Cruises
REFRESH-INTERVAL;VALUE=DURATION:PT1H
X-Robots-Tag:noindex
X-PUBLISHED-TTL:PT1H
BEGIN:VTIMEZONE
TZID:America/Kentucky/Louisville
BEGIN:DAYLIGHT
TZOFFSETFROM:-0500
TZOFFSETTO:-0400
TZNAME:EDT
DTSTART:20210314T070000
END:DAYLIGHT
BEGIN:STANDARD
TZOFFSETFROM:-0400
TZOFFSETTO:-0500
TZNAME:EST
DTSTART:20211107T060000
END:STANDARD
END:VTIMEZONE
BEGIN:VEVENT
DTSTART;TZID=America/Kentucky/Louisville:20210723T080000
DTEND;TZID=America/Kentucky/Louisville:20210724T170000
DTSTAMP:20260419T094714
CREATED:20210719T190410Z
LAST-MODIFIED:20210719T190410Z
UID:10009895-1627027200-1627146000@kentuckycruises.com
SUMMARY:OSCA Cruise In and Drags
DESCRIPTION:We think this is going to be the event of the year for us featuring all types of Championship Drag racing. \nWe are very excited to be hosting awesome classes like Extreme 10.5 presented by Bullseye Power Turbochargers\, Outlaw Top Sportsman\, Small Tire heads up\, Indexes\, Open Comp\, Jrs\, Street legal classes and even a High Roller Bracket. \nPLUS we are thrilled to be hosting our special guest Heather Storm who will be signing FREE posters and taking lots of pics. \nWe are offering a Cruise-In for local car enthusiasts to show off their rides. \nFriday features TNT and a Gambler Bracket. Saturday is a full day of OSCA racing and cruise in. \nYou can make your weekend complete by sticking around Sunday for NHRA Bracket racing presented by Beech Bend Raceway Park. \nIt’s gonna be an awesome weekend full of ACTION and FUN. DON’T MISS IT! \nSee our Facebook page for complete details https://www.facebook.com/outlawstreetcars/ \nThere is much more info on their Facebook page\, but here’s a teaser for the Cruise In
URL:https://kentuckycruises.com/event/osca-cruise-in-and-drags/
LOCATION:Beech Bend Raceway Park\, 798 Beech Bend Park Rd\, Bowling Green\, KY\, 42101\, United States
ATTACH;FMTTYPE=image/png:https://kentuckycruises.com/wp-content/uploads/2021/07/logo-osca.png
GEO:37.0219495;-86.4015456
X-APPLE-STRUCTURED-LOCATION;VALUE=URI;X-ADDRESS=Beech Bend Raceway Park 798 Beech Bend Park Rd Bowling Green KY 42101 United States;X-APPLE-RADIUS=500;X-TITLE=798 Beech Bend Park Rd:geo:-86.4015456,37.0219495
END:VEVENT
END:VCALENDAR