BEGIN:VCALENDAR
VERSION:2.0
PRODID:-//Kentucky Cruises - ECPv6.6.3//NONSGML v1.0//EN
CALSCALE:GREGORIAN
METHOD:PUBLISH
X-ORIGINAL-URL:https://kentuckycruises.com
X-WR-CALDESC:Events for Kentucky Cruises
REFRESH-INTERVAL;VALUE=DURATION:PT1H
X-Robots-Tag:noindex
X-PUBLISHED-TTL:PT1H
BEGIN:VTIMEZONE
TZID:America/Kentucky/Louisville
BEGIN:DAYLIGHT
TZOFFSETFROM:-0500
TZOFFSETTO:-0400
TZNAME:EDT
DTSTART:20220313T070000
END:DAYLIGHT
BEGIN:STANDARD
TZOFFSETFROM:-0400
TZOFFSETTO:-0500
TZNAME:EST
DTSTART:20221106T060000
END:STANDARD
END:VTIMEZONE
BEGIN:VEVENT
DTSTART;TZID=America/Kentucky/Louisville:20220305T090000
DTEND;TZID=America/Kentucky/Louisville:20220305T120000
DTSTAMP:20260424T134229
CREATED:20220213T020208Z
LAST-MODIFIED:20220213T020208Z
UID:10010221-1646470800-1646481600@kentuckycruises.com
SUMMARY:Nashville Cars n' Coffee Presented by Nissan
DESCRIPTION:Bring out the whole family to this FREE to attend\, Shine n’ Show at 633 Frazier Drive\, from 8-11am. \nIf you are a car related vendor\, send us a message for more info. \nhttps://www.facebook.com/events/503055491169564 \n 
URL:https://kentuckycruises.com/event/nashville-cars-n-coffee-presented-by-nissan/
LOCATION:Nashville Cars & Coffee\, 633 Frazier Drive\, Franklin\, TN\, 37067\, United States
ATTACH;FMTTYPE=image/jpeg:https://kentuckycruises.com/wp-content/uploads/2022/02/273641327_6841509852589055_4618546173899610521_n.jpg
GEO:35.9429324;-86.8237984
X-APPLE-STRUCTURED-LOCATION;VALUE=URI;X-ADDRESS=Nashville Cars & Coffee 633 Frazier Drive Franklin TN 37067 United States;X-APPLE-RADIUS=500;X-TITLE=633 Frazier Drive:geo:-86.8237984,35.9429324
END:VEVENT
END:VCALENDAR