BEGIN:VCALENDAR
VERSION:2.0
PRODID:-//Kentucky Cruises - ECPv6.6.3//NONSGML v1.0//EN
CALSCALE:GREGORIAN
METHOD:PUBLISH
X-WR-CALNAME:Kentucky Cruises
X-ORIGINAL-URL:https://kentuckycruises.com
X-WR-CALDESC:Events for Kentucky Cruises
REFRESH-INTERVAL;VALUE=DURATION:PT1H
X-Robots-Tag:noindex
X-PUBLISHED-TTL:PT1H
BEGIN:VTIMEZONE
TZID:America/Kentucky/Louisville
BEGIN:DAYLIGHT
TZOFFSETFROM:-0500
TZOFFSETTO:-0400
TZNAME:EDT
DTSTART:20210314T070000
END:DAYLIGHT
BEGIN:STANDARD
TZOFFSETFROM:-0400
TZOFFSETTO:-0500
TZNAME:EST
DTSTART:20211107T060000
END:STANDARD
BEGIN:DAYLIGHT
TZOFFSETFROM:-0500
TZOFFSETTO:-0400
TZNAME:EDT
DTSTART:20220313T070000
END:DAYLIGHT
BEGIN:STANDARD
TZOFFSETFROM:-0400
TZOFFSETTO:-0500
TZNAME:EST
DTSTART:20221106T060000
END:STANDARD
BEGIN:DAYLIGHT
TZOFFSETFROM:-0500
TZOFFSETTO:-0400
TZNAME:EDT
DTSTART:20230312T070000
END:DAYLIGHT
BEGIN:STANDARD
TZOFFSETFROM:-0400
TZOFFSETTO:-0500
TZNAME:EST
DTSTART:20231105T060000
END:STANDARD
END:VTIMEZONE
BEGIN:VEVENT
DTSTART;TZID=America/Kentucky/Louisville:20231019T180000
DTEND;TZID=America/Kentucky/Louisville:20231019T200000
DTSTAMP:20260420T044548
CREATED:20230505T231019Z
LAST-MODIFIED:20230505T231019Z
UID:10008854-1697738400-1697745600@kentuckycruises.com
SUMMARY:Cruise Night @ BoomBozz Hurstbourne
DESCRIPTION:https://www.facebook.com/events/1516430372218204/1516430382218203 \n 
URL:https://kentuckycruises.com/event/cruise-night-boombozz-hurstbourne/2023-10-19/
LOCATION:BoomBozz – Hurstbourne\, 1890 S. Hurstbourne Pkwy\, Louisville\, 40220
ATTACH;FMTTYPE=image/jpeg:https://kentuckycruises.com/wp-content/uploads/2023/05/344545446_125078067234680_86936734206637767_n.jpg
GEO:38.2194234;-85.5842024
X-APPLE-STRUCTURED-LOCATION;VALUE=URI;X-ADDRESS=BoomBozz – Hurstbourne 1890 S. Hurstbourne Pkwy Louisville 40220;X-APPLE-RADIUS=500;X-TITLE=1890 S. Hurstbourne Pkwy:geo:-85.5842024,38.2194234
END:VEVENT
BEGIN:VEVENT
DTSTART;TZID=America/Kentucky/Louisville:20230921T180000
DTEND;TZID=America/Kentucky/Louisville:20230921T200000
DTSTAMP:20260420T044548
CREATED:20230505T231019Z
LAST-MODIFIED:20230505T231019Z
UID:10008853-1695319200-1695326400@kentuckycruises.com
SUMMARY:Cruise Night @ BoomBozz Hurstbourne
DESCRIPTION:https://www.facebook.com/events/1516430372218204/1516430382218203 \n 
URL:https://kentuckycruises.com/event/cruise-night-boombozz-hurstbourne/2023-09-21/
LOCATION:BoomBozz – Hurstbourne\, 1890 S. Hurstbourne Pkwy\, Louisville\, 40220
ATTACH;FMTTYPE=image/jpeg:https://kentuckycruises.com/wp-content/uploads/2023/05/344545446_125078067234680_86936734206637767_n.jpg
GEO:38.2194234;-85.5842024
X-APPLE-STRUCTURED-LOCATION;VALUE=URI;X-ADDRESS=BoomBozz – Hurstbourne 1890 S. Hurstbourne Pkwy Louisville 40220;X-APPLE-RADIUS=500;X-TITLE=1890 S. Hurstbourne Pkwy:geo:-85.5842024,38.2194234
END:VEVENT
BEGIN:VEVENT
DTSTART;TZID=America/Kentucky/Louisville:20230817T180000
DTEND;TZID=America/Kentucky/Louisville:20230817T200000
DTSTAMP:20260420T044548
CREATED:20230505T231019Z
LAST-MODIFIED:20230505T231019Z
UID:10008852-1692295200-1692302400@kentuckycruises.com
SUMMARY:Cruise Night @ BoomBozz Hurstbourne
DESCRIPTION:https://www.facebook.com/events/1516430372218204/1516430382218203 \n 
URL:https://kentuckycruises.com/event/cruise-night-boombozz-hurstbourne/2023-08-17/
LOCATION:BoomBozz – Hurstbourne\, 1890 S. Hurstbourne Pkwy\, Louisville\, 40220
ATTACH;FMTTYPE=image/jpeg:https://kentuckycruises.com/wp-content/uploads/2023/05/344545446_125078067234680_86936734206637767_n.jpg
GEO:38.2194234;-85.5842024
X-APPLE-STRUCTURED-LOCATION;VALUE=URI;X-ADDRESS=BoomBozz – Hurstbourne 1890 S. Hurstbourne Pkwy Louisville 40220;X-APPLE-RADIUS=500;X-TITLE=1890 S. Hurstbourne Pkwy:geo:-85.5842024,38.2194234
END:VEVENT
BEGIN:VEVENT
DTSTART;TZID=America/Kentucky/Louisville:20230720T180000
DTEND;TZID=America/Kentucky/Louisville:20230720T200000
DTSTAMP:20260420T044548
CREATED:20230505T231019Z
LAST-MODIFIED:20230505T231019Z
UID:10008851-1689876000-1689883200@kentuckycruises.com
SUMMARY:Cruise Night @ BoomBozz Hurstbourne
DESCRIPTION:https://www.facebook.com/events/1516430372218204/1516430382218203 \n 
URL:https://kentuckycruises.com/event/cruise-night-boombozz-hurstbourne/2023-07-20/
LOCATION:BoomBozz – Hurstbourne\, 1890 S. Hurstbourne Pkwy\, Louisville\, 40220
ATTACH;FMTTYPE=image/jpeg:https://kentuckycruises.com/wp-content/uploads/2023/05/344545446_125078067234680_86936734206637767_n.jpg
GEO:38.2194234;-85.5842024
X-APPLE-STRUCTURED-LOCATION;VALUE=URI;X-ADDRESS=BoomBozz – Hurstbourne 1890 S. Hurstbourne Pkwy Louisville 40220;X-APPLE-RADIUS=500;X-TITLE=1890 S. Hurstbourne Pkwy:geo:-85.5842024,38.2194234
END:VEVENT
BEGIN:VEVENT
DTSTART;TZID=America/Kentucky/Louisville:20230615T180000
DTEND;TZID=America/Kentucky/Louisville:20230615T200000
DTSTAMP:20260420T044548
CREATED:20230505T231019Z
LAST-MODIFIED:20230505T231019Z
UID:10008850-1686852000-1686859200@kentuckycruises.com
SUMMARY:Cruise Night @ BoomBozz Hurstbourne
DESCRIPTION:https://www.facebook.com/events/1516430372218204/1516430382218203 \n 
URL:https://kentuckycruises.com/event/cruise-night-boombozz-hurstbourne/2023-06-15/
LOCATION:BoomBozz – Hurstbourne\, 1890 S. Hurstbourne Pkwy\, Louisville\, 40220
ATTACH;FMTTYPE=image/jpeg:https://kentuckycruises.com/wp-content/uploads/2023/05/344545446_125078067234680_86936734206637767_n.jpg
GEO:38.2194234;-85.5842024
X-APPLE-STRUCTURED-LOCATION;VALUE=URI;X-ADDRESS=BoomBozz – Hurstbourne 1890 S. Hurstbourne Pkwy Louisville 40220;X-APPLE-RADIUS=500;X-TITLE=1890 S. Hurstbourne Pkwy:geo:-85.5842024,38.2194234
END:VEVENT
BEGIN:VEVENT
DTSTART;TZID=America/Kentucky/Louisville:20230518T180000
DTEND;TZID=America/Kentucky/Louisville:20230518T200000
DTSTAMP:20260420T044548
CREATED:20230505T231019Z
LAST-MODIFIED:20230505T231019Z
UID:10008849-1684432800-1684440000@kentuckycruises.com
SUMMARY:Cruise Night @ BoomBozz Hurstbourne
DESCRIPTION:https://www.facebook.com/events/1516430372218204/1516430382218203 \n 
URL:https://kentuckycruises.com/event/cruise-night-boombozz-hurstbourne/2023-05-18/
LOCATION:BoomBozz – Hurstbourne\, 1890 S. Hurstbourne Pkwy\, Louisville\, 40220
ATTACH;FMTTYPE=image/jpeg:https://kentuckycruises.com/wp-content/uploads/2023/05/344545446_125078067234680_86936734206637767_n.jpg
GEO:38.2194234;-85.5842024
X-APPLE-STRUCTURED-LOCATION;VALUE=URI;X-ADDRESS=BoomBozz – Hurstbourne 1890 S. Hurstbourne Pkwy Louisville 40220;X-APPLE-RADIUS=500;X-TITLE=1890 S. Hurstbourne Pkwy:geo:-85.5842024,38.2194234
END:VEVENT
BEGIN:VEVENT
DTSTART;TZID=America/Kentucky/Louisville:20211021T180000
DTEND;TZID=America/Kentucky/Louisville:20211021T200000
DTSTAMP:20260420T044548
CREATED:20210427T000855Z
LAST-MODIFIED:20210430T000940Z
UID:10007419-1634839200-1634846400@kentuckycruises.com
SUMMARY:Car Cruise Night at Sonic in Shepherdsville
DESCRIPTION:It’s Cruise Time! \nMustang Friends KY_IN is proud to present the kickoff event our third year of Third Thursday night cruises.\nWe hope to see our regulars from previous years\, and hope to see some new faces and cars too. \nEveryone is welcome! \nThis cruise is open to all makes and models\, regardless of build status and number of wheels on the ground.\nEvery Third Thursday of the month\, April to October. \nPresented by : Mustang Friends in KY_IN \nClick flyer below for more info.
URL:https://kentuckycruises.com/event/car-cruise-night-at-sonic-in-shepherdsville/2021-10-21/
LOCATION:Sonic Drive In\, 408 Hwy 44E\, Shepherdsville\, KY\, 40165\, United States
ATTACH;FMTTYPE=image/jpeg:https://kentuckycruises.com/wp-content/uploads/2021/04/164055155_3583184648456649_2632706231280181270_n.jpg
GEO:38.0584484;-85.5253555
X-APPLE-STRUCTURED-LOCATION;VALUE=URI;X-ADDRESS=Sonic Drive In 408 Hwy 44E Shepherdsville KY 40165 United States;X-APPLE-RADIUS=500;X-TITLE=408 Hwy 44E:geo:-85.5253555,38.0584484
END:VEVENT
BEGIN:VEVENT
DTSTART;TZID=America/Kentucky/Louisville:20210916T180000
DTEND;TZID=America/Kentucky/Louisville:20210916T200000
DTSTAMP:20260420T044548
CREATED:20210427T000855Z
LAST-MODIFIED:20210430T000940Z
UID:10007418-1631815200-1631822400@kentuckycruises.com
SUMMARY:Car Cruise Night at Sonic in Shepherdsville
DESCRIPTION:It’s Cruise Time! \nMustang Friends KY_IN is proud to present the kickoff event our third year of Third Thursday night cruises.\nWe hope to see our regulars from previous years\, and hope to see some new faces and cars too. \nEveryone is welcome! \nThis cruise is open to all makes and models\, regardless of build status and number of wheels on the ground.\nEvery Third Thursday of the month\, April to October. \nPresented by : Mustang Friends in KY_IN \nClick flyer below for more info.
URL:https://kentuckycruises.com/event/car-cruise-night-at-sonic-in-shepherdsville/2021-09-16/
LOCATION:Sonic Drive In\, 408 Hwy 44E\, Shepherdsville\, KY\, 40165\, United States
ATTACH;FMTTYPE=image/jpeg:https://kentuckycruises.com/wp-content/uploads/2021/04/164055155_3583184648456649_2632706231280181270_n.jpg
GEO:38.0584484;-85.5253555
X-APPLE-STRUCTURED-LOCATION;VALUE=URI;X-ADDRESS=Sonic Drive In 408 Hwy 44E Shepherdsville KY 40165 United States;X-APPLE-RADIUS=500;X-TITLE=408 Hwy 44E:geo:-85.5253555,38.0584484
END:VEVENT
BEGIN:VEVENT
DTSTART;TZID=America/Kentucky/Louisville:20210819T180000
DTEND;TZID=America/Kentucky/Louisville:20210819T200000
DTSTAMP:20260420T044548
CREATED:20210427T000855Z
LAST-MODIFIED:20210430T000940Z
UID:10007417-1629396000-1629403200@kentuckycruises.com
SUMMARY:Car Cruise Night at Sonic in Shepherdsville
DESCRIPTION:It’s Cruise Time! \nMustang Friends KY_IN is proud to present the kickoff event our third year of Third Thursday night cruises.\nWe hope to see our regulars from previous years\, and hope to see some new faces and cars too. \nEveryone is welcome! \nThis cruise is open to all makes and models\, regardless of build status and number of wheels on the ground.\nEvery Third Thursday of the month\, April to October. \nPresented by : Mustang Friends in KY_IN \nClick flyer below for more info.
URL:https://kentuckycruises.com/event/car-cruise-night-at-sonic-in-shepherdsville/2021-08-19/
LOCATION:Sonic Drive In\, 408 Hwy 44E\, Shepherdsville\, KY\, 40165\, United States
ATTACH;FMTTYPE=image/jpeg:https://kentuckycruises.com/wp-content/uploads/2021/04/164055155_3583184648456649_2632706231280181270_n.jpg
GEO:38.0584484;-85.5253555
X-APPLE-STRUCTURED-LOCATION;VALUE=URI;X-ADDRESS=Sonic Drive In 408 Hwy 44E Shepherdsville KY 40165 United States;X-APPLE-RADIUS=500;X-TITLE=408 Hwy 44E:geo:-85.5253555,38.0584484
END:VEVENT
BEGIN:VEVENT
DTSTART;TZID=America/Kentucky/Louisville:20210715T180000
DTEND;TZID=America/Kentucky/Louisville:20210715T200000
DTSTAMP:20260420T044548
CREATED:20210427T000855Z
LAST-MODIFIED:20210430T000940Z
UID:10007416-1626372000-1626379200@kentuckycruises.com
SUMMARY:Car Cruise Night at Sonic in Shepherdsville
DESCRIPTION:It’s Cruise Time! \nMustang Friends KY_IN is proud to present the kickoff event our third year of Third Thursday night cruises.\nWe hope to see our regulars from previous years\, and hope to see some new faces and cars too. \nEveryone is welcome! \nThis cruise is open to all makes and models\, regardless of build status and number of wheels on the ground.\nEvery Third Thursday of the month\, April to October. \nPresented by : Mustang Friends in KY_IN \nClick flyer below for more info.
URL:https://kentuckycruises.com/event/car-cruise-night-at-sonic-in-shepherdsville/2021-07-15/
LOCATION:Sonic Drive In\, 408 Hwy 44E\, Shepherdsville\, KY\, 40165\, United States
ATTACH;FMTTYPE=image/jpeg:https://kentuckycruises.com/wp-content/uploads/2021/04/164055155_3583184648456649_2632706231280181270_n.jpg
GEO:38.0584484;-85.5253555
X-APPLE-STRUCTURED-LOCATION;VALUE=URI;X-ADDRESS=Sonic Drive In 408 Hwy 44E Shepherdsville KY 40165 United States;X-APPLE-RADIUS=500;X-TITLE=408 Hwy 44E:geo:-85.5253555,38.0584484
END:VEVENT
BEGIN:VEVENT
DTSTART;TZID=America/Kentucky/Louisville:20210617T180000
DTEND;TZID=America/Kentucky/Louisville:20210617T200000
DTSTAMP:20260420T044548
CREATED:20210427T000855Z
LAST-MODIFIED:20210430T000940Z
UID:10007415-1623952800-1623960000@kentuckycruises.com
SUMMARY:Car Cruise Night at Sonic in Shepherdsville
DESCRIPTION:It’s Cruise Time! \nMustang Friends KY_IN is proud to present the kickoff event our third year of Third Thursday night cruises.\nWe hope to see our regulars from previous years\, and hope to see some new faces and cars too. \nEveryone is welcome! \nThis cruise is open to all makes and models\, regardless of build status and number of wheels on the ground.\nEvery Third Thursday of the month\, April to October. \nPresented by : Mustang Friends in KY_IN \nClick flyer below for more info.
URL:https://kentuckycruises.com/event/car-cruise-night-at-sonic-in-shepherdsville/2021-06-17/
LOCATION:Sonic Drive In\, 408 Hwy 44E\, Shepherdsville\, KY\, 40165\, United States
ATTACH;FMTTYPE=image/jpeg:https://kentuckycruises.com/wp-content/uploads/2021/04/164055155_3583184648456649_2632706231280181270_n.jpg
GEO:38.0584484;-85.5253555
X-APPLE-STRUCTURED-LOCATION;VALUE=URI;X-ADDRESS=Sonic Drive In 408 Hwy 44E Shepherdsville KY 40165 United States;X-APPLE-RADIUS=500;X-TITLE=408 Hwy 44E:geo:-85.5253555,38.0584484
END:VEVENT
BEGIN:VEVENT
DTSTART;TZID=America/Kentucky/Louisville:20210605T063000
DTEND;TZID=America/Kentucky/Louisville:20210605T120000
DTSTAMP:20260420T044548
CREATED:20210529T041242Z
LAST-MODIFIED:20210529T041346Z
UID:10009767-1622874600-1622894400@kentuckycruises.com
SUMMARY:Cruise to Nashville Cars and Coffee
DESCRIPTION:Mustang Friends of KY_IN \nGonna hit up cars and coffee in Nashville Sat June 5th. \nWe will leave Meijer at 630 am and head to Nashville from there. \n 
URL:https://kentuckycruises.com/event/cruise-to-nashville-cars-and-coffee/
LOCATION:Meijer\, 9500 Preston Hwy\, Louisville\, KY\, 40229\, United States
ATTACH;FMTTYPE=image/jpeg:https://kentuckycruises.com/wp-content/uploads/2021/05/189954233_10225498773393077_5746956170704195250_n.jpg
GEO:38.1124437;-85.6798114
X-APPLE-STRUCTURED-LOCATION;VALUE=URI;X-ADDRESS=Meijer 9500 Preston Hwy Louisville KY 40229 United States;X-APPLE-RADIUS=500;X-TITLE=9500 Preston Hwy:geo:-85.6798114,38.1124437
END:VEVENT
BEGIN:VEVENT
DTSTART;TZID=America/Kentucky/Louisville:20210520T180000
DTEND;TZID=America/Kentucky/Louisville:20210520T200000
DTSTAMP:20260420T044548
CREATED:20210427T000855Z
LAST-MODIFIED:20210430T000940Z
UID:10007414-1621533600-1621540800@kentuckycruises.com
SUMMARY:Car Cruise Night at Sonic in Shepherdsville
DESCRIPTION:It’s Cruise Time! \nMustang Friends KY_IN is proud to present the kickoff event our third year of Third Thursday night cruises.\nWe hope to see our regulars from previous years\, and hope to see some new faces and cars too. \nEveryone is welcome! \nThis cruise is open to all makes and models\, regardless of build status and number of wheels on the ground.\nEvery Third Thursday of the month\, April to October. \nPresented by : Mustang Friends in KY_IN \nClick flyer below for more info.
URL:https://kentuckycruises.com/event/car-cruise-night-at-sonic-in-shepherdsville/2021-05-20/
LOCATION:Sonic Drive In\, 408 Hwy 44E\, Shepherdsville\, KY\, 40165\, United States
ATTACH;FMTTYPE=image/jpeg:https://kentuckycruises.com/wp-content/uploads/2021/04/164055155_3583184648456649_2632706231280181270_n.jpg
GEO:38.0584484;-85.5253555
X-APPLE-STRUCTURED-LOCATION;VALUE=URI;X-ADDRESS=Sonic Drive In 408 Hwy 44E Shepherdsville KY 40165 United States;X-APPLE-RADIUS=500;X-TITLE=408 Hwy 44E:geo:-85.5253555,38.0584484
END:VEVENT
END:VCALENDAR