BEGIN:VCALENDAR
VERSION:2.0
PRODID:-//Kentucky Cruises - ECPv6.6.3//NONSGML v1.0//EN
CALSCALE:GREGORIAN
METHOD:PUBLISH
X-WR-CALNAME:Kentucky Cruises
X-ORIGINAL-URL:https://kentuckycruises.com
X-WR-CALDESC:Events for Kentucky Cruises
REFRESH-INTERVAL;VALUE=DURATION:PT1H
X-Robots-Tag:noindex
X-PUBLISHED-TTL:PT1H
BEGIN:VTIMEZONE
TZID:America/Kentucky/Louisville
BEGIN:DAYLIGHT
TZOFFSETFROM:-0500
TZOFFSETTO:-0400
TZNAME:EDT
DTSTART:20210314T070000
END:DAYLIGHT
BEGIN:STANDARD
TZOFFSETFROM:-0400
TZOFFSETTO:-0500
TZNAME:EST
DTSTART:20211107T060000
END:STANDARD
BEGIN:DAYLIGHT
TZOFFSETFROM:-0500
TZOFFSETTO:-0400
TZNAME:EDT
DTSTART:20220313T070000
END:DAYLIGHT
BEGIN:STANDARD
TZOFFSETFROM:-0400
TZOFFSETTO:-0500
TZNAME:EST
DTSTART:20221106T060000
END:STANDARD
BEGIN:DAYLIGHT
TZOFFSETFROM:-0500
TZOFFSETTO:-0400
TZNAME:EDT
DTSTART:20230312T070000
END:DAYLIGHT
BEGIN:STANDARD
TZOFFSETFROM:-0400
TZOFFSETTO:-0500
TZNAME:EST
DTSTART:20231105T060000
END:STANDARD
BEGIN:DAYLIGHT
TZOFFSETFROM:-0500
TZOFFSETTO:-0400
TZNAME:EDT
DTSTART:20240310T070000
END:DAYLIGHT
BEGIN:STANDARD
TZOFFSETFROM:-0400
TZOFFSETTO:-0500
TZNAME:EST
DTSTART:20241103T060000
END:STANDARD
END:VTIMEZONE
BEGIN:VEVENT
DTSTART;TZID=America/Kentucky/Louisville:20241025T170000
DTEND;TZID=America/Kentucky/Louisville:20241025T210000
DTSTAMP:20260422T093736
CREATED:20240715T192412Z
LAST-MODIFIED:20240715T192759Z
UID:10011973-1729875600-1729890000@kentuckycruises.com
SUMMARY:Gearheads On Main
DESCRIPTION:With the popularity of Shows and Cruise-In in which most are held on Saturday we thought we would give you a choice in case you cannot make a Saturday or Sunday car show or cruise. We know most of us do have to still work but what better way to spend the evening throughout the summer\, than with fellow car enthusiasts. \nWe will start gathering at 5pm and go until 9pm. Being in downtown Taylorsville there will be plenty of places to park. Music will be provided. Looking forward to seeing all of you and your beautiful rides on Friday April 28 and every 4th Friday of the month throughout the summer through October. Thank you \n \n  \n  \n 
URL:https://kentuckycruises.com/event/gearheads-on-main-2/2024-10-25/
LOCATION:Main Street Taylorsville\, 12 W Main\, Taylorsville\, KY\, 40071\, United States
ATTACH;FMTTYPE=image/jpeg:https://kentuckycruises.com/wp-content/uploads/2023/04/432882611_10229062080728242_1946363759786500503_n.jpg
GEO:38.0311792;-85.3450704
X-APPLE-STRUCTURED-LOCATION;VALUE=URI;X-ADDRESS=Main Street Taylorsville 12 W Main Taylorsville KY 40071 United States;X-APPLE-RADIUS=500;X-TITLE=12 W Main:geo:-85.3450704,38.0311792
END:VEVENT
BEGIN:VEVENT
DTSTART;TZID=America/Kentucky/Louisville:20240927T170000
DTEND;TZID=America/Kentucky/Louisville:20240927T210000
DTSTAMP:20260422T093736
CREATED:20240715T192412Z
LAST-MODIFIED:20240715T192759Z
UID:10011972-1727456400-1727470800@kentuckycruises.com
SUMMARY:Gearheads On Main
DESCRIPTION:With the popularity of Shows and Cruise-In in which most are held on Saturday we thought we would give you a choice in case you cannot make a Saturday or Sunday car show or cruise. We know most of us do have to still work but what better way to spend the evening throughout the summer\, than with fellow car enthusiasts. \nWe will start gathering at 5pm and go until 9pm. Being in downtown Taylorsville there will be plenty of places to park. Music will be provided. Looking forward to seeing all of you and your beautiful rides on Friday April 28 and every 4th Friday of the month throughout the summer through October. Thank you \n \n  \n  \n 
URL:https://kentuckycruises.com/event/gearheads-on-main-2/2024-09-27/
LOCATION:Main Street Taylorsville\, 12 W Main\, Taylorsville\, KY\, 40071\, United States
ATTACH;FMTTYPE=image/jpeg:https://kentuckycruises.com/wp-content/uploads/2023/04/432882611_10229062080728242_1946363759786500503_n.jpg
GEO:38.0311792;-85.3450704
X-APPLE-STRUCTURED-LOCATION;VALUE=URI;X-ADDRESS=Main Street Taylorsville 12 W Main Taylorsville KY 40071 United States;X-APPLE-RADIUS=500;X-TITLE=12 W Main:geo:-85.3450704,38.0311792
END:VEVENT
BEGIN:VEVENT
DTSTART;TZID=America/Kentucky/Louisville:20240823T170000
DTEND;TZID=America/Kentucky/Louisville:20240823T210000
DTSTAMP:20260422T093736
CREATED:20240715T192412Z
LAST-MODIFIED:20240715T192759Z
UID:10011971-1724432400-1724446800@kentuckycruises.com
SUMMARY:Gearheads On Main
DESCRIPTION:With the popularity of Shows and Cruise-In in which most are held on Saturday we thought we would give you a choice in case you cannot make a Saturday or Sunday car show or cruise. We know most of us do have to still work but what better way to spend the evening throughout the summer\, than with fellow car enthusiasts. \nWe will start gathering at 5pm and go until 9pm. Being in downtown Taylorsville there will be plenty of places to park. Music will be provided. Looking forward to seeing all of you and your beautiful rides on Friday April 28 and every 4th Friday of the month throughout the summer through October. Thank you \n \n  \n  \n 
URL:https://kentuckycruises.com/event/gearheads-on-main-2/2024-08-23/
LOCATION:Main Street Taylorsville\, 12 W Main\, Taylorsville\, KY\, 40071\, United States
ATTACH;FMTTYPE=image/jpeg:https://kentuckycruises.com/wp-content/uploads/2023/04/432882611_10229062080728242_1946363759786500503_n.jpg
GEO:38.0311792;-85.3450704
X-APPLE-STRUCTURED-LOCATION;VALUE=URI;X-ADDRESS=Main Street Taylorsville 12 W Main Taylorsville KY 40071 United States;X-APPLE-RADIUS=500;X-TITLE=12 W Main:geo:-85.3450704,38.0311792
END:VEVENT
BEGIN:VEVENT
DTSTART;TZID=America/Kentucky/Louisville:20240726T170000
DTEND;TZID=America/Kentucky/Louisville:20240726T210000
DTSTAMP:20260422T093736
CREATED:20240715T192412Z
LAST-MODIFIED:20240715T192759Z
UID:10011970-1722013200-1722027600@kentuckycruises.com
SUMMARY:Gearheads On Main
DESCRIPTION:With the popularity of Shows and Cruise-In in which most are held on Saturday we thought we would give you a choice in case you cannot make a Saturday or Sunday car show or cruise. We know most of us do have to still work but what better way to spend the evening throughout the summer\, than with fellow car enthusiasts. \nWe will start gathering at 5pm and go until 9pm. Being in downtown Taylorsville there will be plenty of places to park. Music will be provided. Looking forward to seeing all of you and your beautiful rides on Friday April 28 and every 4th Friday of the month throughout the summer through October. Thank you \n \n  \n  \n 
URL:https://kentuckycruises.com/event/gearheads-on-main-2/2024-07-26/
LOCATION:Main Street Taylorsville\, 12 W Main\, Taylorsville\, KY\, 40071\, United States
ATTACH;FMTTYPE=image/jpeg:https://kentuckycruises.com/wp-content/uploads/2023/04/432882611_10229062080728242_1946363759786500503_n.jpg
GEO:38.0311792;-85.3450704
X-APPLE-STRUCTURED-LOCATION;VALUE=URI;X-ADDRESS=Main Street Taylorsville 12 W Main Taylorsville KY 40071 United States;X-APPLE-RADIUS=500;X-TITLE=12 W Main:geo:-85.3450704,38.0311792
END:VEVENT
BEGIN:VEVENT
DTSTART;TZID=America/Kentucky/Louisville:20240628T170000
DTEND;TZID=America/Kentucky/Louisville:20240628T210000
DTSTAMP:20260422T093736
CREATED:20240715T192412Z
LAST-MODIFIED:20240715T192759Z
UID:10011969-1719594000-1719608400@kentuckycruises.com
SUMMARY:Gearheads On Main
DESCRIPTION:With the popularity of Shows and Cruise-In in which most are held on Saturday we thought we would give you a choice in case you cannot make a Saturday or Sunday car show or cruise. We know most of us do have to still work but what better way to spend the evening throughout the summer\, than with fellow car enthusiasts. \nWe will start gathering at 5pm and go until 9pm. Being in downtown Taylorsville there will be plenty of places to park. Music will be provided. Looking forward to seeing all of you and your beautiful rides on Friday April 28 and every 4th Friday of the month throughout the summer through October. Thank you \n \n  \n  \n 
URL:https://kentuckycruises.com/event/gearheads-on-main-2/2024-06-28/
LOCATION:Main Street Taylorsville\, 12 W Main\, Taylorsville\, KY\, 40071\, United States
ATTACH;FMTTYPE=image/jpeg:https://kentuckycruises.com/wp-content/uploads/2023/04/432882611_10229062080728242_1946363759786500503_n.jpg
GEO:38.0311792;-85.3450704
X-APPLE-STRUCTURED-LOCATION;VALUE=URI;X-ADDRESS=Main Street Taylorsville 12 W Main Taylorsville KY 40071 United States;X-APPLE-RADIUS=500;X-TITLE=12 W Main:geo:-85.3450704,38.0311792
END:VEVENT
BEGIN:VEVENT
DTSTART;TZID=America/Kentucky/Louisville:20240524T170000
DTEND;TZID=America/Kentucky/Louisville:20240524T210000
DTSTAMP:20260422T093736
CREATED:20240715T192412Z
LAST-MODIFIED:20240715T192759Z
UID:10011968-1716570000-1716584400@kentuckycruises.com
SUMMARY:Gearheads On Main
DESCRIPTION:With the popularity of Shows and Cruise-In in which most are held on Saturday we thought we would give you a choice in case you cannot make a Saturday or Sunday car show or cruise. We know most of us do have to still work but what better way to spend the evening throughout the summer\, than with fellow car enthusiasts. \nWe will start gathering at 5pm and go until 9pm. Being in downtown Taylorsville there will be plenty of places to park. Music will be provided. Looking forward to seeing all of you and your beautiful rides on Friday April 28 and every 4th Friday of the month throughout the summer through October. Thank you \n \n  \n  \n 
URL:https://kentuckycruises.com/event/gearheads-on-main-2/2024-05-24/
LOCATION:Main Street Taylorsville\, 12 W Main\, Taylorsville\, KY\, 40071\, United States
ATTACH;FMTTYPE=image/jpeg:https://kentuckycruises.com/wp-content/uploads/2023/04/432882611_10229062080728242_1946363759786500503_n.jpg
GEO:38.0311792;-85.3450704
X-APPLE-STRUCTURED-LOCATION;VALUE=URI;X-ADDRESS=Main Street Taylorsville 12 W Main Taylorsville KY 40071 United States;X-APPLE-RADIUS=500;X-TITLE=12 W Main:geo:-85.3450704,38.0311792
END:VEVENT
BEGIN:VEVENT
DTSTART;TZID=America/Kentucky/Louisville:20240426T170000
DTEND;TZID=America/Kentucky/Louisville:20240426T210000
DTSTAMP:20260422T093736
CREATED:20240715T192412Z
LAST-MODIFIED:20240715T192759Z
UID:10011124-1714150800-1714165200@kentuckycruises.com
SUMMARY:Gearheads On Main
DESCRIPTION:With the popularity of Shows and Cruise-In in which most are held on Saturday we thought we would give you a choice in case you cannot make a Saturday or Sunday car show or cruise. We know most of us do have to still work but what better way to spend the evening throughout the summer\, than with fellow car enthusiasts. \nWe will start gathering at 5pm and go until 9pm. Being in downtown Taylorsville there will be plenty of places to park. Music will be provided. Looking forward to seeing all of you and your beautiful rides on Friday April 28 and every 4th Friday of the month throughout the summer through October. Thank you \n \n  \n  \n 
URL:https://kentuckycruises.com/event/gearheads-on-main-2/2024-04-26/
LOCATION:Main Street Taylorsville\, 12 W Main\, Taylorsville\, KY\, 40071\, United States
ATTACH;FMTTYPE=image/jpeg:https://kentuckycruises.com/wp-content/uploads/2023/04/432882611_10229062080728242_1946363759786500503_n.jpg
GEO:38.0311792;-85.3450704
X-APPLE-STRUCTURED-LOCATION;VALUE=URI;X-ADDRESS=Main Street Taylorsville 12 W Main Taylorsville KY 40071 United States;X-APPLE-RADIUS=500;X-TITLE=12 W Main:geo:-85.3450704,38.0311792
END:VEVENT
BEGIN:VEVENT
DTSTART;TZID=America/Kentucky/Louisville:20220905T090000
DTEND;TZID=America/Kentucky/Louisville:20220905T150000
DTSTAMP:20260422T093736
CREATED:20220501T040943Z
LAST-MODIFIED:20220829T041641Z
UID:10010636-1662368400-1662390000@kentuckycruises.com
SUMMARY:Mt. City Cruisers Fall Benefit Car Show
DESCRIPTION:
URL:https://kentuckycruises.com/event/mt-city-cruisers-car-show/
LOCATION:Valu Market Mt. Washington\, 205 Oakbrooke Dr\, Mt Washington\, KY\, 40047\, United States
ATTACH;FMTTYPE=image/jpeg:https://kentuckycruises.com/wp-content/uploads/2022/05/52317597787_3ec489c702_o-scaled.jpg
GEO:38.0526266;-85.5401428
X-APPLE-STRUCTURED-LOCATION;VALUE=URI;X-ADDRESS=Valu Market Mt. Washington 205 Oakbrooke Dr Mt Washington KY 40047 United States;X-APPLE-RADIUS=500;X-TITLE=205 Oakbrooke Dr:geo:-85.5401428,38.0526266
END:VEVENT
BEGIN:VEVENT
DTSTART;TZID=America/Kentucky/Louisville:20210515T090000
DTEND;TZID=America/Kentucky/Louisville:20210515T150000
DTSTAMP:20260422T093736
CREATED:20210429T001327Z
LAST-MODIFIED:20210429T001327Z
UID:10007584-1621069200-1621090800@kentuckycruises.com
SUMMARY:Mt. City Cruisers Car Show & Pig Roast
DESCRIPTION:17th Annual Spring Benefit\nHelping children in our community \nMay 15th\nRain date May 16th \n9AM – 3PM\nRegistration 9AM – 12PM\nRegistration fee $20\nAwards at 3PM \nTop 100\, Best of Show Categories\nBest of Show wins trophy and $100 \nValu-Market\n205 Oakbrooke Dr.\nMt washingtone\, KY 40047 \nFor more info contact:\nErnie Jones 593-4632\nSteve Chesser 287-7584\nTime Paxton 487-1638
URL:https://kentuckycruises.com/event/mt-city-cruisers-car-show-pig-roast/
LOCATION:Valu Market Mt. Washington\, 205 Oakbrooke Dr\, Mt Washington\, KY\, 40047\, United States
ATTACH;FMTTYPE=image/jpeg:https://kentuckycruises.com/wp-content/uploads/2021/04/MT_City_21.jpg
GEO:38.0526266;-85.5401428
X-APPLE-STRUCTURED-LOCATION;VALUE=URI;X-ADDRESS=Valu Market Mt. Washington 205 Oakbrooke Dr Mt Washington KY 40047 United States;X-APPLE-RADIUS=500;X-TITLE=205 Oakbrooke Dr:geo:-85.5401428,38.0526266
END:VEVENT
END:VCALENDAR