BEGIN:VCALENDAR
VERSION:2.0
PRODID:-//Kentucky Cruises - ECPv6.6.3//NONSGML v1.0//EN
CALSCALE:GREGORIAN
METHOD:PUBLISH
X-ORIGINAL-URL:https://kentuckycruises.com
X-WR-CALDESC:Events for Kentucky Cruises
REFRESH-INTERVAL;VALUE=DURATION:PT1H
X-Robots-Tag:noindex
X-PUBLISHED-TTL:PT1H
BEGIN:VTIMEZONE
TZID:America/Kentucky/Monticello
BEGIN:DAYLIGHT
TZOFFSETFROM:-0500
TZOFFSETTO:-0400
TZNAME:EDT
DTSTART:20220313T070000
END:DAYLIGHT
BEGIN:STANDARD
TZOFFSETFROM:-0400
TZOFFSETTO:-0500
TZNAME:EST
DTSTART:20221106T060000
END:STANDARD
END:VTIMEZONE
BEGIN:VEVENT
DTSTART;VALUE=DATE:20220409
DTEND;VALUE=DATE:20220410
DTSTAMP:20260421T073019
CREATED:20220204T211033Z
LAST-MODIFIED:20220205T035518Z
UID:10010067-1649462400-1649548799@kentuckycruises.com
SUMMARY:Cruise In @US-60
DESCRIPTION:All Builds Welcome\nCars Trucks Motorcycles Bring it for Family Fun.
URL:https://kentuckycruises.com/event/cruise-in-us-60/
LOCATION:US 60 Raceway\, US-60\, Harned\, KY\, 40144\, United States
ATTACH;FMTTYPE=image/png:https://kentuckycruises.com/wp-content/uploads/2022/02/Have-Printed-off.png
ORGANIZER;CN="Modded Squad":MAILTO:kennethpollock16@gmail.com
GEO:37.7514694;-86.413624
X-APPLE-STRUCTURED-LOCATION;VALUE=URI;X-ADDRESS=US 60 Raceway US-60 Harned KY 40144 United States;X-APPLE-RADIUS=500;X-TITLE=US-60:geo:-86.413624,37.7514694
END:VEVENT
END:VCALENDAR