BEGIN:VCALENDAR
VERSION:2.0
PRODID:-//Kentucky Cruises - ECPv6.6.3//NONSGML v1.0//EN
CALSCALE:GREGORIAN
METHOD:PUBLISH
X-ORIGINAL-URL:https://kentuckycruises.com
X-WR-CALDESC:Events for Kentucky Cruises
REFRESH-INTERVAL;VALUE=DURATION:PT1H
X-Robots-Tag:noindex
X-PUBLISHED-TTL:PT1H
BEGIN:VTIMEZONE
TZID:America/Kentucky/Louisville
BEGIN:DAYLIGHT
TZOFFSETFROM:-0500
TZOFFSETTO:-0400
TZNAME:EDT
DTSTART:20220313T070000
END:DAYLIGHT
BEGIN:STANDARD
TZOFFSETFROM:-0400
TZOFFSETTO:-0500
TZNAME:EST
DTSTART:20221106T060000
END:STANDARD
END:VTIMEZONE
BEGIN:VEVENT
DTSTART;VALUE=DATE:20221022
DTEND;VALUE=DATE:20221023
DTSTAMP:20260425T132731
CREATED:20220514T020012Z
LAST-MODIFIED:20220514T020012Z
UID:10008566-1666396800-1666483199@kentuckycruises.com
SUMMARY:Clark County Casting & Conservation Club
DESCRIPTION:All years\, cars\, trucks & motorcycle Welcome! \nCar Show Registration starts at . . . 9:00am\nCoffee and Donuts available at . . . .9:00am\nLunch Available at. . . . . . . . . . . . . . 11:30am\nBeer Garden starting at . . . . . . . . . .12:00pm\nCar show awards starting at . . . . . . 3:00pm\nRib Dinner starting at . . . . . . . . . . . .5:00pm\nThe band Soul Kitchen will close out the day at the shelter house from . . . 7pm – 11pm
URL:https://kentuckycruises.com/event/clark-county-casting-conservation-club/
LOCATION:Clark County Casting & Conservation Club\, 6400 Conservation Drive\, Jeffersonville\, IN\, IN\, 47130\, United States
ATTACH;FMTTYPE=image/jpeg:https://kentuckycruises.com/wp-content/uploads/2022/05/CCCC.jpg
ORGANIZER;CN="Mike Long":MAILTO:mike356a@twc.com
GEO:38.3617464;-85.6402493
X-APPLE-STRUCTURED-LOCATION;VALUE=URI;X-ADDRESS=Clark County Casting & Conservation Club 6400 Conservation Drive Jeffersonville IN IN 47130 United States;X-APPLE-RADIUS=500;X-TITLE=6400 Conservation Drive:geo:-85.6402493,38.3617464
END:VEVENT
END:VCALENDAR