BEGIN:VCALENDAR
VERSION:2.0
PRODID:-//Kentucky Cruises - ECPv6.6.3//NONSGML v1.0//EN
CALSCALE:GREGORIAN
METHOD:PUBLISH
X-ORIGINAL-URL:https://kentuckycruises.com
X-WR-CALDESC:Events for Kentucky Cruises
REFRESH-INTERVAL;VALUE=DURATION:PT1H
X-Robots-Tag:noindex
X-PUBLISHED-TTL:PT1H
BEGIN:VTIMEZONE
TZID:America/Kentucky/Louisville
BEGIN:DAYLIGHT
TZOFFSETFROM:-0500
TZOFFSETTO:-0400
TZNAME:EDT
DTSTART:20210314T070000
END:DAYLIGHT
BEGIN:STANDARD
TZOFFSETFROM:-0400
TZOFFSETTO:-0500
TZNAME:EST
DTSTART:20211107T060000
END:STANDARD
END:VTIMEZONE
BEGIN:VEVENT
DTSTART;TZID=America/Kentucky/Louisville:20210702T180000
DTEND;TZID=America/Kentucky/Louisville:20210702T210000
DTSTAMP:20260421T135311
CREATED:20210602T171413Z
LAST-MODIFIED:20210602T171413Z
UID:10009758-1625248800-1625259600@kentuckycruises.com
SUMMARY:Liberty Friday Night Cruisers
DESCRIPTION:Liberty Square\nLiberty\, KY 42539 \nCome enjoy an evening in downtown Liberty on the 1st Friday of each month April-October. \nDowntown Court House Sq.\, Liberty\, KY.
URL:https://kentuckycruises.com/event/liberty-friday-night-cruisers/2021-07-02/
LOCATION:Liberty Square – Liberty\, Liberty Sq\, Liberty\, KY\, 42539\, United States
ATTACH;FMTTYPE=image/jpeg:https://kentuckycruises.com/wp-content/uploads/2021/06/193013195_2779049585740069_1198305953844286300_n.jpg
GEO:37.318636;-84.9279776
X-APPLE-STRUCTURED-LOCATION;VALUE=URI;X-ADDRESS=Liberty Square – Liberty Liberty Sq Liberty KY 42539 United States;X-APPLE-RADIUS=500;X-TITLE=Liberty Sq:geo:-84.9279776,37.318636
END:VEVENT
BEGIN:VEVENT
DTSTART;TZID=America/Kentucky/Louisville:20210604T180000
DTEND;TZID=America/Kentucky/Louisville:20210604T210000
DTSTAMP:20260421T135311
CREATED:20210602T171413Z
LAST-MODIFIED:20210602T171413Z
UID:10009757-1622829600-1622840400@kentuckycruises.com
SUMMARY:Liberty Friday Night Cruisers
DESCRIPTION:Liberty Square\nLiberty\, KY 42539 \nCome enjoy an evening in downtown Liberty on the 1st Friday of each month April-October. \nDowntown Court House Sq.\, Liberty\, KY.
URL:https://kentuckycruises.com/event/liberty-friday-night-cruisers/2021-06-04/
LOCATION:Liberty Square – Liberty\, Liberty Sq\, Liberty\, KY\, 42539\, United States
ATTACH;FMTTYPE=image/jpeg:https://kentuckycruises.com/wp-content/uploads/2021/06/193013195_2779049585740069_1198305953844286300_n.jpg
GEO:37.318636;-84.9279776
X-APPLE-STRUCTURED-LOCATION;VALUE=URI;X-ADDRESS=Liberty Square – Liberty Liberty Sq Liberty KY 42539 United States;X-APPLE-RADIUS=500;X-TITLE=Liberty Sq:geo:-84.9279776,37.318636
END:VEVENT
END:VCALENDAR