BEGIN:VCALENDAR
VERSION:2.0
PRODID:-//Kentucky Cruises - ECPv6.6.3//NONSGML v1.0//EN
CALSCALE:GREGORIAN
METHOD:PUBLISH
X-WR-CALNAME:Kentucky Cruises
X-ORIGINAL-URL:https://kentuckycruises.com
X-WR-CALDESC:Events for Kentucky Cruises
REFRESH-INTERVAL;VALUE=DURATION:PT1H
X-Robots-Tag:noindex
X-PUBLISHED-TTL:PT1H
BEGIN:VTIMEZONE
TZID:America/Kentucky/Louisville
BEGIN:DAYLIGHT
TZOFFSETFROM:-0500
TZOFFSETTO:-0400
TZNAME:EDT
DTSTART:20210314T070000
END:DAYLIGHT
BEGIN:STANDARD
TZOFFSETFROM:-0400
TZOFFSETTO:-0500
TZNAME:EST
DTSTART:20211107T060000
END:STANDARD
BEGIN:DAYLIGHT
TZOFFSETFROM:-0500
TZOFFSETTO:-0400
TZNAME:EDT
DTSTART:20220313T070000
END:DAYLIGHT
BEGIN:STANDARD
TZOFFSETFROM:-0400
TZOFFSETTO:-0500
TZNAME:EST
DTSTART:20221106T060000
END:STANDARD
END:VTIMEZONE
BEGIN:VEVENT
DTSTART;TZID=America/Kentucky/Louisville:20221007T180000
DTEND;TZID=America/Kentucky/Louisville:20221007T210000
DTSTAMP:20260421T122005
CREATED:20220215T005132Z
LAST-MODIFIED:20220215T005132Z
UID:10010216-1665165600-1665176400@kentuckycruises.com
SUMMARY:Liberty Friday Night Cruisers
DESCRIPTION:Come enjoy an evening in downtown Liberty on the 1st Friday of each month April-October. \nDowntown Court House Sq.\, Liberty\, KY.
URL:https://kentuckycruises.com/event/liberty-friday-night-cruisers-2/2022-10-07/
LOCATION:Liberty Square – Liberty\, Liberty Sq\, Liberty\, KY\, 42539\, United States
ATTACH;FMTTYPE=image/jpeg:https://kentuckycruises.com/wp-content/uploads/2022/02/272163450_2943652905946402_2862235960143410393_n.jpg
GEO:37.318636;-84.9279776
X-APPLE-STRUCTURED-LOCATION;VALUE=URI;X-ADDRESS=Liberty Square – Liberty Liberty Sq Liberty KY 42539 United States;X-APPLE-RADIUS=500;X-TITLE=Liberty Sq:geo:-84.9279776,37.318636
END:VEVENT
BEGIN:VEVENT
DTSTART;TZID=America/Kentucky/Louisville:20220902T180000
DTEND;TZID=America/Kentucky/Louisville:20220902T210000
DTSTAMP:20260421T122005
CREATED:20220215T005132Z
LAST-MODIFIED:20220215T005132Z
UID:10010215-1662141600-1662152400@kentuckycruises.com
SUMMARY:Liberty Friday Night Cruisers
DESCRIPTION:Come enjoy an evening in downtown Liberty on the 1st Friday of each month April-October. \nDowntown Court House Sq.\, Liberty\, KY.
URL:https://kentuckycruises.com/event/liberty-friday-night-cruisers-2/2022-09-02/
LOCATION:Liberty Square – Liberty\, Liberty Sq\, Liberty\, KY\, 42539\, United States
ATTACH;FMTTYPE=image/jpeg:https://kentuckycruises.com/wp-content/uploads/2022/02/272163450_2943652905946402_2862235960143410393_n.jpg
GEO:37.318636;-84.9279776
X-APPLE-STRUCTURED-LOCATION;VALUE=URI;X-ADDRESS=Liberty Square – Liberty Liberty Sq Liberty KY 42539 United States;X-APPLE-RADIUS=500;X-TITLE=Liberty Sq:geo:-84.9279776,37.318636
END:VEVENT
BEGIN:VEVENT
DTSTART;TZID=America/Kentucky/Louisville:20220805T180000
DTEND;TZID=America/Kentucky/Louisville:20220805T210000
DTSTAMP:20260421T122005
CREATED:20220215T005132Z
LAST-MODIFIED:20220215T005132Z
UID:10010214-1659722400-1659733200@kentuckycruises.com
SUMMARY:Liberty Friday Night Cruisers
DESCRIPTION:Come enjoy an evening in downtown Liberty on the 1st Friday of each month April-October. \nDowntown Court House Sq.\, Liberty\, KY.
URL:https://kentuckycruises.com/event/liberty-friday-night-cruisers-2/2022-08-05/
LOCATION:Liberty Square – Liberty\, Liberty Sq\, Liberty\, KY\, 42539\, United States
ATTACH;FMTTYPE=image/jpeg:https://kentuckycruises.com/wp-content/uploads/2022/02/272163450_2943652905946402_2862235960143410393_n.jpg
GEO:37.318636;-84.9279776
X-APPLE-STRUCTURED-LOCATION;VALUE=URI;X-ADDRESS=Liberty Square – Liberty Liberty Sq Liberty KY 42539 United States;X-APPLE-RADIUS=500;X-TITLE=Liberty Sq:geo:-84.9279776,37.318636
END:VEVENT
BEGIN:VEVENT
DTSTART;TZID=America/Kentucky/Louisville:20220701T180000
DTEND;TZID=America/Kentucky/Louisville:20220701T210000
DTSTAMP:20260421T122005
CREATED:20220215T005132Z
LAST-MODIFIED:20220215T005132Z
UID:10010213-1656698400-1656709200@kentuckycruises.com
SUMMARY:Liberty Friday Night Cruisers
DESCRIPTION:Come enjoy an evening in downtown Liberty on the 1st Friday of each month April-October. \nDowntown Court House Sq.\, Liberty\, KY.
URL:https://kentuckycruises.com/event/liberty-friday-night-cruisers-2/2022-07-01/
LOCATION:Liberty Square – Liberty\, Liberty Sq\, Liberty\, KY\, 42539\, United States
ATTACH;FMTTYPE=image/jpeg:https://kentuckycruises.com/wp-content/uploads/2022/02/272163450_2943652905946402_2862235960143410393_n.jpg
GEO:37.318636;-84.9279776
X-APPLE-STRUCTURED-LOCATION;VALUE=URI;X-ADDRESS=Liberty Square – Liberty Liberty Sq Liberty KY 42539 United States;X-APPLE-RADIUS=500;X-TITLE=Liberty Sq:geo:-84.9279776,37.318636
END:VEVENT
BEGIN:VEVENT
DTSTART;TZID=America/Kentucky/Louisville:20220603T180000
DTEND;TZID=America/Kentucky/Louisville:20220603T210000
DTSTAMP:20260421T122005
CREATED:20220215T005132Z
LAST-MODIFIED:20220215T005132Z
UID:10010212-1654279200-1654290000@kentuckycruises.com
SUMMARY:Liberty Friday Night Cruisers
DESCRIPTION:Come enjoy an evening in downtown Liberty on the 1st Friday of each month April-October. \nDowntown Court House Sq.\, Liberty\, KY.
URL:https://kentuckycruises.com/event/liberty-friday-night-cruisers-2/2022-06-03/
LOCATION:Liberty Square – Liberty\, Liberty Sq\, Liberty\, KY\, 42539\, United States
ATTACH;FMTTYPE=image/jpeg:https://kentuckycruises.com/wp-content/uploads/2022/02/272163450_2943652905946402_2862235960143410393_n.jpg
GEO:37.318636;-84.9279776
X-APPLE-STRUCTURED-LOCATION;VALUE=URI;X-ADDRESS=Liberty Square – Liberty Liberty Sq Liberty KY 42539 United States;X-APPLE-RADIUS=500;X-TITLE=Liberty Sq:geo:-84.9279776,37.318636
END:VEVENT
BEGIN:VEVENT
DTSTART;TZID=America/Kentucky/Louisville:20220515T190000
DTEND;TZID=America/Kentucky/Louisville:20220515T233000
DTSTAMP:20260421T122005
CREATED:20220226T175749Z
LAST-MODIFIED:20220226T180010Z
UID:10010326-1652641200-1652657400@kentuckycruises.com
SUMMARY:Kentucky Classic Truck & Tractor
DESCRIPTION:It is COMING!!!! The 2nd annual Kentucky Classic Truck & Tractor is coming to Liberty\, Kentucky May 14th and 15th! \nIt is going to be BIGGER and BETTER than last year! \nMore details coming soon! \nMARK YOUR CALENDAR you will not want to miss this!! \nhttps://www.facebook.com/events/985960712029775
URL:https://kentuckycruises.com/event/kentucky-classic-truck-tractor/2022-05-15/
LOCATION:Central Kentucky Ag-Expo\, 678 S Wallace Wilkinson Blvd\, Liberty\, KY\, 42539\, United States
ATTACH;FMTTYPE=image/jpeg:https://kentuckycruises.com/wp-content/uploads/2022/02/274710291_2968044236840602_5813117125928489214_n.jpg
GEO:37.3115806;-84.9461895
X-APPLE-STRUCTURED-LOCATION;VALUE=URI;X-ADDRESS=Central Kentucky Ag-Expo 678 S Wallace Wilkinson Blvd Liberty KY 42539 United States;X-APPLE-RADIUS=500;X-TITLE=678 S Wallace Wilkinson Blvd:geo:-84.9461895,37.3115806
END:VEVENT
BEGIN:VEVENT
DTSTART;TZID=America/Kentucky/Louisville:20220514T190000
DTEND;TZID=America/Kentucky/Louisville:20220514T233000
DTSTAMP:20260421T122005
CREATED:20220226T175749Z
LAST-MODIFIED:20220226T180010Z
UID:10010325-1652554800-1652571000@kentuckycruises.com
SUMMARY:Kentucky Classic Truck & Tractor
DESCRIPTION:It is COMING!!!! The 2nd annual Kentucky Classic Truck & Tractor is coming to Liberty\, Kentucky May 14th and 15th! \nIt is going to be BIGGER and BETTER than last year! \nMore details coming soon! \nMARK YOUR CALENDAR you will not want to miss this!! \nhttps://www.facebook.com/events/985960712029775
URL:https://kentuckycruises.com/event/kentucky-classic-truck-tractor/2022-05-14/
LOCATION:Central Kentucky Ag-Expo\, 678 S Wallace Wilkinson Blvd\, Liberty\, KY\, 42539\, United States
ATTACH;FMTTYPE=image/jpeg:https://kentuckycruises.com/wp-content/uploads/2022/02/274710291_2968044236840602_5813117125928489214_n.jpg
GEO:37.3115806;-84.9461895
X-APPLE-STRUCTURED-LOCATION;VALUE=URI;X-ADDRESS=Central Kentucky Ag-Expo 678 S Wallace Wilkinson Blvd Liberty KY 42539 United States;X-APPLE-RADIUS=500;X-TITLE=678 S Wallace Wilkinson Blvd:geo:-84.9461895,37.3115806
END:VEVENT
BEGIN:VEVENT
DTSTART;TZID=America/Kentucky/Louisville:20220506T180000
DTEND;TZID=America/Kentucky/Louisville:20220506T210000
DTSTAMP:20260421T122005
CREATED:20220215T005132Z
LAST-MODIFIED:20220215T005132Z
UID:10010211-1651860000-1651870800@kentuckycruises.com
SUMMARY:Liberty Friday Night Cruisers
DESCRIPTION:Come enjoy an evening in downtown Liberty on the 1st Friday of each month April-October. \nDowntown Court House Sq.\, Liberty\, KY.
URL:https://kentuckycruises.com/event/liberty-friday-night-cruisers-2/2022-05-06/
LOCATION:Liberty Square – Liberty\, Liberty Sq\, Liberty\, KY\, 42539\, United States
ATTACH;FMTTYPE=image/jpeg:https://kentuckycruises.com/wp-content/uploads/2022/02/272163450_2943652905946402_2862235960143410393_n.jpg
GEO:37.318636;-84.9279776
X-APPLE-STRUCTURED-LOCATION;VALUE=URI;X-ADDRESS=Liberty Square – Liberty Liberty Sq Liberty KY 42539 United States;X-APPLE-RADIUS=500;X-TITLE=Liberty Sq:geo:-84.9279776,37.318636
END:VEVENT
BEGIN:VEVENT
DTSTART;TZID=America/Kentucky/Louisville:20220401T180000
DTEND;TZID=America/Kentucky/Louisville:20220401T210000
DTSTAMP:20260421T122005
CREATED:20220215T005132Z
LAST-MODIFIED:20220215T005132Z
UID:10010210-1648836000-1648846800@kentuckycruises.com
SUMMARY:Liberty Friday Night Cruisers
DESCRIPTION:Come enjoy an evening in downtown Liberty on the 1st Friday of each month April-October. \nDowntown Court House Sq.\, Liberty\, KY.
URL:https://kentuckycruises.com/event/liberty-friday-night-cruisers-2/2022-04-01/
LOCATION:Liberty Square – Liberty\, Liberty Sq\, Liberty\, KY\, 42539\, United States
ATTACH;FMTTYPE=image/jpeg:https://kentuckycruises.com/wp-content/uploads/2022/02/272163450_2943652905946402_2862235960143410393_n.jpg
GEO:37.318636;-84.9279776
X-APPLE-STRUCTURED-LOCATION;VALUE=URI;X-ADDRESS=Liberty Square – Liberty Liberty Sq Liberty KY 42539 United States;X-APPLE-RADIUS=500;X-TITLE=Liberty Sq:geo:-84.9279776,37.318636
END:VEVENT
BEGIN:VEVENT
DTSTART;TZID=America/Kentucky/Louisville:20211001T180000
DTEND;TZID=America/Kentucky/Louisville:20211001T210000
DTSTAMP:20260421T122005
CREATED:20210602T171413Z
LAST-MODIFIED:20210602T171413Z
UID:10009761-1633111200-1633122000@kentuckycruises.com
SUMMARY:Liberty Friday Night Cruisers
DESCRIPTION:Liberty Square\nLiberty\, KY 42539 \nCome enjoy an evening in downtown Liberty on the 1st Friday of each month April-October. \nDowntown Court House Sq.\, Liberty\, KY.
URL:https://kentuckycruises.com/event/liberty-friday-night-cruisers/2021-10-01/
LOCATION:Liberty Square – Liberty\, Liberty Sq\, Liberty\, KY\, 42539\, United States
ATTACH;FMTTYPE=image/jpeg:https://kentuckycruises.com/wp-content/uploads/2021/06/193013195_2779049585740069_1198305953844286300_n.jpg
GEO:37.318636;-84.9279776
X-APPLE-STRUCTURED-LOCATION;VALUE=URI;X-ADDRESS=Liberty Square – Liberty Liberty Sq Liberty KY 42539 United States;X-APPLE-RADIUS=500;X-TITLE=Liberty Sq:geo:-84.9279776,37.318636
END:VEVENT
BEGIN:VEVENT
DTSTART;TZID=America/Kentucky/Louisville:20210903T180000
DTEND;TZID=America/Kentucky/Louisville:20210903T210000
DTSTAMP:20260421T122005
CREATED:20210602T171413Z
LAST-MODIFIED:20210602T171413Z
UID:10009760-1630692000-1630702800@kentuckycruises.com
SUMMARY:Liberty Friday Night Cruisers
DESCRIPTION:Liberty Square\nLiberty\, KY 42539 \nCome enjoy an evening in downtown Liberty on the 1st Friday of each month April-October. \nDowntown Court House Sq.\, Liberty\, KY.
URL:https://kentuckycruises.com/event/liberty-friday-night-cruisers/2021-09-03/
LOCATION:Liberty Square – Liberty\, Liberty Sq\, Liberty\, KY\, 42539\, United States
ATTACH;FMTTYPE=image/jpeg:https://kentuckycruises.com/wp-content/uploads/2021/06/193013195_2779049585740069_1198305953844286300_n.jpg
GEO:37.318636;-84.9279776
X-APPLE-STRUCTURED-LOCATION;VALUE=URI;X-ADDRESS=Liberty Square – Liberty Liberty Sq Liberty KY 42539 United States;X-APPLE-RADIUS=500;X-TITLE=Liberty Sq:geo:-84.9279776,37.318636
END:VEVENT
BEGIN:VEVENT
DTSTART;TZID=America/Kentucky/Louisville:20210806T180000
DTEND;TZID=America/Kentucky/Louisville:20210806T210000
DTSTAMP:20260421T122005
CREATED:20210602T171413Z
LAST-MODIFIED:20210602T171413Z
UID:10009759-1628272800-1628283600@kentuckycruises.com
SUMMARY:Liberty Friday Night Cruisers
DESCRIPTION:Liberty Square\nLiberty\, KY 42539 \nCome enjoy an evening in downtown Liberty on the 1st Friday of each month April-October. \nDowntown Court House Sq.\, Liberty\, KY.
URL:https://kentuckycruises.com/event/liberty-friday-night-cruisers/2021-08-06/
LOCATION:Liberty Square – Liberty\, Liberty Sq\, Liberty\, KY\, 42539\, United States
ATTACH;FMTTYPE=image/jpeg:https://kentuckycruises.com/wp-content/uploads/2021/06/193013195_2779049585740069_1198305953844286300_n.jpg
GEO:37.318636;-84.9279776
X-APPLE-STRUCTURED-LOCATION;VALUE=URI;X-ADDRESS=Liberty Square – Liberty Liberty Sq Liberty KY 42539 United States;X-APPLE-RADIUS=500;X-TITLE=Liberty Sq:geo:-84.9279776,37.318636
END:VEVENT
BEGIN:VEVENT
DTSTART;TZID=America/Kentucky/Louisville:20210702T180000
DTEND;TZID=America/Kentucky/Louisville:20210702T210000
DTSTAMP:20260421T122005
CREATED:20210602T171413Z
LAST-MODIFIED:20210602T171413Z
UID:10009758-1625248800-1625259600@kentuckycruises.com
SUMMARY:Liberty Friday Night Cruisers
DESCRIPTION:Liberty Square\nLiberty\, KY 42539 \nCome enjoy an evening in downtown Liberty on the 1st Friday of each month April-October. \nDowntown Court House Sq.\, Liberty\, KY.
URL:https://kentuckycruises.com/event/liberty-friday-night-cruisers/2021-07-02/
LOCATION:Liberty Square – Liberty\, Liberty Sq\, Liberty\, KY\, 42539\, United States
ATTACH;FMTTYPE=image/jpeg:https://kentuckycruises.com/wp-content/uploads/2021/06/193013195_2779049585740069_1198305953844286300_n.jpg
GEO:37.318636;-84.9279776
X-APPLE-STRUCTURED-LOCATION;VALUE=URI;X-ADDRESS=Liberty Square – Liberty Liberty Sq Liberty KY 42539 United States;X-APPLE-RADIUS=500;X-TITLE=Liberty Sq:geo:-84.9279776,37.318636
END:VEVENT
BEGIN:VEVENT
DTSTART;TZID=America/Kentucky/Louisville:20210604T180000
DTEND;TZID=America/Kentucky/Louisville:20210604T210000
DTSTAMP:20260421T122005
CREATED:20210602T171413Z
LAST-MODIFIED:20210602T171413Z
UID:10009757-1622829600-1622840400@kentuckycruises.com
SUMMARY:Liberty Friday Night Cruisers
DESCRIPTION:Liberty Square\nLiberty\, KY 42539 \nCome enjoy an evening in downtown Liberty on the 1st Friday of each month April-October. \nDowntown Court House Sq.\, Liberty\, KY.
URL:https://kentuckycruises.com/event/liberty-friday-night-cruisers/2021-06-04/
LOCATION:Liberty Square – Liberty\, Liberty Sq\, Liberty\, KY\, 42539\, United States
ATTACH;FMTTYPE=image/jpeg:https://kentuckycruises.com/wp-content/uploads/2021/06/193013195_2779049585740069_1198305953844286300_n.jpg
GEO:37.318636;-84.9279776
X-APPLE-STRUCTURED-LOCATION;VALUE=URI;X-ADDRESS=Liberty Square – Liberty Liberty Sq Liberty KY 42539 United States;X-APPLE-RADIUS=500;X-TITLE=Liberty Sq:geo:-84.9279776,37.318636
END:VEVENT
END:VCALENDAR