BEGIN:VCALENDAR
VERSION:2.0
PRODID:-//Kentucky Cruises - ECPv6.6.3//NONSGML v1.0//EN
CALSCALE:GREGORIAN
METHOD:PUBLISH
X-WR-CALNAME:Kentucky Cruises
X-ORIGINAL-URL:https://kentuckycruises.com
X-WR-CALDESC:Events for Kentucky Cruises
REFRESH-INTERVAL;VALUE=DURATION:PT1H
X-Robots-Tag:noindex
X-PUBLISHED-TTL:PT1H
BEGIN:VTIMEZONE
TZID:America/Kentucky/Louisville
BEGIN:DAYLIGHT
TZOFFSETFROM:-0500
TZOFFSETTO:-0400
TZNAME:EDT
DTSTART:20220313T070000
END:DAYLIGHT
BEGIN:STANDARD
TZOFFSETFROM:-0400
TZOFFSETTO:-0500
TZNAME:EST
DTSTART:20221106T060000
END:STANDARD
END:VTIMEZONE
BEGIN:VEVENT
DTSTART;TZID=America/Kentucky/Louisville:20220507T100000
DTEND;TZID=America/Kentucky/Louisville:20220507T140000
DTSTAMP:20260422T175709
CREATED:20220411T192754Z
LAST-MODIFIED:20220411T192810Z
UID:10010470-1651917600-1651932000@kentuckycruises.com
SUMMARY:Lancaster Fire & Rescue Car Show
DESCRIPTION:Sat. May 7th beginning at 10:00am EDT. Trophies\, food\, music\, 50/50 Pot. \nProceeds benefit LF&R Toy Drive. \nRegistration fee is $15 per vehicle. \nRain date- May 14th.
URL:https://kentuckycruises.com/event/lancaster-fire-rescue-car-show/
LOCATION:Lancaster Fire and Rescue\, 107 N Campbell ST\, Lancaster\, KY\, 40444\, United States
ATTACH;FMTTYPE=image/jpeg:https://kentuckycruises.com/wp-content/uploads/2022/04/274675129_10158606735196186_7155032333645571698_n.jpg
GEO:37.6200718;-84.5772024
X-APPLE-STRUCTURED-LOCATION;VALUE=URI;X-ADDRESS=Lancaster Fire and Rescue 107 N Campbell ST Lancaster KY 40444 United States;X-APPLE-RADIUS=500;X-TITLE=107 N Campbell ST:geo:-84.5772024,37.6200718
END:VEVENT
END:VCALENDAR