BEGIN:VCALENDAR
VERSION:2.0
PRODID:-//Kentucky Cruises - ECPv6.6.3//NONSGML v1.0//EN
CALSCALE:GREGORIAN
METHOD:PUBLISH
X-WR-CALNAME:Kentucky Cruises
X-ORIGINAL-URL:https://kentuckycruises.com
X-WR-CALDESC:Events for Kentucky Cruises
REFRESH-INTERVAL;VALUE=DURATION:PT1H
X-Robots-Tag:noindex
X-PUBLISHED-TTL:PT1H
BEGIN:VTIMEZONE
TZID:America/Kentucky/Louisville
BEGIN:DAYLIGHT
TZOFFSETFROM:-0500
TZOFFSETTO:-0400
TZNAME:EDT
DTSTART:20230312T070000
END:DAYLIGHT
BEGIN:STANDARD
TZOFFSETFROM:-0400
TZOFFSETTO:-0500
TZNAME:EST
DTSTART:20231105T060000
END:STANDARD
END:VTIMEZONE
BEGIN:VEVENT
DTSTART;TZID=America/Kentucky/Louisville:20230610T100000
DTEND;TZID=America/Kentucky/Louisville:20230610T150000
DTSTAMP:20260421T101509
CREATED:20230427T054634Z
LAST-MODIFIED:20230427T054634Z
UID:10011106-1686391200-1686409200@kentuckycruises.com
SUMMARY:Journey of Hopes Chasing away Cancer Car and Bike Show
DESCRIPTION:Fundraiser for Journey of Hope cancer foundation. Helping to serve those who are fighting cancer and are currently taking treatments.
URL:https://kentuckycruises.com/event/journey-of-hopes-chasing-away-cancer-car-and-bike-show/
LOCATION:Bobby Osborne Pavilion\, 200 Stinnett-Wendover Rd\, Hyden\, KY\, 41749\, United States
ATTACH;FMTTYPE=image/jpeg:https://kentuckycruises.com/wp-content/uploads/2023/04/4A514EB8-7390-4CDE-8DB3-3A37AFF18872.jpeg
GEO:37.0884943;-83.3915126
X-APPLE-STRUCTURED-LOCATION;VALUE=URI;X-ADDRESS=Bobby Osborne Pavilion 200 Stinnett-Wendover Rd Hyden KY 41749 United States;X-APPLE-RADIUS=500;X-TITLE=200 Stinnett-Wendover Rd:geo:-83.3915126,37.0884943
END:VEVENT
END:VCALENDAR