BEGIN:VCALENDAR
VERSION:2.0
PRODID:-//Kentucky Cruises - ECPv6.6.3//NONSGML v1.0//EN
CALSCALE:GREGORIAN
METHOD:PUBLISH
X-ORIGINAL-URL:https://kentuckycruises.com
X-WR-CALDESC:Events for Kentucky Cruises
REFRESH-INTERVAL;VALUE=DURATION:PT1H
X-Robots-Tag:noindex
X-PUBLISHED-TTL:PT1H
BEGIN:VTIMEZONE
TZID:America/Kentucky/Louisville
BEGIN:DAYLIGHT
TZOFFSETFROM:-0500
TZOFFSETTO:-0400
TZNAME:EDT
DTSTART:20210314T070000
END:DAYLIGHT
BEGIN:STANDARD
TZOFFSETFROM:-0400
TZOFFSETTO:-0500
TZNAME:EST
DTSTART:20211107T060000
END:STANDARD
END:VTIMEZONE
BEGIN:VEVENT
DTSTART;TZID=America/Kentucky/Louisville:20210612T100000
DTEND;TZID=America/Kentucky/Louisville:20210612T140000
DTSTAMP:20260421T063937
CREATED:20210610T221019Z
LAST-MODIFIED:20210610T221019Z
UID:10009803-1623492000-1623506400@kentuckycruises.com
SUMMARY:James W Alley Masonic Lodge #869 Car Show
DESCRIPTION:Garrett Park\nBridge St\nGarrett\, KY 41630 \nSaturday June 12 \n10AM – 2 PM \nEntry Fee $20 \nClick below for details and contact info.
URL:https://kentuckycruises.com/event/james-w-alley-masonic-lodge-869-car-show/
LOCATION:Garrett Park\, Bridge St\, Garrett\, 41630
ATTACH;FMTTYPE=image/jpeg:https://kentuckycruises.com/wp-content/uploads/2021/06/194881993_6233856743298468_7461998727356471064_n.jpg
GEO:37.4804679;-82.834626
X-APPLE-STRUCTURED-LOCATION;VALUE=URI;X-ADDRESS=Garrett Park Bridge St Garrett 41630;X-APPLE-RADIUS=500;X-TITLE=Bridge St:geo:-82.834626,37.4804679
END:VEVENT
END:VCALENDAR