BEGIN:VCALENDAR
VERSION:2.0
PRODID:-//Kentucky Cruises - ECPv6.6.3//NONSGML v1.0//EN
CALSCALE:GREGORIAN
METHOD:PUBLISH
X-ORIGINAL-URL:https://kentuckycruises.com
X-WR-CALDESC:Events for Kentucky Cruises
REFRESH-INTERVAL;VALUE=DURATION:PT1H
X-Robots-Tag:noindex
X-PUBLISHED-TTL:PT1H
BEGIN:VTIMEZONE
TZID:America/Kentucky/Louisville
BEGIN:DAYLIGHT
TZOFFSETFROM:-0500
TZOFFSETTO:-0400
TZNAME:EDT
DTSTART:20230312T070000
END:DAYLIGHT
BEGIN:STANDARD
TZOFFSETFROM:-0400
TZOFFSETTO:-0500
TZNAME:EST
DTSTART:20231105T060000
END:STANDARD
END:VTIMEZONE
BEGIN:VEVENT
DTSTART;TZID=America/Kentucky/Louisville:20230903T183000
DTEND;TZID=America/Kentucky/Louisville:20230903T213000
DTSTAMP:20260424T091215
CREATED:20230831T014426Z
LAST-MODIFIED:20230831T014426Z
UID:10011351-1693765800-1693776600@kentuckycruises.com
SUMMARY:2nd Annual Nathan Young Never Say Goodbye Car Show
DESCRIPTION:Memorial car show\, for Nathan Young Passed way in motorcycle accident a year ago on 8-30-21. Donations are accepted & will go towards a scholarship in his name.
URL:https://kentuckycruises.com/event/2nd-annual-nathan-young-never-say-goodbye-car-show/
LOCATION:Southern High School\, 8620 Preston Hwy\, Louisville\, KY\, United States
ATTACH;FMTTYPE=image/jpeg:https://kentuckycruises.com/wp-content/uploads/2023/08/IMG_5777.jpeg
GEO:38.1273346;-85.683856
X-APPLE-STRUCTURED-LOCATION;VALUE=URI;X-ADDRESS=Southern High School 8620 Preston Hwy Louisville KY United States;X-APPLE-RADIUS=500;X-TITLE=8620 Preston Hwy:geo:-85.683856,38.1273346
END:VEVENT
END:VCALENDAR