BEGIN:VCALENDAR
VERSION:2.0
PRODID:-//Kentucky Cruises - ECPv6.6.3//NONSGML v1.0//EN
CALSCALE:GREGORIAN
METHOD:PUBLISH
X-WR-CALNAME:Kentucky Cruises
X-ORIGINAL-URL:https://kentuckycruises.com
X-WR-CALDESC:Events for Kentucky Cruises
REFRESH-INTERVAL;VALUE=DURATION:PT1H
X-Robots-Tag:noindex
X-PUBLISHED-TTL:PT1H
BEGIN:VTIMEZONE
TZID:America/Kentucky/Louisville
BEGIN:DAYLIGHT
TZOFFSETFROM:-0500
TZOFFSETTO:-0400
TZNAME:EDT
DTSTART:20230312T070000
END:DAYLIGHT
BEGIN:STANDARD
TZOFFSETFROM:-0400
TZOFFSETTO:-0500
TZNAME:EST
DTSTART:20231105T060000
END:STANDARD
END:VTIMEZONE
BEGIN:VEVENT
DTSTART;TZID=America/Kentucky/Louisville:20230901T090000
DTEND;TZID=America/Kentucky/Louisville:20230903T170000
DTSTAMP:20260424T181905
CREATED:20230212T101136Z
LAST-MODIFIED:20230212T101136Z
UID:10010917-1693558800-1693760400@kentuckycruises.com
SUMMARY:Individuals Car Club - 2023 End of Summer Bash
DESCRIPTION:Individuals Car Club\n2023 End of Summer Bash \nSeptember 1st\, 2nd\, & 3rd\nRiverview Park\n8202 Greenwood Road Louisville\, KY 40258 \n2 Cruises\, a Picnic\, and More!\nOpen to all cars\, trucks\, bikes – No slides\, donuts\, or burnouts\nSecurity on site \nHotel Information:\nCrowne Plaza:  830 Phillips Lane Louisville\, KY 40209 \nTrailer parking available
URL:https://kentuckycruises.com/event/individuals-car-club-2023-end-of-summer-bash/
LOCATION:Riverview Park\, 8202 Greenwood Road\, Louisville\, KY\, 40258\, United States
ATTACH;FMTTYPE=image/jpeg:https://kentuckycruises.com/wp-content/uploads/2023/02/Car-show-10.jpg
GEO:38.1487057;-85.9013809
X-APPLE-STRUCTURED-LOCATION;VALUE=URI;X-ADDRESS=Riverview Park 8202 Greenwood Road Louisville KY 40258 United States;X-APPLE-RADIUS=500;X-TITLE=8202 Greenwood Road:geo:-85.9013809,38.1487057
END:VEVENT
END:VCALENDAR