BEGIN:VCALENDAR
VERSION:2.0
PRODID:-//Kentucky Cruises - ECPv6.6.3//NONSGML v1.0//EN
CALSCALE:GREGORIAN
METHOD:PUBLISH
X-WR-CALNAME:Kentucky Cruises
X-ORIGINAL-URL:https://kentuckycruises.com
X-WR-CALDESC:Events for Kentucky Cruises
REFRESH-INTERVAL;VALUE=DURATION:PT1H
X-Robots-Tag:noindex
X-PUBLISHED-TTL:PT1H
BEGIN:VTIMEZONE
TZID:America/Kentucky/Louisville
BEGIN:DAYLIGHT
TZOFFSETFROM:-0500
TZOFFSETTO:-0400
TZNAME:EDT
DTSTART:20220313T070000
END:DAYLIGHT
BEGIN:STANDARD
TZOFFSETFROM:-0400
TZOFFSETTO:-0500
TZNAME:EST
DTSTART:20221106T060000
END:STANDARD
BEGIN:DAYLIGHT
TZOFFSETFROM:-0500
TZOFFSETTO:-0400
TZNAME:EDT
DTSTART:20230312T070000
END:DAYLIGHT
BEGIN:STANDARD
TZOFFSETFROM:-0400
TZOFFSETTO:-0500
TZNAME:EST
DTSTART:20231105T060000
END:STANDARD
END:VTIMEZONE
BEGIN:VEVENT
DTSTART;TZID=America/Kentucky/Louisville:20230225T080000
DTEND;TZID=America/Kentucky/Louisville:20230225T170000
DTSTAMP:20260425T190547
CREATED:20230212T092915Z
LAST-MODIFIED:20230212T113719Z
UID:10010897-1677312000-1677344400@kentuckycruises.com
SUMMARY:Howdy's Hot Rods Swap Meet
DESCRIPTION:Howdy’s Hot Rods Swap Meet \nSaturday February 25\, 2023\n8 am – 5 pm \nLake Cumberland Flea Market\n95 Super Service Dr\, Somerset\, KY 42501 \nFree to spectators & vendors\nTables on sight and under roof! \n50/50 & live DJ 10 am – 3 pm \nContact Howdy (859) 285-5837
URL:https://kentuckycruises.com/event/lake-cumberland-flea-market-swap-meet-2/
LOCATION:Lake Cumberland Flea Market\, 95 Super Service Dr\,\, Somerset\, KY\, 42501\, United States
ATTACH;FMTTYPE=image/jpeg:https://kentuckycruises.com/wp-content/uploads/2023/02/Car-show-7.jpg
GEO:37.0285044;-84.6163919
X-APPLE-STRUCTURED-LOCATION;VALUE=URI;X-ADDRESS=Lake Cumberland Flea Market 95 Super Service Dr Somerset KY 42501 United States;X-APPLE-RADIUS=500;X-TITLE=95 Super Service Dr\,:geo:-84.6163919,37.0285044
END:VEVENT
BEGIN:VEVENT
DTSTART;TZID=America/Kentucky/Louisville:20220226T080000
DTEND;TZID=America/Kentucky/Louisville:20220226T170000
DTSTAMP:20260425T190547
CREATED:20220215T045217Z
LAST-MODIFIED:20220215T045217Z
UID:10010227-1645862400-1645894800@kentuckycruises.com
SUMMARY:Lake Cumberland flea market swap meet
DESCRIPTION:Automotive Swap meet at Lake Cumberland flea market Somerset Kentucky February 26 2022 call for more info 859-285-5837 Howdyshotrods . \nFree to spectators and vendors. \nThis swap meet is growing. \nIt is under a big shelter outside rain snow or shine we will be going on. \nhttps://www.facebook.com/events/327874109193745 \nhttps://www.facebook.com/charles.calder.35380
URL:https://kentuckycruises.com/event/lake-cumberland-flea-market-swap-meet/
LOCATION:Lake Cumberland Flea Market\, 95 Super Service Dr\,\, Somerset\, KY\, 42501\, United States
ATTACH;FMTTYPE=image/jpeg:https://kentuckycruises.com/wp-content/uploads/2022/02/272625346_459155572587574_416251695627293807_n.jpg
GEO:37.0285044;-84.6163919
X-APPLE-STRUCTURED-LOCATION;VALUE=URI;X-ADDRESS=Lake Cumberland Flea Market 95 Super Service Dr Somerset KY 42501 United States;X-APPLE-RADIUS=500;X-TITLE=95 Super Service Dr\,:geo:-84.6163919,37.0285044
END:VEVENT
END:VCALENDAR