BEGIN:VCALENDAR
VERSION:2.0
PRODID:-//Kentucky Cruises - ECPv6.6.3//NONSGML v1.0//EN
CALSCALE:GREGORIAN
METHOD:PUBLISH
X-ORIGINAL-URL:https://kentuckycruises.com
X-WR-CALDESC:Events for Kentucky Cruises
REFRESH-INTERVAL;VALUE=DURATION:PT1H
X-Robots-Tag:noindex
X-PUBLISHED-TTL:PT1H
BEGIN:VTIMEZONE
TZID:America/Kentucky/Louisville
BEGIN:DAYLIGHT
TZOFFSETFROM:-0500
TZOFFSETTO:-0400
TZNAME:EDT
DTSTART:20210314T070000
END:DAYLIGHT
BEGIN:STANDARD
TZOFFSETFROM:-0400
TZOFFSETTO:-0500
TZNAME:EST
DTSTART:20211107T060000
END:STANDARD
BEGIN:DAYLIGHT
TZOFFSETFROM:-0500
TZOFFSETTO:-0400
TZNAME:EDT
DTSTART:20220313T070000
END:DAYLIGHT
BEGIN:STANDARD
TZOFFSETFROM:-0400
TZOFFSETTO:-0500
TZNAME:EST
DTSTART:20221106T060000
END:STANDARD
BEGIN:DAYLIGHT
TZOFFSETFROM:-0500
TZOFFSETTO:-0400
TZNAME:EDT
DTSTART:20230312T070000
END:DAYLIGHT
BEGIN:STANDARD
TZOFFSETFROM:-0400
TZOFFSETTO:-0500
TZNAME:EST
DTSTART:20231105T060000
END:STANDARD
END:VTIMEZONE
BEGIN:VEVENT
DTSTART;TZID=America/Kentucky/Louisville:20230715T110000
DTEND;TZID=America/Kentucky/Louisville:20230715T150000
DTSTAMP:20260425T145736
CREATED:20230516T041349Z
LAST-MODIFIED:20230516T041349Z
UID:10011268-1689418800-1689433200@kentuckycruises.com
SUMMARY:Classic Car Show Takes Flight
DESCRIPTION:
URL:https://kentuckycruises.com/event/classic-car-show-takes-flight/
LOCATION:Mike Linnig’s\, 9308 Cane Run Rd\, Louisville\, KY\, 40258\, United States
ATTACH;FMTTYPE=image/jpeg:https://kentuckycruises.com/wp-content/uploads/2023/03/FB_IMG_1598835066103.jpg
GEO:38.1190947;-85.8972662
X-APPLE-STRUCTURED-LOCATION;VALUE=URI;X-ADDRESS=Mike Linnig’s 9308 Cane Run Rd Louisville KY 40258 United States;X-APPLE-RADIUS=500;X-TITLE=9308 Cane Run Rd:geo:-85.8972662,38.1190947
END:VEVENT
BEGIN:VEVENT
DTSTART;TZID=America/Kentucky/Louisville:20220709T110000
DTEND;TZID=America/Kentucky/Louisville:20220709T150000
DTSTAMP:20260425T145736
CREATED:20220214T045704Z
LAST-MODIFIED:20220516T061057Z
UID:10008166-1657364400-1657378800@kentuckycruises.com
SUMMARY:Honor Flight Bluegrass Classic Car Show
DESCRIPTION:Car Show lovers and Veteran supporters mark your calendars for Saturday July 9 at Mike Linnig’s Restaurant to support our first annual Honor Flight Bluegrass Classic Car Show! Get your shine on because our WWII\, Korean War\, and Vietnam Veterans will be our celebrity judges! \nYou can help by entering your car\, becoming a sponsor\, or just coming out and enjoying the day with our Veterans! 100% of the proceeds go to serving our WWII\, Korean War\, and Vietnam Veterans! \nEarly Bird Registration $20 Includes one car entry\, t-shirt\, dash plaque\, and a goodie bag! Deadline for registering is Saturday July 25th. \nRegistration Day $25 Includes one car entry and goodie bag! \nIf you are interested in registering your car or sponsoring the event\, please email honorflightbluegrass1944@gmail.com or call Stephanie at 502-888-5726. \nBring Your Shine and Bring Your Patriotism! \nhttps://www.facebook.com/honorflightbluegrass \nhttps://www.facebook.com/events/321963706684926 \nClick below to enlarge.
URL:https://kentuckycruises.com/event/honor-flight-bluegrass-classic-car-show-2/
LOCATION:Mike Linnig’s\, 9308 Cane Run Rd\, Louisville\, KY\, 40258\, United States
ATTACH;FMTTYPE=image/jpeg:https://kentuckycruises.com/wp-content/uploads/2021/06/HFB-xxClassic-Car-Show-Registration.jpg
GEO:38.1190947;-85.8972662
X-APPLE-STRUCTURED-LOCATION;VALUE=URI;X-ADDRESS=Mike Linnig’s 9308 Cane Run Rd Louisville KY 40258 United States;X-APPLE-RADIUS=500;X-TITLE=9308 Cane Run Rd:geo:-85.8972662,38.1190947
END:VEVENT
BEGIN:VEVENT
DTSTART;TZID=America/Kentucky/Louisville:20210717T110000
DTEND;TZID=America/Kentucky/Louisville:20210717T150000
DTSTAMP:20260425T145736
CREATED:20210613T160524Z
LAST-MODIFIED:20220214T045505Z
UID:10007882-1626519600-1626534000@kentuckycruises.com
SUMMARY:Honor Flight Bluegrass Classic Car Show
DESCRIPTION:Car Show lovers and Veteran supporters mark your calendars for Saturday July 17 at Mike Linnig’s Restaurant to support our first annual Honor Flight Bluegrass Classic Car Show! Get your shine on because our WWII\, Korean War\, and Vietnam Veterans will be our celebrity judges! \nYou can help by entering your car\, becoming a sponsor\, or just coming out and enjoying the day with our Veterans! 100% of the proceeds go to serving our WWII\, Korean War\, and Vietnam Veterans! \nEarly Bird Registration $20 Includes one car entry\, t-shirt\, dash plaque\, and a goodie bag! Deadline for registering was Saturday July 3rd. \nRegistration Day $25 Includes one car entry and goodie bag! \nIf you are interested in registering your car or sponsoring the event\, please email honorflightbluegrass1944@gmail.com or call Stephanie at 502-888-5726. \nBring Your Shine and Bring Your Patriotism! \nhttps://www.facebook.com/honorflightbluegrass \nClick below to enlarge.
URL:https://kentuckycruises.com/event/honor-flight-bluegrass-classic-car-show/
LOCATION:Mike Linnig’s\, 9308 Cane Run Rd\, Louisville\, KY\, 40258\, United States
ATTACH;FMTTYPE=image/jpeg:https://kentuckycruises.com/wp-content/uploads/2021/06/HFB-xxClassic-Car-Show-Registration.jpg
GEO:38.1190947;-85.8972662
X-APPLE-STRUCTURED-LOCATION;VALUE=URI;X-ADDRESS=Mike Linnig’s 9308 Cane Run Rd Louisville KY 40258 United States;X-APPLE-RADIUS=500;X-TITLE=9308 Cane Run Rd:geo:-85.8972662,38.1190947
END:VEVENT
END:VCALENDAR