BEGIN:VCALENDAR
VERSION:2.0
PRODID:-//Kentucky Cruises - ECPv6.6.3//NONSGML v1.0//EN
CALSCALE:GREGORIAN
METHOD:PUBLISH
X-ORIGINAL-URL:https://kentuckycruises.com
X-WR-CALDESC:Events for Kentucky Cruises
REFRESH-INTERVAL;VALUE=DURATION:PT1H
X-Robots-Tag:noindex
X-PUBLISHED-TTL:PT1H
BEGIN:VTIMEZONE
TZID:America/Kentucky/Louisville
BEGIN:DAYLIGHT
TZOFFSETFROM:-0500
TZOFFSETTO:-0400
TZNAME:EDT
DTSTART:20220313T070000
END:DAYLIGHT
BEGIN:STANDARD
TZOFFSETFROM:-0400
TZOFFSETTO:-0500
TZNAME:EST
DTSTART:20221106T060000
END:STANDARD
END:VTIMEZONE
BEGIN:VEVENT
DTSTART;TZID=America/Kentucky/Louisville:20220611T100000
DTEND;TZID=America/Kentucky/Louisville:20220611T140000
DTSTAMP:20260425T170252
CREATED:20220507T000031Z
LAST-MODIFIED:20220507T000031Z
UID:10010651-1654941600-1654956000@kentuckycruises.com
SUMMARY:Hadley Jo Foundation Cruise In
DESCRIPTION:
URL:https://kentuckycruises.com/event/hadley-jo-foundation-cruise-in/
LOCATION:Hillside Venue\, 115 Quarry Rd.\, Auburn\, KY\, 42206\, United States
ATTACH;FMTTYPE=image/jpeg:https://kentuckycruises.com/wp-content/uploads/2022/05/280025234_5178960415519059_6001188669881814998_n.jpg
GEO:36.8691721;-86.6956612
X-APPLE-STRUCTURED-LOCATION;VALUE=URI;X-ADDRESS=Hillside Venue 115 Quarry Rd. Auburn KY 42206 United States;X-APPLE-RADIUS=500;X-TITLE=115 Quarry Rd.:geo:-86.6956612,36.8691721
END:VEVENT
END:VCALENDAR