BEGIN:VCALENDAR
VERSION:2.0
PRODID:-//Kentucky Cruises - ECPv6.6.3//NONSGML v1.0//EN
CALSCALE:GREGORIAN
METHOD:PUBLISH
X-WR-CALNAME:Kentucky Cruises
X-ORIGINAL-URL:https://kentuckycruises.com
X-WR-CALDESC:Events for Kentucky Cruises
REFRESH-INTERVAL;VALUE=DURATION:PT1H
X-Robots-Tag:noindex
X-PUBLISHED-TTL:PT1H
BEGIN:VTIMEZONE
TZID:America/Kentucky/Louisville
BEGIN:DAYLIGHT
TZOFFSETFROM:-0500
TZOFFSETTO:-0400
TZNAME:EDT
DTSTART:20210314T070000
END:DAYLIGHT
BEGIN:STANDARD
TZOFFSETFROM:-0400
TZOFFSETTO:-0500
TZNAME:EST
DTSTART:20211107T060000
END:STANDARD
BEGIN:DAYLIGHT
TZOFFSETFROM:-0500
TZOFFSETTO:-0400
TZNAME:EDT
DTSTART:20220313T070000
END:DAYLIGHT
BEGIN:STANDARD
TZOFFSETFROM:-0400
TZOFFSETTO:-0500
TZNAME:EST
DTSTART:20221106T060000
END:STANDARD
BEGIN:DAYLIGHT
TZOFFSETFROM:-0500
TZOFFSETTO:-0400
TZNAME:EDT
DTSTART:20230312T070000
END:DAYLIGHT
BEGIN:STANDARD
TZOFFSETFROM:-0400
TZOFFSETTO:-0500
TZNAME:EST
DTSTART:20231105T060000
END:STANDARD
END:VTIMEZONE
BEGIN:VEVENT
DTSTART;TZID=America/Kentucky/Louisville:20230521T130000
DTEND;TZID=America/Kentucky/Louisville:20230521T170000
DTSTAMP:20260419T144826
CREATED:20230516T061420Z
LAST-MODIFIED:20230516T061454Z
UID:10011317-1684674000-1684688400@kentuckycruises.com
SUMMARY:Janet Gentry Car Show
DESCRIPTION:
URL:https://kentuckycruises.com/event/janet-gentry-car-show/
LOCATION:Bypass Rental Center & Hardware\, 845 Bypass Rd\, Winchester\, KY\, 40391\, United States
ATTACH;FMTTYPE=image/jpeg:https://kentuckycruises.com/wp-content/uploads/2023/05/346812899_637847127734423_7606578089213129399_n.jpg
GEO:38.0028532;-84.2133352
X-APPLE-STRUCTURED-LOCATION;VALUE=URI;X-ADDRESS=Bypass Rental Center & Hardware 845 Bypass Rd Winchester KY 40391 United States;X-APPLE-RADIUS=500;X-TITLE=845 Bypass Rd:geo:-84.2133352,38.0028532
END:VEVENT
BEGIN:VEVENT
DTSTART;TZID=America/Kentucky/Louisville:20210829T130000
DTEND;TZID=America/Kentucky/Louisville:20210829T170000
DTSTAMP:20260419T144826
CREATED:20210805T155313Z
LAST-MODIFIED:20210825T194623Z
UID:10009933-1630242000-1630256400@kentuckycruises.com
SUMMARY:Classic Car Show
DESCRIPTION:Cruizin for a Cause is a group of Winchester auto enthusiasts who have come together to promote local car shows in support of various local charities. \nCome out and help us support the toys for tots program in Mt. Sterling Ky \nSee our Facebook event page https://www.facebook.com/events/2618019158500785/ \nClick below to enlarge for details.
URL:https://kentuckycruises.com/event/7914/
LOCATION:Advance Auto Mt. Sterling\, 696 Maysville Rd\, Mt Sterling\, KY\, 40353\, United States
ATTACH;FMTTYPE=image/jpeg:https://kentuckycruises.com/wp-content/uploads/2021/05/71278866_391565371540114_4941703179373903872_n.jpg
GEO:38.0731695;-83.9501555
X-APPLE-STRUCTURED-LOCATION;VALUE=URI;X-ADDRESS=Advance Auto Mt. Sterling 696 Maysville Rd Mt Sterling KY 40353 United States;X-APPLE-RADIUS=500;X-TITLE=696 Maysville Rd:geo:-83.9501555,38.0731695
END:VEVENT
END:VCALENDAR