BEGIN:VCALENDAR
VERSION:2.0
PRODID:-//Kentucky Cruises - ECPv6.6.3//NONSGML v1.0//EN
CALSCALE:GREGORIAN
METHOD:PUBLISH
X-ORIGINAL-URL:https://kentuckycruises.com
X-WR-CALDESC:Events for Kentucky Cruises
REFRESH-INTERVAL;VALUE=DURATION:PT1H
X-Robots-Tag:noindex
X-PUBLISHED-TTL:PT1H
BEGIN:VTIMEZONE
TZID:America/Kentucky/Louisville
BEGIN:DAYLIGHT
TZOFFSETFROM:-0500
TZOFFSETTO:-0400
TZNAME:EDT
DTSTART:20210314T070000
END:DAYLIGHT
BEGIN:STANDARD
TZOFFSETFROM:-0400
TZOFFSETTO:-0500
TZNAME:EST
DTSTART:20211107T060000
END:STANDARD
END:VTIMEZONE
BEGIN:VEVENT
DTSTART;TZID=America/Kentucky/Louisville:20210806T180000
DTEND;TZID=America/Kentucky/Louisville:20210808T000000
DTSTAMP:20260421T061854
CREATED:20210505T190928Z
LAST-MODIFIED:20210505T191926Z
UID:10009676-1628272800-1628380800@kentuckycruises.com
SUMMARY:Street Car Takeover Bowling Green KY
DESCRIPTION:Street Car Takeover Bowling Green is coming August 6-7th 2021 mark your calendars! Night meet\, roll racing and prepped drag racing. Over $15\,000 in cash payouts!!!! \nFull Schedule!!! \nFriday August 6th 2020 Open Testing/NO PREP Race1/4 and 1/8th at Beech Bend Raceway\nGates open at 4:00pm for racers and 6:00pm for spectators \n-$80 for weekend tech card or $50 for single day (Racers)\n-$20 to spectate $35 for weekend pass (Sat-Sun)\n-Kids 12 and under FREE\n-Open test n tune for all racers.\n-Tech open for Saturday racers \nNO PREP RULES:\n-Chip drawing\, no qualifying\n-No time on boards\n-1/8th mile\n-No Prep\n-Water burnout only\n-Instant green\n-Split time slips\n-No testing before eliminations\n-Open grudge between rounds\n-PRE-REGISTER FOR NO PREP CLASSES via www.thefoat.com\nQuestions: streetcartakeover@gmail.com \nNO PREP DRIVERS MEETING & SCHEDULE\n-7:00pm at the starting line\n-1st round Eliminations 7:30pm\n-Open Grudge between rounds \nCLASSES:\n-Small Tire 16 car field 275 radials or 28Ã—10.5 no W’s\, no tube chassis or fiberglass/carbon fiber aftermarket bodies $100 buy in $3k payout winner and $200 runner up (min 16 cars) \n-Street racer 16 car field Must be on dot stamped rear tires\, tags\, lights\, completed interior\, no tube chassis or aftermarket fiberglass or carbon fiber bodies $100 buy in $2k payout and $100 runner up (min 16 cars) \n-Hard Tire\, no Drag radials allowed\, street cars only\, $50 entry\,\n$1\,250 guaranteed payout.\n-Open Grudge/test n tune between rounds \nSaturday August 8th: DRAG RACING\, ROLL RACING CAR SHOW & DRIFTING\n-Beech Bend\n-Gates open at 9am for racers and 11am for spectators\n-$20 single day spectator pass kids 12/under FREE\n-$50 for tech card/test n tune\, classes are extra\n-$50 drifting tech card\n-Show N Shine $30 Includes single day admission ticket\n-Roll Racing 12:00pm-3:30pm\n-Show N Shine 11am-5pm\n-Drifting 12-6pm\n-Drag Racing 4:00pm-10:00pm\n-Burnout contest 3:30pm \nRACERS:\n-Drivers meeting for DRAG RACERS 4:00pm SHARP at SCT TRAILER\n-Drag classes:\n*Small tire\n*Street Racer (requires cruise)\n*Street Outlaw\n*Monster Clutches Stick Shift class\n*HP Tuners Street Racer Mild\n*ADD Performance Heavyweight Class\n*Truck/SUV\n*Extreme Street 10.00 INDEX\n*Daily Driver Extreme 11.00 INDEX\n*Daily Driver Mild 12.00 INDEX \nROLL RACERS\n-Drivers meeting for ROLL RACERS 12:00pm at STARTING LINE\n-Roll classes:\n*Test n Tune\n*Daily Street Class 130mph cap\n*Mild Street Class 140mph cap\n*Modified Street Class 150mph cap\n*King of The Bakery (unlimited street) \nDRIFTERS\n-$75 for drift tech card. Includes driver. \nVIP Parking:\n11am-5:00pm\n-$30 per car includes driver. \n  \nCheck our Facebook Event page for updates.  www.facebook.com/events/176326934349695 \n 
URL:https://kentuckycruises.com/event/street-car-takeover-bowling-green-ky/
LOCATION:Beech Bend Raceway Park\, 798 Beech Bend Park Rd\, Bowling Green\, KY\, 42101\, United States
ATTACH;FMTTYPE=image/jpeg:https://kentuckycruises.com/wp-content/uploads/2021/05/178738356_306133767544199_4551313485451565297_n.jpg
GEO:37.0219495;-86.4015456
X-APPLE-STRUCTURED-LOCATION;VALUE=URI;X-ADDRESS=Beech Bend Raceway Park 798 Beech Bend Park Rd Bowling Green KY 42101 United States;X-APPLE-RADIUS=500;X-TITLE=798 Beech Bend Park Rd:geo:-86.4015456,37.0219495
END:VEVENT
END:VCALENDAR