BEGIN:VCALENDAR
VERSION:2.0
PRODID:-//Kentucky Cruises - ECPv6.6.3//NONSGML v1.0//EN
CALSCALE:GREGORIAN
METHOD:PUBLISH
X-WR-CALNAME:Kentucky Cruises
X-ORIGINAL-URL:https://kentuckycruises.com
X-WR-CALDESC:Events for Kentucky Cruises
REFRESH-INTERVAL;VALUE=DURATION:PT1H
X-Robots-Tag:noindex
X-PUBLISHED-TTL:PT1H
BEGIN:VTIMEZONE
TZID:America/Kentucky/Louisville
BEGIN:DAYLIGHT
TZOFFSETFROM:-0500
TZOFFSETTO:-0400
TZNAME:EDT
DTSTART:20210314T070000
END:DAYLIGHT
BEGIN:STANDARD
TZOFFSETFROM:-0400
TZOFFSETTO:-0500
TZNAME:EST
DTSTART:20211107T060000
END:STANDARD
BEGIN:DAYLIGHT
TZOFFSETFROM:-0500
TZOFFSETTO:-0400
TZNAME:EDT
DTSTART:20220313T070000
END:DAYLIGHT
BEGIN:STANDARD
TZOFFSETFROM:-0400
TZOFFSETTO:-0500
TZNAME:EST
DTSTART:20221106T060000
END:STANDARD
BEGIN:DAYLIGHT
TZOFFSETFROM:-0500
TZOFFSETTO:-0400
TZNAME:EDT
DTSTART:20230312T070000
END:DAYLIGHT
BEGIN:STANDARD
TZOFFSETFROM:-0400
TZOFFSETTO:-0500
TZNAME:EST
DTSTART:20231105T060000
END:STANDARD
BEGIN:DAYLIGHT
TZOFFSETFROM:-0500
TZOFFSETTO:-0400
TZNAME:EDT
DTSTART:20240310T070000
END:DAYLIGHT
BEGIN:STANDARD
TZOFFSETFROM:-0400
TZOFFSETTO:-0500
TZNAME:EST
DTSTART:20241103T060000
END:STANDARD
END:VTIMEZONE
BEGIN:VEVENT
DTSTART;TZID=America/Kentucky/Louisville:20240921T010000
DTEND;TZID=America/Kentucky/Louisville:20240921T150000
DTSTAMP:20260423T080222
CREATED:20240629T155419Z
LAST-MODIFIED:20240629T155439Z
UID:10011961-1726880400-1726930800@kentuckycruises.com
SUMMARY:AMVETS Post 61 Patriot Car\, Truck and Bike Show
DESCRIPTION:This is AMVETS Post #61 17th Annual Patriot Car\, Truck and \nBike Show. During this event\, we have created a memorial service \nFor those who have passed away. Amongst these activities we also will conduct a Silent and Live Auction. We are Bringing Awareness to Veteran Suicide Prevention. Please help us help others. \n  \n  \n  \n 
URL:https://kentuckycruises.com/event/amvets-post-61-patriot-car-truck-and-bike-show/
LOCATION:Amvets Post 61\, 9405 Smyrna Pkwy\, Louisville\, KY\, 40229\, United States
ATTACH;FMTTYPE=image/jpeg:https://kentuckycruises.com/wp-content/uploads/2023/04/50607633333_304a78f38f_o.jpg
GEO:38.1119854;-85.6446573
X-APPLE-STRUCTURED-LOCATION;VALUE=URI;X-ADDRESS=Amvets Post 61 9405 Smyrna Pkwy Louisville KY 40229 United States;X-APPLE-RADIUS=500;X-TITLE=9405 Smyrna Pkwy:geo:-85.6446573,38.1119854
END:VEVENT
BEGIN:VEVENT
DTSTART;VALUE=DATE:20240921
DTEND;VALUE=DATE:20240922
DTSTAMP:20260423T080222
CREATED:20240520T004642Z
LAST-MODIFIED:20240520T004642Z
UID:10011955-1726876800-1726963199@kentuckycruises.com
SUMMARY:AMVETS Post #61 17th Annual Car\, Truck and Bike Show
DESCRIPTION:Bringing Awareness to Veteran Suicide Prevention \nwith A Silent and Live Auction
URL:https://kentuckycruises.com/event/amvets-post-61-17th-annual-car-truck-and-bike-show/
LOCATION:9405 Smyrna Parkway Louisville\, KY 40229\, AMVETS Post 61\, Louisville\, KY\, 40229\, United States
ATTACH;FMTTYPE=image/jpeg:https://kentuckycruises.com/wp-content/uploads/2024/05/IMG_7026.jpeg
GEO:38.1117425;-85.6447011
X-APPLE-STRUCTURED-LOCATION;VALUE=URI;X-ADDRESS=9405 Smyrna Parkway Louisville KY 40229 AMVETS Post 61 Louisville KY 40229 United States;X-APPLE-RADIUS=500;X-TITLE=AMVETS Post 61:geo:-85.6447011,38.1117425
END:VEVENT
BEGIN:VEVENT
DTSTART;TZID=America/Kentucky/Louisville:20230924T100000
DTEND;TZID=America/Kentucky/Louisville:20230924T150000
DTSTAMP:20260423T080222
CREATED:20230314T225245Z
LAST-MODIFIED:20230423T082617Z
UID:10008758-1695549600-1695567600@kentuckycruises.com
SUMMARY:AMVETS Post 61 16th Annual Patriot Car\, Truck and Bike Show
DESCRIPTION:Car\, Truck and Bike Show Early Registration $20.00\, $25.00 day of show \namvets61ky@gmail.comZ \n \n \n 
URL:https://kentuckycruises.com/event/amvets-post-61-16th-annual-patriot-car-truck-and-bike-show/
LOCATION:9405 Smyrna Parkway Louisville\, KY 40229\, AMVETS Post 61\, Louisville\, KY\, 40229\, United States
ATTACH;FMTTYPE=image/jpeg:https://kentuckycruises.com/wp-content/uploads/2023/03/Car-show-1.jpg
GEO:38.1117425;-85.6447011
X-APPLE-STRUCTURED-LOCATION;VALUE=URI;X-ADDRESS=9405 Smyrna Parkway Louisville KY 40229 AMVETS Post 61 Louisville KY 40229 United States;X-APPLE-RADIUS=500;X-TITLE=AMVETS Post 61:geo:-85.6447011,38.1117425
END:VEVENT
BEGIN:VEVENT
DTSTART;TZID=America/Kentucky/Louisville:20220924T100000
DTEND;TZID=America/Kentucky/Louisville:20220924T160000
DTSTAMP:20260423T080222
CREATED:20220317T060511Z
LAST-MODIFIED:20220317T060746Z
UID:10010393-1664013600-1664035200@kentuckycruises.com
SUMMARY:AMVETS 15th Annual Patriot Car\, Truck\, and Bike Show
DESCRIPTION:We are expecting 250+vehicles. Live Music by Most Wanted\, food\, vendors\, Silent and Live Auction\, and other activities. \nhttps://www.facebook.com/amvets61KY/
URL:https://kentuckycruises.com/event/amvets-15th-annual-patriot-car-truck-and-bike-show/
LOCATION:Amvets Post 61\, 9405 Smyrna Pkwy\, Louisville\, KY\, 40229\, United States
ATTACH;FMTTYPE=image/jpeg:https://kentuckycruises.com/wp-content/uploads/2022/03/3127B74B-0578-442E-B937-07199F26AD74-scaled.jpeg
GEO:38.1119854;-85.6446573
X-APPLE-STRUCTURED-LOCATION;VALUE=URI;X-ADDRESS=Amvets Post 61 9405 Smyrna Pkwy Louisville KY 40229 United States;X-APPLE-RADIUS=500;X-TITLE=9405 Smyrna Pkwy:geo:-85.6446573,38.1119854
END:VEVENT
BEGIN:VEVENT
DTSTART;TZID=America/Kentucky/Louisville:20210821T100000
DTEND;TZID=America/Kentucky/Louisville:20210821T150000
DTSTAMP:20260423T080222
CREATED:20210614T171649Z
LAST-MODIFIED:20210618T145815Z
UID:10007885-1629540000-1629558000@kentuckycruises.com
SUMMARY:AMVETS Patriot Car Truck & Bike Show
DESCRIPTION:13th Annual \nAugust 21st\n10AM – 3PM \nRain Date September 11th \nRegistration $20 \nVendor Fee $25 \nContact Karen Hasting or email amvets61ky@gmail.com \nSee our Facebook page  www.facebook.com/amvets61KY \nSee our Facebook event page www.facebook.com/events/325242842526260 \nAMVETS Post #61\n9405 Smyrna Pkwy.\nLouisville\, KY 40229\n502-968-2161 \nClick below to enlarge for details.
URL:https://kentuckycruises.com/event/amvets-patriot-car-truck-bike-show-2/
LOCATION:Okolona Christian Church\, 10801 Faithful Way\, Louisville\, KY\, 40229\, United States
ATTACH;FMTTYPE=image/jpeg:https://kentuckycruises.com/wp-content/uploads/2021/06/195321613_4543602489000996_1359948409038415344_n.jpg
GEO:38.0946636;-85.6673553
X-APPLE-STRUCTURED-LOCATION;VALUE=URI;X-ADDRESS=Okolona Christian Church 10801 Faithful Way Louisville KY 40229 United States;X-APPLE-RADIUS=500;X-TITLE=10801 Faithful Way:geo:-85.6673553,38.0946636
END:VEVENT
END:VCALENDAR